Workbook

Sheet dose
C1: Colony Count | D1: Dilution Factor | E1: CFUs/50uL | F1: Average CFUs | G1: Log CFUs | H1: Ratio (mut/WT) | I1: %tagged/total | J1: OD reached
A3: (LB plates) | B3: BL048 WT + BL048hygR 1:1 | C3: 68 | D3: 1000 | E3: =C3*5*D3 -> 340000 | F3: =AVERAGE(E3:E6) -> 358750 | G3: =LOG10(F3) -> 5.5547919 | H3: =(F7/(F3-F7)) -> 0.7826087 | I3: =F7/F3 -> 0.43902439 | J3: BL048 WT = 0.344
C4: 66 | D4: 1000 | E4: =C4*5*D4 -> 330000
C5: 74 | D5: 1000 | E5: =C5*5*D5 -> 370000 | K5: --> | L5: 44% of input is HygR
C6: 79 | D6: 1000 | E6: =C6*5*D6 -> 395000 | L6: 56% of input is HygS
A7: (LB hyg500 plates) | B7: BL048 hygR 1:1 | C7: 25 | D7: 1000 | E7: =C7*5*D7 -> 125000 | F7: =AVERAGE(E7:E10) -> 157500 | G7: =LOG10(F7) -> 5.1972806 | J7: BL048 hygR = 0.345
C8: 40 | D8: 1000 | E8: =C8*5*D8 -> 200000
C9: 31 | D9: 1000 | E9: =C9*5*D9 -> 155000
C10: 30 | D10: 1000 | E10: =C10*5*D10 -> 150000
A11: (VBM plates) | B11: BL048 WT + BL048hygR 1:1 | C11: 65 | D11: 1000 | E11: =C11*5*D11 -> 325000 | F11: =AVERAGE(E11:E14) -> 335000 | G11: =LOG10(F11) -> 5.5250448 | H11: =F15/(F11-F15) -> 1.4144144 | I11: =F15/F11 -> 0.5858209 | J11: BL048 WT = 0.344
C12: 64 | D12: 1000 | E12: =C12*5*D12 -> 320000 | K12: --> | L12: 59% of input is HygR
C13: 62 | D13: 1000 | E13: =C13*5*D13 -> 310000 | L13: 41% of input is HygS
C14: 77 | D14: 1000 | E14: =C14*5*D14 -> 385000
A15: (VBM hyg500 plates) | B15: BL048 hygR 1:1 | C15: 35 | D15: 1000 | E15: =C15*5*D15 -> 175000 | F15: =AVERAGE(E15:E18) -> 196250 | G15: =LOG10(F15) -> 5.2928097 | J15: BL048 hygR = 0.345
C16: 47 | D16: 1000 | E16: =C16*5*D16 -> 235000
C17: 27 | D17: 1000 | E17: =C17*5*D17 -> 135000
C18: 48 | D18: 1000 | E18: =C18*5*D18 -> 240000
A20: (LB plates) | B20: BL012 WT + BL012GentR 1:1 | C20: 8 | D20: 10000 | E20: =C20*5*D20 -> 400000 | F20: =AVERAGE(E20:E23) -> 700000 | G20: =LOG10(F20) -> 5.845098 | H20: =F24/(F20-F24) -> 0.6969697 | I20: =F24/F20 -> 0.41071429 | J20: BL012 WT = 0.323
C21: 18 | D21: 10000 | E21: =C21*5*D21 -> 900000
C22: 15 | D22: 10000 | E22: =C22*5*D22 -> 750000 | K22: --> | L22: 41% of input is GentR
C23: 15 | D23: 10000 | E23: =C23*5*D23 -> 750000 | L23: 59% of input is GentS
A24: (LB gent10 plates) | B24: BL012 GentR 1:1 | C24: 8 | D24: 10000 | E24: =C24*5*D24 -> 400000 | F24: =AVERAGE(E24:E27) -> 287500 | G24: =LOG10(F24) -> 5.4586378 | J24: BL012 GentR = 0.326
C25: 8 | D25: 10000 | E25: =C25*5*D25 -> 400000
C26: 4 | D26: 10000 | E26: =C26*5*D26 -> 200000
C27: 3 | D27: 10000 | E27: =C27*5*D27 -> 150000
A28: (VBM plates) | B28: BL012 WT + BL012GentR 1:1 | C28: 112 | D28: 1000 | E28: =C28*5*D28 -> 560000 | F28: =AVERAGE(E28:E31) -> 581250 | G28: =LOG10(F28) -> 5.764363 | H28: =F32/(F28-F32) -> 1.4093264 | I28: =F32/F28 -> 0.58494624 | J28: BL012 WT = 0.323
C29: 126 | D29: 1000 | E29: =C29*5*D29 -> 630000 | K29: --> | L29: 59% of input is GentR
C30: 112 | D30: 1000 | E30: =C30*5*D30 -> 560000 | L30: 41% of input is GentS
C31: 115 | D31: 1000 | E31: =C31*5*D31 -> 575000
A32: (VBM gent10 plates) | B32: BL012 GentR 1:1 | C32: 57 | D32: 1000 | E32: =C32*5*D32 -> 285000 | F32: =AVERAGE(E32:E35) -> 340000 | G32: =LOG10(F32) -> 5.5314789 | J32: BL012 GentR = 0.326
C33: 69 | D33: 1000 | E33: =C33*5*D33 -> 345000
C34: 82 | D34: 1000 | E34: =C34*5*D34 -> 410000 | N34: =F28-F32 -> 241250 | O34: =F32/N34 -> 1.4093264
C35: 64 | D35: 1000 | E35: =C35*5*D35 -> 320000
A37: (LB Xgal100 plates - white and blue colonies) | B37: BL012 WT + BL012LacZ 1:1 | C37: =3+3 -> 6 | D37: 10000 | E37: =C37*5*D37 -> 300000 | F37: =AVERAGE(E37:E41) -> 480000 | G37: =LOG10(F37) -> 5.6812412 | H37: =F42/(F37-F42) -> 1.0869565 | I37: =F42/F37 -> 0.52083333 | J37: BL012 WT = 0.323
C38: =4+5 -> 9 | D38: 10000 | E38: =C38*5*D38 -> 450000
C39: =4+5 -> 9 | D39: 10000 | E39: =C39*5*D39 -> 450000
C40: =4+6 -> 10 | D40: 10000 | E40: =C40*5*D40 -> 500000 | K40: --> | L40: 52% of input is LacZ
C41: =9+5 -> 14 | D41: 10000 | E41: =C41*5*D41 -> 700000 | L41: 59% of input is WT
A42: (LB Xgal100 plates - blue colonies) | B42: BL012 LACZ 1:1 | C42: 3 | D42: 10000 | E42: =C42*5*D42 -> 150000 | F42: =AVERAGE(E42:E46) -> 250000 | G42: =LOG10(F42) -> 5.39794 | J42: BL012 LacZ = 0.322
C43: 5 | D43: 10000 | E43: =C43*5*D43 -> 250000
...

Sheet feces
A1: BL048 hygR:BL048 total 59% mouse 1 | B1: total number of CFU - VBM plates | D1: mean in 10 µL | E1: Dilution factor | F1: feces weights (mg) | G1: Total log10 CFU/g of feces | H1: BL048 hygR number of CFU - VBM hyg500 plates | J1: mean in 10 µL | K1: Dilution factor | L1: log10 Bl048hygR CFU/g of feces | M1: % hygR / Total | N1: Output ratio HygR/WT | O1: Input ratio HygR/WT | P1: Competitive index | R1: total number of CFU - LBirg5 plates | T1: mean in 10 µL | U1: Dilution factor | V1: Total log10 CFU/g of feces | W1: BL048 hygR number of CFU - LBirg5hyg500 plates | Y1: mean in 10 µL | Z1: Dilution factor | AA1: Log10 HygR CFU/g of feces | AC1: BL048 hygR number of CFU - LBhyg500 plates | AE1: mean in 10 µL | AF1: Dilution factor | AG1: Log10 HygR CFU/g of feces
A2: day 3 | B2: 113 | C2: 83 | D2: =AVERAGE(B2:C2) -> 98 | E2: 1000 | F2: =1780.1-1713.7 -> 66.4 | G2: =LOG10(D2*100*E2/F2*1000) -> 8.169058 | H2: 75 | I2: 65 | J2: =AVERAGE(H2:I2) -> 70 | K2: 1000 | L2: =LOG10(K2*100*J2/F2*1000) -> 8.02293 | M2: =(J2*K2)/(D2*E2) -> 0.71428571 | N2: =J2*K2/(D2*E2-(J2*K2)) -> 2.5 | O2: =dose!$H$11 -> 1.4144144 | P2: =N2/O2 -> 1.7675159 | R2: 72 | S2: 61 | T2: =AVERAGE(R2:S2) -> 66.5 | U2: 1000 | V2: =LOG10(U2*100*T2/F2*1000) -> 8.0006536 | W2: 51 | X2: 47 | Y2: =AVERAGE(W2:X2) -> 49 | Z2: 1000 | AA2: =LOG10(Y2*Z2*100/F2*1000) -> 7.868028
A3: day 5 | B3: 26 | C3: 27 | D3: =AVERAGE(B3:C3) -> 26.5 | E3: 10000 | F3: =1694.5-1628.4 -> 66.1 | G3: =LOG10(D3*100*E3/F3*1000) -> 8.6030444 | H3: 24 | I3: 16 | J3: =AVERAGE(H3:I3) -> 20 | K3: 10000 | L3: =LOG10(K3*100*J3/F3*1000) -> 8.4808285 | M3: =(J3*K3)/(D3*E3) -> 0.75471698 | N3: =J3*K3/(D3*E3-(J3*K3)) -> 3.0769231 | O3: =dose!$H$11 -> 1.4144144 | P3: =N3/O3 -> 2.1754042 | R3: 144 | S3: 148 | T3: =AVERAGE(R3:S3) -> 146 | U3: 1000 | V3: =LOG10(U3*100*T3/F3*1000) -> 8.3441514 | W3: 100 | X3: 95 | Y3: =AVERAGE(W3:X3) -> 97.5 | Z3: 1000 | AA3: =LOG10(Y3*Z3*100/F3*1000) -> 8.1688032
A4: day 7 | B4: 19 | C4: 16 | D4: =AVERAGE(B4:C4) -> 17.5 | E4: 10000 | F4: =1850.9-1763.2 -> 87.7 | G4: =LOG10(D4*100*E4/F4*1000) -> 8.3000385 | H4: 13 | I4: 16 | J4: =AVERAGE(H4:I4) -> 14.5 | K4: 10000 | L4: =LOG10(K4*100*J4/F4*1000) -> 8.2183684 | M4: =(J4*K4)/(D4*E4) -> 0.82857143 | N4: =J4*K4/(D4*E4-(J4*K4)) -> 4.8333333 | O4: =dose!$H$11 -> 1.4144144 | P4: =N4/O4 -> 3.4171975 | R4: 7 | S4: 6 | T4: =AVERAGE(R4:S4) -> 6.5 | U4: 10000 | V4: =LOG10(U4*100*T4/F4*1000) -> 7.8699138 | W4: 1 | X4: 3 | Y4: =AVERAGE(W4:X4) -> 2 | Z4: 10000 | AA4: =LOG10(Y4*Z4*100/F4*1000) -> 7.3580304
A5: day 10 | B5: 40 | C5: 38 | D5: =AVERAGE(B5:C5) -> 39 | E5: 100 | F5: =1765.9-1697.8 -> 68.1 | G5: =LOG10(D5*100*E5/F5*1000) -> 6.7579175 | H5: 21 | I5: 19 | J5: =AVERAGE(H5:I5) -> 20 | K5: 100 | L5: =LOG10(K5*100*J5/F5*1000) -> 6.4678829 | M5: =(J5*K5)/(D5*E5) -> 0.51282051 | N5: =J5*K5/(D5*E5-(J5*K5)) -> 1.0526316 | O5: =dose!$H$11 -> 1.4144144 | P5: =N5/O5 -> 0.74421723 | R5: 30 | S5: 44 | T5: =AVERAGE(R5:S5) -> 37 | U5: 100 | V5: =LOG10(U5*100*T5/F5*1000) -> 6.7350546 | W5: 17 | X5: 13 | Y5: =AVERAGE(W5:X5) -> 15 | Z5: 100 | AA5: =LOG10(Y5*Z5*100/F5*1000) -> 6.3429441 | AC5: 20 | AD5: 21 | AE5: =AVERAGE(AC5:AD5) -> 20.5 | AF5: 100 | AG5: =LOG10(AE5*AF5*100/F5*1000) -> 6.4786067
A6: day 14 | B6: 7 | C6: 5 | D6: =AVERAGE(B6:C6) -> 6 | E6: 1 | F6: =1908.4-1828.2 -> 80.2 | G6: =LOG10(D6*100*E6/F6*1000) -> 3.8739769 | H6: 2 | I6: 2 | J6: =AVERAGE(H6:I6) -> 2 | K6: 1 | L6: =LOG10(K6*100*J6/F6*1000) -> 3.3968556 | M6: =(J6*K6)/(D6*E6) -> 0.33333333 | N6: =J6*K6/(D6*E6-(J6*K6)) -> 0.5 | O6: =dose!$H$11 -> 1.4144144 | P6: =N6/O6 -> 0.35350318 | R6: 1 | S6: 2 | T6: =AVERAGE(R6:S6) -> 1.5 | U6: 1 | V6: =LOG10(U6*100*T6/F6*1000) -> 3.2719169 | W6: 1 | X6: 1 | Y6: =AVERAGE(W6:X6) -> 1 | Z6: 1 | AA6: =LOG10(Y6*Z6*100/F6*1000) -> 3.0958256 | AC6: 6 | AD6: 1 | AE6: =AVERAGE(AC6:AD6) -> 3.5 | AF6: 1 | AG6: =LOG10(AE6*AF6*100/F6*1000) -> 3.6398937
A8: BL048 hygR:BL048 total 59% mouse 2 | B8: total number of CFU - VBM plates | D8: mean in 10 µL | E8: Dilution factor | F8: feces weights (mg) | G8: Total log10 CFU/g of feces | H8: BL048 hygR number of CFU - VBM hyg500 plates | J8: mean in 10 µL | K8: Dilution factor | L8: log10 Bl048hygR CFU/g of feces | M8: % hygR / Total | N8: Output ratio HygR/WT | O8: Input ratio HygR/WT | P8: Competitive index | R8: total number of CFU - LBirg5 plates | T8: mean in 10 µL | U8: Dilution factor | V8: Total log10 CFU/g of feces | W8: BL048 hygR number of CFU - LBirg5hyg500 plates | Y8: mean in 10 µL | Z8: Dilution factor | AA8: Log10 HygR CFU/g of feces | AC8: BL048 hygR number of CFU - LBhyg500 plates | AE8: mean in 10 µL | AF8: Dilution factor | AG8: Log10 HygR CFU/g of feces
A9: day 3 | B9: 0 | C9: 2 | D9: =AVERAGE(B9:C9) -> 1 | E9: 1 | F9: =1715.7-1697.3 -> 18.4 | G9: =LOG10(D9*100*E9/F9*1000) -> 3.7351822 | H9: 0 | I9: 0 | J9: =AVERAGE(H9:I9) -> 0 | K9: 1 | L9: =LOG10(K9*100*J9/F9*1000) -> #NUM! | M9: =(J9*K9)/(D9*E9) -> 0 | N9: =J9*K9/(D9*E9-(J9*K9)) -> 0 | O9: =dose!$H$11 -> 1.4144144 | P9: / | R9: 1 | S9: 1 | T9: =AVERAGE(R9:S9) -> 1 | U9: 1 | V9: =LOG10(U9*100*T9/F9*1000) -> 3.7351822 | W9: 0 | X9: 0 | Y9: =AVERAGE(W9:X9) -> 0 | Z9: 1 | AA9: =LOG10(Y9*Z9*100/F9*1000) -> #NUM!
A10: day 5 | B10: 38 | C10: 38 | D10: =AVERAGE(B10:C10) -> 38 | E10: 10 | F10: =1728.4-1701.2 -> 27.2 | G10: =LOG10(D10*100*E10/F10*1000) -> 6.1452147 | H10: 41 | I10: 38 | J10: =AVERAGE(H10:I10) -> 39.5 | K10: 10 | L10: =LOG10(K10*100*J10/F10*1000) -> 6.1620282 | M10: =(J10*K10)/(D10*E10) -> 1.0394737 | N10: =J10*K10/(D10*E10-(J10*K10)) -> -26.333333 | O10: =dose!$H$11 -> 1.4144144 | P10: =N10/O10 -> -18.617834 | R10: 49 | S10: 43 | T10: =AVERAGE(R10:S10) -> 46 | U10: 10 | V10: =LOG10(U10*100*T10/F10*1000) -> 6.2281889 | W10: 34 | X10: 43 | Y10: =AVERAGE(W10:X10) -> 38.5 | Z10: 10 | AA10: =LOG10(Y10*Z10*100/F10*1000) -> 6.1508918
A11: day 7 | B11: 60 | C11: 59 | D11: =AVERAGE(B11:C11) -> 59.5 | E11: 100 | F11: =1818.3-1776.2 -> 42.1 | G11: =LOG10(D11*100*E11/F11*1000) -> 7.1502349 | H11: 50 | I11: 53 | J11: =AVERAGE(H11:I11) -> 51.5 | K11: 100 | L11: =LOG10(K11*100*J11/F11*1000) -> 7.0875251 | M11: =(J11*K11)/(D11*E11) -> 0.86554622 | N11: =J11*K11/(D11*E11-(J11*K11)) -> 6.4375 | O11: =dose!$H$11 -> 1.4144144 | P11: =N11/O11 -> 4.5513535 | R11: 55 | S11: 65 | T11: =AVERAGE(R11:S11) -> 60 | U11: 100 | V11: =LOG10(U11*100*T11/F11*1000) -> 7.1538692 | W11: 45 | X11: 60 | Y11: =AVERAGE(W11:X11) -> 52.5 | Z11: 100 | AA11: =LOG10(Y11*Z11*100/F11*1000) -> 7.0958772
A12: day 10 | B12: 37 | C12: 30 | D12: =AVERAGE(B12:C12) -> 33.5 | E12: 100 | F12: =1787.8-1765.8 -> 22 | G12: =LOG10(D12*100*E12/F12*1000) -> 7.1826221 | H12: 28 | I12: 28 | J12: =AVERAGE(H12:I12) -> 28 | K12: 100 | L12: =LOG10(K12*100*J12/F12*1000) -> 7.1047354 | M12: =(J12*K12)/(D12*E12) -> 0.8358209 | N12: =J12*K12/(D12*E12-(J12*K12)) -> 5.0909091 | O12: =dose!$H$11 -> 1.4144144 | P12: =N12/O12 -> 3.5993052 | R12: 33 | S12: 27 | T12: =AVERAGE(R12:S12) -> 30 | U12: 100 | V12: =LOG10(U12*100*T12/F12*1000) -> 7.1346986 | W12: 19 | X12: 23 | Y12: =AVERAGE(W12:X12) -> 21 | Z12: 100 | AA12: =LOG10(Y12*Z12*100/F12*1000) -> 6.9797966 | AC12: 28 | AD12: 36 | AE12: =AVERAGE(AC12:AD12) -> 32 | AF12: 100 | AG12: =LOG10(AE12*AF12*100/F12*1000) -> 7.1627273
A13: day 14 | B13: 20 | C13: 22 | D13: =AVERAGE(B13:C13) -> 21 | E13: 100 | F13: =1915.9-1832.6 -> 83.3 | G13: =LOG10(D13*100*E13/F13*1000) -> 6.4015743 | H13: 13 | I13: 20 | J13: =AVERAGE(H13:I13) -> 16.5 | K13: 100 | L13: =LOG10(K13*100*J13/F13*1000) -> 6.2968389 | M13: =(J13*K13)/(D13*E13) -> 0.78571429 | N13: =J13*K13/(D13*E13-(J13*K13)) -> 3.6666667 | O13: =dose!$H$11 -> 1.4144144 | P13: =N13/O13 -> 2.5923567 | R13: 20 | S13: 20 | T13: =AVERAGE(R13:S13) -> 20 | U13: 100 | V13: =LOG10(U13*100*T13/F13*1000) -> 6.380385 | W13: 16 | X13: 8 | Y13: =AVERAGE(W13:X13) -> 12 | Z13: 100 | AA13: =LOG10(Y13*Z13*100/F13*1000) -> 6.1585362 | AC13: 8 | AD13: 10 | AE13: =AVERAGE(AC13:AD13) -> 9 | AF13: 100 | AG13: =LOG10(AE13*AF13*100/F13*1000) -> 6.0335975
A15: BL048 hygR:BL048 total 59% mouse 3 | B15: total number of CFU - VBM plates | D15: mean in 10 µL | E15: Dilution factor | F15: feces weights (mg) | G15: Total log10 CFU/g of feces | H15: BL048 hygR number of CFU - VBM hyg500 plates | J15: mean in 10 µL | K15: Dilution factor | L15: log10 Bl048hygR CFU/g of feces | M15: % hygR / Total | N15: Output ratio HygR/WT | O15: Input ratio HygR/WT | P15: Competitive index | R15: total number of CFU - LBirg5 plates | T15: mean in 10 µL | U15: Dilution factor | V15: Total log10 CFU/g of feces | W15: BL048 hygR number of CFU - LBirg5hyg500 plates | Y15: mean in 10 µL | Z15: Dilution factor | AA15: Log10 HygR CFU/g of feces | AC15: BL048 hygR number of CFU - LBhyg500 plates | AE15: mean in 10 µL | AF15: Dilution factor | AG15: Log10 HygR CFU/g of feces
A16: day 3 - didn’t poop | D16: =AVERAGE(B16:C16) -> #DIV/0! | G16: =LOG10(D16*100*E16/F16*1000) -> #DIV/0! | J16: =AVERAGE(H16:I16) -> #DIV/0! | L16: =LOG10(K16*100*J16/F16*1000) -> #DIV/0! | M16: =(J16*K16)/(D16*E16) -> #DIV/0! | N16: =J16*K16/(D16*E16-(J16*K16)) -> #DIV/0! | O16: =dose!$H$11 -> 1.4144144 | P16: / | T16: =AVERAGE(R16:S16) -> #DIV/0! | V16: =LOG10(U16*100*T16/F16*1000) -> #DIV/0! | Y16: =AVERAGE(W16:X16) -> #DIV/0! | AA16: =LOG10(Y16*Z16*100/F16*1000) -> #DIV/0!
A17: day 5 | B17: 0 | C17: 0 | D17: =AVERAGE(B17:C17) -> 0 | E17: 1 | F17: =1727.8-1700.6 -> 27.2 | G17: =LOG10(D17*100*E17/F17*1000) -> #NUM! | H17: 0 | I17: 0 | J17: =AVERAGE(H17:I17) -> 0 | K17: 1 | L17: =LOG10(K17*100*J17/F17*1000) -> #NUM! | M17: =(J17*K17)/(D17*E17) -> #DIV/0! | N17: =J17*K17/(D17*E17-(J17*K17)) -> #DIV/0! | O17: =dose!$H$11 -> 1.4144144 | P17: / | R17: 0 | S17: 0 | T17: =AVERAGE(R17:S17) -> 0 | U17: 1 | V17: =LOG10(U17*100*T17/F17*1000) -> #NUM! | W17: 0 | X17: 0 | Y17: =AVERAGE(W17:X17) -> 0 | Z17: 1 | AA17: =LOG10(Y17*Z17*100/F17*1000) -> #NUM!
A18: day 7 | B18: 28 | C18: 30 | D18: =AVERAGE(B18:C18) -> 29 | E18: 1 | F18: =1808.2-1765.3 -> 42.9 | G18: =LOG10(D18*100*E18/F18*1000) -> 4.8299407 | H18: 0 | I18: 3 | J18: =AVERAGE(H18:I18) -> 1.5 | K18: 1 | L18: =LOG10(K18*100*J18/F18*1000) -> 3.543634 | M18: =(J18*K18)/(D18*E18) -> 0.051724138 | N18: =J18*K18/(D18*E18-(J18*K18)) -> 0.054545455 | O18: =dose!$H$11 -> 1.4144144 | P18: =N18/O18 -> 0.038563984 | R18: 24 | S18: 22 | T18: =AVERAGE(R18:S18) -> 23 | U18: 1 | V18: =LOG10(U18*100*T18/F18*1000) -> 4.7292705 | W18: 0 | X18: 1 | Y18: =AVERAGE(W18:X18) -> 0.5 | Z18: 1 | AA18: =LOG10(Y18*Z18*100/F18*1000) -> 3.0665127
A19: day 10 | B19: 74 | C19: 74 | D19: =AVERAGE(B19:C19) -> 74 | E19: 10 | F19: =1800.9-1764.1 -> 36.8 | G19: =LOG10(D19*100*E19/F19*1000) -> 6.3033839 | H19: 6 | I19: 8 | J19: =AVERAGE(H19:I19) -> 7 | K19: 10 | L19: =LOG10(K19*100*J19/F19*1000) -> 5.2792502 | M19: =(J19*K19)/(D19*E19) -> 0.094594595 | N19: =J19*K19/(D19*E19-(J19*K19)) -> 0.10447761 | O19: =dose!$H$11 -> 1.4144144 | P19: =N19/O19 -> 0.073866337 | R19: 67 | S19: 68 | T19: =AVERAGE(R19:S19) -> 67.5 | U19: 10 | V19: =LOG10(U19*100*T19/F19*1000) -> 6.263456 | W19: 6 | X19: 5 | Y19: =AVERAGE(W19:X19) -> 5.5 | Z19: 10 | AA19: =LOG10(Y19*Z19*100/F19*1000) -> 5.1745149 | AC19: 3 | AD19: 7 | AE19: =AVERAGE(AC19:AD19) -> 5 | AF19: 10 | AG19: =LOG10(AE19*AF19*100/F19*1000) -> 5.1331222
A20: day 14 | B20: 125 | C20: 130 | D20: =AVERAGE(B20:C20) -> 127.5 | E20: 1 | F20: =1898.7-1762.3 -> 136.4 | G20: =LOG10(D20*100*E20/F20*1000) -> 4.9706958 | H20: 28 | I20: 33 | J20: =AVERAGE(H20:I20) -> 30.5 | K20: 1 | L20: =LOG10(K20*100*J20/F20*1000) -> 4.3494855 | M20: =(J20*K20)/(D20*E20) -> 0.23921569 | N20: =J20*K20/(D20*E20-(J20*K20)) -> 0.31443299 | O20: =dose!$H$11 -> 1.4144144 | P20: =N20/O20 -> 0.22230613 | R20: 100 | S20: 112 | T20: =AVERAGE(R20:S20) -> 106 | U20: 1 | V20: =LOG10(U20*100*T20/F20*1000) -> 4.8904915 | W20: 20 | X20: 18 | Y20: =AVERAGE(W20:X20) -> 19 | Z20: 1 | AA20: =LOG10(Y20*Z20*100/F20*1000) -> 4.1439392 | AC20: 25 | AD20: 13 | AE20: =AVERAGE(AC20:AD20) -> 19 | AF20: 1 | AG20: =LOG10(AE20*AF20*100/F20*1000) -> 4.1439392
A22: BL048 hygR:BL048 total 59% mouse 4 | B22: total number of CFU - VBM plates | D22: mean in 10 µL | E22: Dilution factor | F22: feces weights (mg) | G22: Total log10 CFU/g of feces | H22: BL048 hygR number of CFU - VBM hyg500 plates | J22: mean in 10 µL | K22: Dilution factor | L22: log10 Bl048hygR CFU/g of feces | M22: % hygR / Total | N22: Output ratio HygR/WT | O22: Input ratio HygR/WT | P22: Competitive index | R22: total number of CFU - LBirg5 plates | T22: mean in 10 µL | U22: Dilution factor | V22: Total log10 CFU/g of feces | W22: BL048 hygR number of CFU - LBirg5hyg500 plates | Y22: mean in 10 µL | Z22: Dilution factor | AA22: Log10 HygR CFU/g of feces | AC22: BL048 hygR number of CFU - LBhyg500 plates | AE22: mean in 10 µL | AF22: Dilution factor | AG22: Log10 HygR CFU/g of feces
A23: day 3 | B23: 32 | C23: 24 | D23: =AVERAGE(B23:C23) -> 28 | E23: 100 | F23: =1670-1634.3 -> 35.7 | G23: =LOG10(D23*100*E23/F23*1000) -> 6.8944898 | H23: 16 | I23: 18 | J23: =AVERAGE(H23:I23) -> 17 | K23: 1 | L23: =LOG10(K23*100*J23/F23*1000) -> 4.6777807 | M23: =(J23*K23)/(D23*E23) -> 0.0060714286 | N23: =J23*K23/(D23*E23-(J23*K23)) -> 0.006108516 | O23: =dose!$H$11 -> 1.4144144 | P23: =N23/O23 -> 0.0043187597 | R23: 15 | S23: 21 | T23: =AVERAGE(R23:S23) -> 18 | U23: 100 | V23: =LOG10(U23*100*T23/F23*1000) -> 6.7026043 | W23: 11 | X23: 14 | Y23: =AVERAGE(W23:X23) -> 12.5 | Z23: 1 | AA23: =LOG10(Y23*Z23*100/F23*1000) -> 4.5442418
A24: day 5 | B24: 116 | C24: 135 | D24: =AVERAGE(B24:C24) -> 125.5 | E24: 1000 | F24: =1811.4-1758.3 -> 53.1 | G24: =LOG10(D24*100*E24/F24*1000) -> 8.3735492 | H24: 27 | I24: 12 | J24: =AVERAGE(H24:I24) -> 19.5 | K24: 100 | L24: =LOG10(K24*100*J24/F24*1000) -> 6.5649401 | M24: =(J24*K24)/(D24*E24) -> 0.015537849 | N24: =J24*K24/(D24*E24-(J24*K24)) -> 0.015783084 | O24: =dose!$H$11 -> 1.4144144 | P24: =N24/O24 -> 0.011158741 | R24: 91 | S24: 69 | T24: =AVERAGE(R24:S24) -> 80 | U24: 1000 | V24: =LOG10(U24*100*T24/F24*1000) -> 8.1779955 | W24: 31 | X24: 36 | Y24: =AVERAGE(W24:X24) -> 33.5 | Z24: 100 | AA24: =LOG10(Y24*Z24*100/F24*1000) -> 6.7999503
A25: day 7 | B25: =AVERAGE(56,53) -> 54.5 | C25: =AVERAGE(44,45) -> 44.5 | D25: =AVERAGE(B25:C25) -> 49.5 | E25: 1000 | F25: =1865.8-1831.2 -> 34.6 | G25: =LOG10(D25*100*E25/F25*1000) -> 8.1555291 | H25: 16 | I25: 20 | J25: =AVERAGE(H25:I25) -> 18 | K25: 100 | L25: =LOG10(K25*100*J25/F25*1000) -> 6.7161964 | M25: =(J25*K25)/(D25*E25) -> 0.036363636 | N25: =J25*K25/(D25*E25-(J25*K25)) -> 0.037735849 | O25: =dose!$H$11 -> 1.4144144 | P25: =N25/O25 -> 0.026679486 | R25: 37 | S25: 37 | T25: =AVERAGE(R25:S25) -> 37 | U25: 1000 | V25: =LOG10(U25*100*T25/F25*1000) -> 8.0291256 | W25: 16 | X25: 21 | Y25: =AVERAGE(W25:X25) -> 18.5 | Z25: 100 | AA25: =LOG10(Y25*Z25*100/F25*1000) -> 6.7280956
A26: day 10 | B26: 17 | C26: 21 | D26: =AVERAGE(B26:C26) -> 19 | E26: 10000 | F26: =1775.8-1724.1 -> 51.7 | G26: =LOG10(D26*100*E26/F26*1000) -> 8.5652631 | H26: 12 | I26: 12 | J26: =AVERAGE(H26:I26) -> 12 | K26: 10000 | L26: =LOG10(K26*100*J26/F26*1000) -> 8.3656907 | M26: =(J26*K26)/(D26*E26) -> 0.63157895 | N26: =J26*K26/(D26*E26-(J26*K26)) -> 1.7142857 | O26: =dose!$H$11 -> 1.4144144 | P26: =N26/O26 -> 1.2120109 | R26: 92 | S26: 82 | T26: =AVERAGE(R26:S26) -> 87 | U26: 1000 | V26: =LOG10(U26*100*T26/F26*1000) -> 8.2260287 | W26: 38 | X26: 43 | Y26: =AVERAGE(W26:X26) -> 40.5 | Z26: 1000 | AA26: =LOG10(Y26*Z26*100/F26*1000) -> 7.8939645 | AC26: 74 | AD26: 81 | AE26: =AVERAGE(AC26:AD26) -> 77.5 | AF26: 1000 | AG26: =LOG10(AE26*AF26*100/F26*1000) -> 8.1758112
A27: day 14 | B27: 29 | C27: 36 | D27: =AVERAGE(B27:C27) -> 32.5 | E27: 100 | F27: =1732.7-1711.9 -> 20.8 | G27: =LOG10(D27*100*E27/F27*1000) -> 7.19382 | H27: 21 | I27: 21 | J27: =AVERAGE(H27:I27) -> 21 | K27: 100 | L27: =LOG10(K27*100*J27/F27*1000) -> 7.004156 | M27: =(J27*K27)/(D27*E27) -> 0.64615385 | N27: =J27*K27/(D27*E27-(J27*K27)) -> 1.826087 | O27: =dose!$H$11 -> 1.4144144 | P27: =N27/O27 -> 1.2910551 | R27: 32 | S27: 35 | T27: =AVERAGE(R27:S27) -> 33.5 | U27: 100 | V27: =LOG10(U27*100*T27/F27*1000) -> 7.2069815 | W27: 14 | X27: 21 | Y27: =AVERAGE(W27:X27) -> 17.5 | Z27: 100 | AA27: =LOG10(Y27*Z27*100/F27*1000) -> 6.9249747 | AC27: 13 | AD27: 30 | AE27: =AVERAGE(AC27:AD27) -> 21.5 | AF27: 100 | AG27: =LOG10(AE27*AF27*100/F27*1000) -> 7.0143751
A29: BL048 hygR:BL048 total 59% mouse 5 | B29: total number of CFU - VBM plates | D29: mean in 10 µL | E29: Dilution factor | F29: feces weights (mg) | G29: Total log10 CFU/g of feces | H29: BL048 hygR number of CFU - VBM hyg500 plates | J29: mean in 10 µL | K29: Dilution factor | L29: log10 Bl048hygR CFU/g of feces | M29: % hygR / Total | N29: Output ratio HygR/WT | O29: Input ratio HygR/WT | P29: Competitive index | R29: total number of CFU - LBirg5 plates | T29: mean in 10 µL | U29: Dilution factor | V29: Total log10 CFU/g of feces | W29: BL048 hygR number of CFU - LBirg5hyg500 plates | Y29: mean in 10 µL | Z29: Dilution factor | AA29: Log10 HygR CFU/g of feces | AC29: BL048 hygR number of CFU - LBhyg500 plates | AE29: mean in 10 µL | AF29: Dilution factor | AG29: Log10 HygR CFU/g of feces
A30: day 3 | B30: 214 | C30: 197 | D30: =AVERAGE(B30:C30) -> 205.5 | E30: 100 | F30: =1651.6-1634 -> 17.6 | G30: =LOG10(D30*100*E30/F30*1000) -> 8.0672992 | H30: 171 | I30: 149 | J30: =AVERAGE(H30:I30) -> 160 | K30: 100 | L30: =LOG10(K30*100*J30/F30*1000) -> 7.9586073 | M30: =(J30*K30)/(D30*E30) -> 0.77858881 | N30: =J30*K30/(D30*E30-(J30*K30)) -> 3.5164835 | O30: =dose!$H$11 -> 1.4144144 | P30: =N30/O30 -> 2.4861762 | R30: 164 | S30: 133 | T30: =AVERAGE(R30:S30) -> 148.5 | U30: 100 | V30: =LOG10(U30*100*T30/F30*1000) -> 7.9262138 | W30: 98 | X30: 116 | Y30: =AVERAGE(W30:X30) -> 107 | Z30: 100 | AA30: =LOG10(Y30*Z30*100/F30*1000) -> 7.7838711
A31: day 5 | B31: 29 | C31: 18 | D31: =AVERAGE(B31:C31) -> 23.5 | E31: 10000 | F31: =1823.1-1744.5 -> 78.6 | G31: =LOG10(D31*100*E31/F31*1000) -> 8.4756453 | H31: 20 | I31: 16 | J31: =AVERAGE(H31:I31) -> 18 | K31: 10000 | L31: =LOG10(K31*100*J31/F31*1000) -> 8.35985 | M31: =(J31*K31)/(D31*E31) -> 0.76595745 | N31: =J31*K31/(D31*E31-(J31*K31)) -> 3.2727273 | O31: =dose!$H$11 -> 1.4144144 | P31: =N31/O31 -> 2.313839 | R31: 106 | S31: 125 | T31: =AVERAGE(R31:S31) -> 115.5 | U31: 1000 | V31: =LOG10(U31*100*T31/F31*1000) -> 8.1671594 | X31: 71 | Y31: =AVERAGE(W31:X31) -> 71 | Z31: 1000 | AA31: =LOG10(Y31*Z31*100/F31*1000) -> 7.9558358
A32: day 7 | B32: 28 | C32: 30 | D32: =AVERAGE(B32:C32) -> 29 | E32: 10000 | F32: =1741.6-1706.1 -> 35.5 | G32: =LOG10(D32*100*E32/F32*1000) -> 8.9121696 | H32: 29 | I32: 31 | J32: =AVERAGE(H32:I32) -> 30 | K32: 10000 | L32: =LOG10(K32*100*J32/F32*1000) -> 8.9268929 | M32: =(J32*K32)/(D32*E32) -> 1.0344828 | N32: =J32*K32/(D32*E32-(J32*K32)) -> -30 | O32: =dose!$H$11 -> 1.4144144 | P32: =N32/O32 -> -21.210191 | R32: 89 | S32: 100 | T32: =AVERAGE(R32:S32) -> 94.5 | U32: 1000 | V32: =LOG10(U32*100*T32/F32*1000) -> 8.4252035 | W32: 87 | X32: 81 | Y32: =AVERAGE(W32:X32) -> 84 | Z32: 1000 | AA32: =LOG10(Y32*Z32*100/F32*1000) -> 8.3740509
A33: day 10 | B33: 44 | C33: 50 | D33: =AVERAGE(B33:C33) -> 47 | E33: 100 | F33: =1785.1-1756.7 -> 28.4 | G33: =LOG10(D33*100*E33/F33*1000) -> 7.2187795 | H33: 44 | I33: 42 | J33: =AVERAGE(H33:I33) -> 43 | K33: 100 | L33: =LOG10(K33*100*J33/F33*1000) -> 7.1801501 | M33: =(J33*K33)/(D33*E33) -> 0.91489362 | N33: =J33*K33/(D33*E33-(J33*K33)) -> 10.75 | O33: =dose!$H$11 -> 1.4144144 | P33: =N33/O33 -> 7.6003185 | R33: 43 | S33: 34 | T33: =AVERAGE(R33:S33) -> 38.5 | U33: 100 | V33: =LOG10(U33*100*T33/F33*1000) -> 7.1321424 | W33: 33 | X33: 37 | Y33: =AVERAGE(W33:X33) -> 35 | Z33: 100 | AA33: =LOG10(Y33*Z33*100/F33*1000) -> 7.0907497 | AC33: 41 | AD33: 44 | AE33: =AVERAGE(AC33:AD33) -> 42.5 | AF33: 100 | AG33: =LOG10(AE33*AF33*100/F33*1000) -> 7.1750706
A34: day 14 | B34: 9 | C34: 14 | D34: =AVERAGE(B34:C34) -> 11.5 | E34: 100 | F34: =1679.4-1638.2 -> 41.2 | G34: =LOG10(D34*100*E34/F34*1000) -> 6.4458006 | H34: 8 | I34: 13 | J34: =AVERAGE(H34:I34) -> 10.5 | K34: 100 | L34: =LOG10(K34*100*J34/F34*1000) -> 6.4062921 | M34: =(J34*K34)/(D34*E34) -> 0.91304348 | N34: =J34*K34/(D34*E34-(J34*K34)) -> 10.5 | O34: =dose!$H$11 -> 1.4144144 | P34: =N34/O34 -> 7.4235669 | R34: 19 | S34: 12 | T34: =AVERAGE(R34:S34) -> 15.5 | U34: 100 | V34: =LOG10(U34*100*T34/F34*1000) -> 6.5754345 | W34: 7 | X34: 5 | Y34: =AVERAGE(W34:X34) -> 6 | Z34: 100 | AA34: =LOG10(Y34*Z34*100/F34*1000) -> 6.163254 | AC34: 10 | AD34: 10 | AE34: =AVERAGE(AC34:AD34) -> 10 | AF34: 100 | AG34: =LOG10(AE34*AF34*100/F34*1000) -> 6.3851028
A37: BL012 GentR:BL012 total 59% mouse 1 | B37: total number of CFU - VBM plates | D37: mean in 10 µL | E37: Dilution factor | F37: feces weights (mg) | G37: Total log10 CFU/g of feces | H37: BL012 GentR number of CFU - VBM gent10 plates | J37: mean in 10 µL | K37: Dilution factor | L37: log10 BL012gentR CFU/g of feces | M37: % GentR / Total | N37: Output ratio GentR/WT | O37: Input ratio GentR/WT | P37: Competitive index | R37: total number of CFU - LBirg5 plates | T37: mean in 10 µL | U37: Dilution factor | V37: Total log10 CFU/g of feces | W37: BL012 GentR - LBirg5gent10 plates | Y37: mean in 10 µL | Z37: Dilution factor | AC37: BL012 GentR number of CFU - LBgent10 plates | AE37: mean in 10 µL | AF37: Dilution factor | AG37: Log10 GentR CFU/g of feces
A38: day 3 | B38: 61 | C38: 63 | D38: =AVERAGE(B38:C38) -> 62 | E38: 1000 | F38: =1805.6-1748.6 -> 57 | G38: =LOG10(D38*100*E38/F38*1000) -> 8.0365168 | H38: 56 | I38: 55 | J38: =AVERAGE(H38:I38) -> 55.5 | K38: 1000 | L38: =LOG10(K38*100*J38/F38*1000) -> 7.9884181 | M38: =(J38*K38)/(D38*E38) -> 0.89516129 | N38: =J38*K38/(D38*E38-(J38*K38)) -> 8.5384615 | O38: =dose!$H$28 -> 1.4093264 | P38: =N38/O38 -> 6.0585407 | R38: 36 | S38: 33 | T38: =AVERAGE(R38:S38) -> 34.5 | U38: 1000 | V38: =LOG10(U38*100*T38/F38*1000) -> 7.7819442 | W38: 28 | X38: 29 | Y38: =AVERAGE(W38:X38) -> 28.5 | Z38: 1000
A39: day 5 | B39: 40 | C39: 42 | D39: =AVERAGE(B39:C39) -> 41 | E39: 1000 | F39: =1663.4-1637.8 -> 25.6 | G39: =LOG10(D39*100*E39/F39*1000) -> 8.2045439 | H39: 30 | I39: 35 | J39: =AVERAGE(H39:I39) -> 32.5 | K39: 1000 | L39: =LOG10(K39*100*J39/F39*1000) -> 8.1036434 | M39: =(J39*K39)/(D39*E39) -> 0.79268293 | N39: =J39*K39/(D39*E39-(J39*K39)) -> 3.8235294 | O39: =dose!$H$28 -> 1.4093264 | P39: =N39/O39 -> 2.713019 | T39: =AVERAGE(R39:S39) -> #DIV/0! | V39: =LOG10(U39*100*T39/F39*1000) -> #DIV/0! | Y39: =AVERAGE(W39:X39) -> #DIV/0!
A40: day 7 | B40: 22 | C40: 13 | D40: =AVERAGE(B40:C40) -> 17.5 | E40: 1000 | F40: =1791.9-1766.4 -> 25.5 | G40: =LOG10(D40*100*E40/F40*1000) -> 7.8364979 | H40: 6 | I40: 10 | J40: =AVERAGE(H40:I40) -> 8 | K40: 1000 | L40: =LOG10(K40*100*J40/F40*1000) -> 7.4965498 | M40: =(J40*K40)/(D40*E40) -> 0.45714286 | N40: =J40*K40/(D40*E40-(J40*K40)) -> 0.84210526 | O40: =dose!$H$28 -> 1.4093264 | P40: =N40/O40 -> 0.59752322
A41: day 10 | B41: 58 | C41: 39 | D41: =AVERAGE(B41:C41) -> 48.5 | E41: 1000 | F41: =1693.6-1668 -> 25.6 | G41: =LOG10(D41*100*E41/F41*1000) -> 8.2775018 | H41: 49 | I41: 40 | J41: =AVERAGE(H41:I41) -> 44.5 | K41: 1000 | L41: =LOG10(K41*100*J41/F41*1000) -> 8.24012 | M41: =(J41*K41)/(D41*E41) -> 0.91752577 | N41: =J41*K41/(D41*E41-(J41*K41)) -> 11.125 | O41: =dose!$H$28 -> 1.4093264 | P41: =N41/O41 -> 7.8938419
A42: day 14 | B42: 90 | C42: 88 | D42: =AVERAGE(B42:C42) -> 89 | E42: 10 | F42: =1849.4-1768.3 -> 81.1 | G42: =LOG10(D42*100*E42/F42*1000) -> 6.0403692 | H42: 53 | I42: 48 | J42: =AVERAGE(H42:I42) -> 50.5 | K42: 10 | L42: =LOG10(K42*100*J42/F42*1000) -> 5.7942705 | M42: =(J42*K42)/(D42*E42) -> 0.56741573 | N42: =J42*K42/(D42*E42-(J42*K42)) -> 1.3116883 | O42: =dose!$H$28 -> 1.4093264 | P42: =N42/O42 -> 0.93072002 | AC42: 53 | AD42: 60 | AE42: =AVERAGE(AC42:AD42) -> 56.5 | AF42: 10 | AG42: =LOG10(AE42*AF42*100/F42*1000) -> 5.8430276
A44: BL012 GentR:BL012 total 59% mouse 2 | B44: total number of CFU - VBM plates | D44: mean in 10 µL | E44: Dilution factor | F44: feces weights (mg) | G44: Total log10 CFU/g of feces | H44: BL012 GentR number of CFU - VBM gent10 plates | J44: mean in 10 µL | K44: Dilution factor | L44: log10 BL012gentR CFU/g of feces | M44: % GentR / Total | N44: Output ratio GentR/WT | O44: Input ratio GentR/WT | P44: Competitive index | R44: total number of CFU - LBirg5 plates | T44: mean in 10 µL | U44: Dilution factor | V44: Total log10 CFU/g of feces | W44: BL012 GentR - LBirg5gent10 plates | Y44: mean in 10 µL | Z44: Dilution factor | AC44: BL012 GentR number of CFU - LBgent10 plates | AE44: mean in 10 µL | AF44: Dilution factor | AG44: Log10 GentR CFU/g of feces
A45: day 3 | B45: 44 | C45: 41 | D45: =AVERAGE(B45:C45) -> 42.5 | E45: 1000 | F45: =1790.3-1770.8 -> 19.5 | G45: =LOG10(D45*100*E45/F45*1000) -> 8.3383543 | H45: 21 | I45: 20 | J45: =AVERAGE(H45:I45) -> 20.5 | K45: 1000 | L45: =LOG10(K45*100*J45/F45*1000) -> 8.0217192 | M45: =(J45*K45)/(D45*E45) -> 0.48235294 | N45: =J45*K45/(D45*E45-(J45*K45)) -> 0.93181818 | O45: =dose!$H$28 -> 1.4093264 | P45: =N45/O45 -> 0.66117981 | R45: 10 | S45: 6 | T45: =AVERAGE(R45:S45) -> 8 | U45: 1000 | V45: =LOG10(U45*100*T45/F45*1000) -> 7.6130554 | W45: 3 | X45: 4 | Y45: =AVERAGE(W45:X45) -> 3.5 | Z45: 1000
A46: day 5 | B46: 26 | C46: 29 | D46: =AVERAGE(B46:C46) -> 27.5 | E46: 1000 | F46: =1703.4-1694.2 -> 9.2 | G46: =LOG10(D46*100*E46/F46*1000) -> 8.4755449 | H46: 9 | I46: 15 | J46: =AVERAGE(H46:I46) -> 12 | K46: 1000 | L46: =LOG10(K46*100*J46/F46*1000) -> 8.1153934 | M46: =(J46*K46)/(D46*E46) -> 0.43636364 | N46: =J46*K46/(D46*E46-(J46*K46)) -> 0.77419355 | O46: =dose!$H$28 -> 1.4093264 | P46: =N46/O46 -> 0.54933586 | R46: 13 | S46: 10 | T46: =AVERAGE(R46:S46) -> 11.5 | U46: 100 | V46: =LOG10(U46*100*T46/F46*1000) -> 7.09691 | W46: 10 | X46: 13 | Y46: =AVERAGE(W46:X46) -> 11.5 | Z46: 100
A47: day 7 | B47: 61 | C47: 58 | D47: =AVERAGE(B47:C47) -> 59.5 | E47: 1000 | F47: =1697.1-1681.2 -> 15.9 | G47: =LOG10(D47*100*E47/F47*1000) -> 8.5731198 | H47: 51 | I47: 45 | J47: =AVERAGE(H47:I47) -> 48 | K47: 1000 | L47: =LOG10(K47*100*J47/F47*1000) -> 8.4798441 | M47: =(J47*K47)/(D47*E47) -> 0.80672269 | N47: =J47*K47/(D47*E47-(J47*K47)) -> 4.173913 | O47: =dose!$H$28 -> 1.4093264 | P47: =N47/O47 -> 2.9616368
...
