Workbook

Sheet dose
C1: Colony Count | D1: Dilution Factor | E1: CFUs/50uL | F1: Average CFUs | G1: Log CFUs | H1: Ratio (mut/WT) | I1: %tagged/total | J1: OD reached
A3: (LB plates) | B3: BL048 WT + BL048hygR 1:1 | C3: 68 | D3: 1000 | E3: =C3*5*D3 -> 340000 | F3: =AVERAGE(E3:E6) -> 358750 | G3: =LOG10(F3) -> 5.5547919 | H3: =(F7/(F3-F7)) -> 0.7826087 | I3: =F7/F3 -> 0.43902439 | J3: BL048 WT = 0.344
C4: 66 | D4: 1000 | E4: =C4*5*D4 -> 330000
C5: 74 | D5: 1000 | E5: =C5*5*D5 -> 370000 | K5: --> | L5: 44% of input is HygR
C6: 79 | D6: 1000 | E6: =C6*5*D6 -> 395000 | L6: 56% of input is HygS
A7: (LB hyg500 plates) | B7: BL048 hygR 1:1 | C7: 25 | D7: 1000 | E7: =C7*5*D7 -> 125000 | F7: =AVERAGE(E7:E10) -> 157500 | G7: =LOG10(F7) -> 5.1972806 | J7: BL048 hygR = 0.345
C8: 40 | D8: 1000 | E8: =C8*5*D8 -> 200000
C9: 31 | D9: 1000 | E9: =C9*5*D9 -> 155000
C10: 30 | D10: 1000 | E10: =C10*5*D10 -> 150000
A11: (VBM plates) | B11: BL048 WT + BL048hygR 1:1 | C11: 65 | D11: 1000 | E11: =C11*5*D11 -> 325000 | F11: =AVERAGE(E11:E14) -> 335000 | G11: =LOG10(F11) -> 5.5250448 | H11: =F15/(F11-F15) -> 1.4144144 | I11: =F15/F11 -> 0.5858209 | J11: BL048 WT = 0.344
C12: 64 | D12: 1000 | E12: =C12*5*D12 -> 320000 | K12: --> | L12: 59% of input is HygR
C13: 62 | D13: 1000 | E13: =C13*5*D13 -> 310000 | L13: 41% of input is HygS
C14: 77 | D14: 1000 | E14: =C14*5*D14 -> 385000
A15: (VBM hyg500 plates) | B15: BL048 hygR 1:1 | C15: 35 | D15: 1000 | E15: =C15*5*D15 -> 175000 | F15: =AVERAGE(E15:E18) -> 196250 | G15: =LOG10(F15) -> 5.2928097 | J15: BL048 hygR = 0.345
C16: 47 | D16: 1000 | E16: =C16*5*D16 -> 235000
C17: 27 | D17: 1000 | E17: =C17*5*D17 -> 135000
C18: 48 | D18: 1000 | E18: =C18*5*D18 -> 240000
A20: (LB plates) | B20: BL012 WT + BL012GentR 1:1 | C20: 8 | D20: 10000 | E20: =C20*5*D20 -> 400000 | F20: =AVERAGE(E20:E23) -> 700000 | G20: =LOG10(F20) -> 5.845098 | H20: =F24/(F20-F24) -> 0.6969697 | I20: =F24/F20 -> 0.41071429 | J20: BL012 WT = 0.323
C21: 18 | D21: 10000 | E21: =C21*5*D21 -> 900000
C22: 15 | D22: 10000 | E22: =C22*5*D22 -> 750000 | K22: --> | L22: 41% of input is GentR
C23: 15 | D23: 10000 | E23: =C23*5*D23 -> 750000 | L23: 59% of input is GentS
A24: (LB gent10 plates) | B24: BL012 GentR 1:1 | C24: 8 | D24: 10000 | E24: =C24*5*D24 -> 400000 | F24: =AVERAGE(E24:E27) -> 287500 | G24: =LOG10(F24) -> 5.4586378 | J24: BL012 GentR = 0.326
C25: 8 | D25: 10000 | E25: =C25*5*D25 -> 400000
C26: 4 | D26: 10000 | E26: =C26*5*D26 -> 200000
C27: 3 | D27: 10000 | E27: =C27*5*D27 -> 150000
A28: (VBM plates) | B28: BL012 WT + BL012GentR 1:1 | C28: 112 | D28: 1000 | E28: =C28*5*D28 -> 560000 | F28: =AVERAGE(E28:E31) -> 581250 | G28: =LOG10(F28) -> 5.764363 | H28: =F32/(F28-F32) -> 1.4093264 | I28: =F32/F28 -> 0.58494624 | J28: BL012 WT = 0.323
C29: 126 | D29: 1000 | E29: =C29*5*D29 -> 630000 | K29: --> | L29: 59% of input is GentR
C30: 112 | D30: 1000 | E30: =C30*5*D30 -> 560000 | L30: 41% of input is GentS
C31: 115 | D31: 1000 | E31: =C31*5*D31 -> 575000
A32: (VBM gent10 plates) | B32: BL012 GentR 1:1 | C32: 57 | D32: 1000 | E32: =C32*5*D32 -> 285000 | F32: =AVERAGE(E32:E35) -> 340000 | G32: =LOG10(F32) -> 5.5314789 | J32: BL012 GentR = 0.326
C33: 69 | D33: 1000 | E33: =C33*5*D33 -> 345000
C34: 82 | D34: 1000 | E34: =C34*5*D34 -> 410000 | N34: =F28-F32 -> 241250 | O34: =F32/N34 -> 1.4093264
C35: 64 | D35: 1000 | E35: =C35*5*D35 -> 320000
A37: (LB Xgal100 plates - white and blue colonies) | B37: BL012 WT + BL012LacZ 1:1 | C37: =3+3 -> 6 | D37: 10000 | E37: =C37*5*D37 -> 300000 | F37: =AVERAGE(E37:E41) -> 480000 | G37: =LOG10(F37) -> 5.6812412 | H37: =F42/(F37-F42) -> 1.0869565 | I37: =F42/F37 -> 0.52083333 | J37: BL012 WT = 0.323
C38: =4+5 -> 9 | D38: 10000 | E38: =C38*5*D38 -> 450000
C39: =4+5 -> 9 | D39: 10000 | E39: =C39*5*D39 -> 450000
C40: =4+6 -> 10 | D40: 10000 | E40: =C40*5*D40 -> 500000 | K40: --> | L40: 52% of input is LacZ
C41: =9+5 -> 14 | D41: 10000 | E41: =C41*5*D41 -> 700000 | L41: 59% of input is WT
A42: (LB Xgal100 plates - blue colonies) | B42: BL012 LACZ 1:1 | C42: 3 | D42: 10000 | E42: =C42*5*D42 -> 150000 | F42: =AVERAGE(E42:E46) -> 250000 | G42: =LOG10(F42) -> 5.39794 | J42: BL012 LacZ = 0.322
C43: 5 | D43: 10000 | E43: =C43*5*D43 -> 250000
C44: 4 | D44: 10000 | E44: =C44*5*D44 -> 200000
C45: 4 | D45: 10000 | E45: =C45*5*D45 -> 200000
C46: 9 | D46: 10000 | E46: =C46*5*D46 -> 450000
A47: (VBM Xgal100 plates - white and blue colonies) | B47: BL012 WT + BL012LacZ 1:1 | C47: =45+34 -> 79 | D47: 1000 | E47: =C47*5*D47 -> 395000 | F47: =AVERAGE(E47:E51) -> 433000 | G47: =LOG10(F47) -> 5.6364879 | H47: =F52/(F47-F52) -> 1.577381 | I47: =F52/F47 -> 0.61200924 | J47: BL012 WT = 0.323
C48: =57+28 -> 85 | D48: 1000 | E48: =C48*5*D48 -> 425000
C49: =58+31 -> 89 | D49: 1000 | E49: =C49*5*D49 -> 445000 | K49: --> | L49: 61% of input is LacZ
C50: =58+37 -> 95 | D50: 1000 | E50: =C50*5*D50 -> 475000 | L50: 39% of input is WT
C51: =47+38 -> 85 | D51: 1000 | E51: =C51*5*D51 -> 425000
A52: (VBM Xgal100 plates - blue colonies) | B52: BL012 LACZ 1:1 | C52: 45 | D52: 1000 | E52: =C52*5*D52 -> 225000 | F52: =AVERAGE(E52:E56) -> 265000 | G52: =LOG10(F52) -> 5.4232459 | J52: BL012 GentR = 0.322
C53: 57 | D53: 1000 | E53: =C53*5*D53 -> 285000 | L53: BL012/BL012 LacZ = | N53: =((F47-F52)/F52) -> 0.63396226
C54: 58 | D54: 1000 | E54: =C54*5*D54 -> 290000
C55: 58 | D55: 1000 | E55: =C55*5*D55 -> 290000
C56: 47 | D56: 1000 | E56: =C56*5*D56 -> 235000

Sheet feces
A1: BL048 hygR:BL048 total 59% mouse 1 | B1: total number of CFU - VBM plates | D1: mean in 10 µL | E1: Dilution factor | F1: feces weights (mg) | G1: Total log10 CFU/g of feces | H1: BL048 hygR number of CFU - VBM hyg500 plates | J1: mean in 10 µL | K1: Dilution factor | L1: log10 Bl048hygR CFU/g of feces | M1: % hygR / Total | N1: Output ratio HygR/WT | O1: Input ratio HygR/WT | P1: Competitive index | R1: total number of CFU - LBirg5 plates | T1: mean in 10 µL | U1: Dilution factor | V1: Total log10 CFU/g of feces | W1: BL048 hygR number of CFU - LBirg5hyg500 plates | Y1: mean in 10 µL | Z1: Dilution factor | AA1: Log10 HygR CFU/g of feces | AC1: BL048 hygR number of CFU - LBhyg500 plates | AE1: mean in 10 µL | AF1: Dilution factor | AG1: Log10 HygR CFU/g of feces
A2: day 3 | B2: 113 | C2: 83 | D2: =AVERAGE(B2:C2) -> 98 | E2: 1000 | F2: =1780.1-1713.7 -> 66.4 | G2: =LOG10(D2*100*E2/F2*1000) -> 8.169058 | H2: 75 | I2: 65 | J2: =AVERAGE(H2:I2) -> 70 | K2: 1000 | L2: =LOG10(K2*100*J2/F2*1000) -> 8.02293 | M2: =(J2*K2)/(D2*E2) -> 0.71428571 | N2: =J2*K2/(D2*E2-(J2*K2)) -> 2.5 | O2: =dose!$H$11 -> 1.4144144 | P2: =N2/O2 -> 1.7675159 | R2: 72 | S2: 61 | T2: =AVERAGE(R2:S2) -> 66.5 | U2: 1000 | V2: =LOG10(U2*100*T2/F2*1000) -> 8.0006536 | W2: 51 | X2: 47 | Y2: =AVERAGE(W2:X2) -> 49 | Z2: 1000 | AA2: =LOG10(Y2*Z2*100/F2*1000) -> 7.868028
A3: day 5 | B3: 26 | C3: 27 | D3: =AVERAGE(B3:C3) -> 26.5 | E3: 10000 | F3: =1694.5-1628.4 -> 66.1 | G3: =LOG10(D3*100*E3/F3*1000) -> 8.6030444 | H3: 24 | I3: 16 | J3: =AVERAGE(H3:I3) -> 20 | K3: 10000 | L3: =LOG10(K3*100*J3/F3*1000) -> 8.4808285 | M3: =(J3*K3)/(D3*E3) -> 0.75471698 | N3: =J3*K3/(D3*E3-(J3*K3)) -> 3.0769231 | O3: =dose!$H$11 -> 1.4144144 | P3: =N3/O3 -> 2.1754042 | R3: 144 | S3: 148 | T3: =AVERAGE(R3:S3) -> 146 | U3: 1000 | V3: =LOG10(U3*100*T3/F3*1000) -> 8.3441514 | W3: 100 | X3: 95 | Y3: =AVERAGE(W3:X3) -> 97.5 | Z3: 1000 | AA3: =LOG10(Y3*Z3*100/F3*1000) -> 8.1688032
A4: day 7 | B4: 19 | C4: 16 | D4: =AVERAGE(B4:C4) -> 17.5 | E4: 10000 | F4: =1850.9-1763.2 -> 87.7 | G4: =LOG10(D4*100*E4/F4*1000) -> 8.3000385 | H4: 13 | I4: 16 | J4: =AVERAGE(H4:I4) -> 14.5 | K4: 10000 | L4: =LOG10(K4*100*J4/F4*1000) -> 8.2183684 | M4: =(J4*K4)/(D4*E4) -> 0.82857143 | N4: =J4*K4/(D4*E4-(J4*K4)) -> 4.8333333 | O4: =dose!$H$11 -> 1.4144144 | P4: =N4/O4 -> 3.4171975 | R4: 7 | S4: 6 | T4: =AVERAGE(R4:S4) -> 6.5 | U4: 10000 | V4: =LOG10(U4*100*T4/F4*1000) -> 7.8699138 | W4: 1 | X4: 3 | Y4: =AVERAGE(W4:X4) -> 2 | Z4: 10000 | AA4: =LOG10(Y4*Z4*100/F4*1000) -> 7.3580304
A5: day 10 | B5: 40 | C5: 38 | D5: =AVERAGE(B5:C5) -> 39 | E5: 100 | F5: =1765.9-1697.8 -> 68.1 | G5: =LOG10(D5*100*E5/F5*1000) -> 6.7579175 | H5: 21 | I5: 19 | J5: =AVERAGE(H5:I5) -> 20 | K5: 100 | L5: =LOG10(K5*100*J5/F5*1000) -> 6.4678829 | M5: =(J5*K5)/(D5*E5) -> 0.51282051 | N5: =J5*K5/(D5*E5-(J5*K5)) -> 1.0526316 | O5: =dose!$H$11 -> 1.4144144 | P5: =N5/O5 -> 0.74421723 | R5: 30 | S5: 44 | T5: =AVERAGE(R5:S5) -> 37 | U5: 100 | V5: =LOG10(U5*100*T5/F5*1000) -> 6.7350546 | W5: 17 | X5: 13 | Y5: =AVERAGE(W5:X5) -> 15 | Z5: 100 | AA5: =LOG10(Y5*Z5*100/F5*1000) -> 6.3429441 | AC5: 20 | AD5: 21 | AE5: =AVERAGE(AC5:AD5) -> 20.5 | AF5: 100 | AG5: =LOG10(AE5*AF5*100/F5*1000) -> 6.4786067
A6: day 14 | B6: 7 | C6: 5 | D6: =AVERAGE(B6:C6) -> 6 | E6: 1 | F6: =1908.4-1828.2 -> 80.2 | G6: =LOG10(D6*100*E6/F6*1000) -> 3.8739769 | H6: 2 | I6: 2 | J6: =AVERAGE(H6:I6) -> 2 | K6: 1 | L6: =LOG10(K6*100*J6/F6*1000) -> 3.3968556 | M6: =(J6*K6)/(D6*E6) -> 0.33333333 | N6: =J6*K6/(D6*E6-(J6*K6)) -> 0.5 | O6: =dose!$H$11 -> 1.4144144 | P6: =N6/O6 -> 0.35350318 | R6: 1 | S6: 2 | T6: =AVERAGE(R6:S6) -> 1.5 | U6: 1 | V6: =LOG10(U6*100*T6/F6*1000) -> 3.2719169 | W6: 1 | X6: 1 | Y6: =AVERAGE(W6:X6) -> 1 | Z6: 1 | AA6: =LOG10(Y6*Z6*100/F6*1000) -> 3.0958256 | AC6: 6 | AD6: 1 | AE6: =AVERAGE(AC6:AD6) -> 3.5 | AF6: 1 | AG6: =LOG10(AE6*AF6*100/F6*1000) -> 3.6398937
A8: BL048 hygR:BL048 total 59% mouse 2 | B8: total number of CFU - VBM plates | D8: mean in 10 µL | E8: Dilution factor | F8: feces weights (mg) | G8: Total log10 CFU/g of feces | H8: BL048 hygR number of CFU - VBM hyg500 plates | J8: mean in 10 µL | K8: Dilution factor | L8: log10 Bl048hygR CFU/g of feces | M8: % hygR / Total | N8: Output ratio HygR/WT | O8: Input ratio HygR/WT | P8: Competitive index | R8: total number of CFU - LBirg5 plates | T8: mean in 10 µL | U8: Dilution factor | V8: Total log10 CFU/g of feces | W8: BL048 hygR number of CFU - LBirg5hyg500 plates | Y8: mean in 10 µL | Z8: Dilution factor | AA8: Log10 HygR CFU/g of feces | AC8: BL048 hygR number of CFU - LBhyg500 plates | AE8: mean in 10 µL | AF8: Dilution factor | AG8: Log10 HygR CFU/g of feces
A9: day 3 | B9: 0 | C9: 2 | D9: =AVERAGE(B9:C9) -> 1 | E9: 1 | F9: =1715.7-1697.3 -> 18.4 | G9: =LOG10(D9*100*E9/F9*1000) -> 3.7351822 | H9: 0 | I9: 0 | J9: =AVERAGE(H9:I9) -> 0 | K9: 1 | L9: =LOG10(K9*100*J9/F9*1000) -> #NUM! | M9: =(J9*K9)/(D9*E9) -> 0 | N9: =J9*K9/(D9*E9-(J9*K9)) -> 0 | O9: =dose!$H$11 -> 1.4144144 | P9: / | R9: 1 | S9: 1 | T9: =AVERAGE(R9:S9) -> 1 | U9: 1 | V9: =LOG10(U9*100*T9/F9*1000) -> 3.7351822 | W9: 0 | X9: 0 | Y9: =AVERAGE(W9:X9) -> 0 | Z9: 1 | AA9: =LOG10(Y9*Z9*100/F9*1000) -> #NUM!
A10: day 5 | B10: 38 | C10: 38 | D10: =AVERAGE(B10:C10) -> 38 | E10: 10 | F10: =1728.4-1701.2 -> 27.2 | G10: =LOG10(D10*100*E10/F10*1000) -> 6.1452147 | H10: 41 | I10: 38 | J10: =AVERAGE(H10:I10) -> 39.5 | K10: 10 | L10: =LOG10(K10*100*J10/F10*1000) -> 6.1620282 | M10: =(J10*K10)/(D10*E10) -> 1.0394737 | N10: =J10*K10/(D10*E10-(J10*K10)) -> -26.333333 | O10: =dose!$H$11 -> 1.4144144 | P10: =N10/O10 -> -18.617834 | R10: 49 | S10: 43 | T10: =AVERAGE(R10:S10) -> 46 | U10: 10 | V10: =LOG10(U10*100*T10/F10*1000) -> 6.2281889 | W10: 34 | X10: 43 | Y10: =AVERAGE(W10:X10) -> 38.5 | Z10: 10 | AA10: =LOG10(Y10*Z10*100/F10*1000) -> 6.1508918
A11: day 7 | B11: 60 | C11: 59 | D11: =AVERAGE(B11:C11) -> 59.5 | E11: 100 | F11: =1818.3-1776.2 -> 42.1 | G11: =LOG10(D11*100*E11/F11*1000) -> 7.1502349 | H11: 50 | I11: 53 | J11: =AVERAGE(H11:I11) -> 51.5 | K11: 100 | L11: =LOG10(K11*100*J11/F11*1000) -> 7.0875251 | M11: =(J11*K11)/(D11*E11) -> 0.86554622 | N11: =J11*K11/(D11*E11-(J11*K11)) -> 6.4375 | O11: =dose!$H$11 -> 1.4144144 | P11: =N11/O11 -> 4.5513535 | R11: 55 | S11: 65 | T11: =AVERAGE(R11:S11) -> 60 | U11: 100 | V11: =LOG10(U11*100*T11/F11*1000) -> 7.1538692 | W11: 45 | X11: 60 | Y11: =AVERAGE(W11:X11) -> 52.5 | Z11: 100 | AA11: =LOG10(Y11*Z11*100/F11*1000) -> 7.0958772
A12: day 10 | B12: 37 | C12: 30 | D12: =AVERAGE(B12:C12) -> 33.5 | E12: 100 | F12: =1787.8-1765.8 -> 22 | G12: =LOG10(D12*100*E12/F12*1000) -> 7.1826221 | H12: 28 | I12: 28 | J12: =AVERAGE(H12:I12) -> 28 | K12: 100 | L12: =LOG10(K12*100*J12/F12*1000) -> 7.1047354 | M12: =(J12*K12)/(D12*E12) -> 0.8358209 | N12: =J12*K12/(D12*E12-(J12*K12)) -> 5.0909091 | O12: =dose!$H$11 -> 1.4144144 | P12: =N12/O12 -> 3.5993052 | R12: 33 | S12: 27 | T12: =AVERAGE(R12:S12) -> 30 | U12: 100 | V12: =LOG10(U12*100*T12/F12*1000) -> 7.1346986 | W12: 19 | X12: 23 | Y12: =AVERAGE(W12:X12) -> 21 | Z12: 100 | AA12: =LOG10(Y12*Z12*100/F12*1000) -> 6.9797966 | AC12: 28 | AD12: 36 | AE12: =AVERAGE(AC12:AD12) -> 32 | AF12: 100 | AG12: =LOG10(AE12*AF12*100/F12*1000) -> 7.1627273
A13: day 14 | B13: 20 | C13: 22 | D13: =AVERAGE(B13:C13) -> 21 | E13: 100 | F13: =1915.9-1832.6 -> 83.3 | G13: =LOG10(D13*100*E13/F13*1000) -> 6.4015743 | H13: 13 | I13: 20 | J13: =AVERAGE(H13:I13) -> 16.5 | K13: 100 | L13: =LOG10(K13*100*J13/F13*1000) -> 6.2968389 | M13: =(J13*K13)/(D13*E13) -> 0.78571429 | N13: =J13*K13/(D13*E13-(J13*K13)) -> 3.6666667 | O13: =dose!$H$11 -> 1.4144144 | P13: =N13/O13 -> 2.5923567 | R13: 20 | S13: 20 | T13: =AVERAGE(R13:S13) -> 20 | U13: 100 | V13: =LOG10(U13*100*T13/F13*1000) -> 6.380385 | W13: 16 | X13: 8 | Y13: =AVERAGE(W13:X13) -> 12 | Z13: 100 | AA13: =LOG10(Y13*Z13*100/F13*1000) -> 6.1585362 | AC13: 8 | AD13: 10 | AE13: =AVERAGE(AC13:AD13) -> 9 | AF13: 100 | AG13: =LOG10(AE13*AF13*100/F13*1000) -> 6.0335975
A15: BL048 hygR:BL048 total 59% mouse 3 | B15: total number of CFU - VBM plates | D15: mean in 10 µL | E15: Dilution factor | F15: feces weights (mg) | G15: Total log10 CFU/g of feces | H15: BL048 hygR number of CFU - VBM hyg500 plates | J15: mean in 10 µL | K15: Dilution factor | L15: log10 Bl048hygR CFU/g of feces | M15: % hygR / Total | N15: Output ratio HygR/WT | O15: Input ratio HygR/WT | P15: Competitive index | R15: total number of CFU - LBirg5 plates | T15: mean in 10 µL | U15: Dilution factor | V15: Total log10 CFU/g of feces | W15: BL048 hygR number of CFU - LBirg5hyg500 plates | Y15: mean in 10 µL | Z15: Dilution factor | AA15: Log10 HygR CFU/g of feces | AC15: BL048 hygR number of CFU - LBhyg500 plates | AE15: mean in 10 µL | AF15: Dilution factor | AG15: Log10 HygR CFU/g of feces
A16: day 3 - didn’t poop | D16: =AVERAGE(B16:C16) -> #DIV/0! | G16: =LOG10(D16*100*E16/F16*1000) -> #DIV/0! | J16: =AVERAGE(H16:I16) -> #DIV/0! | L16: =LOG10(K16*100*J16/F16*1000) -> #DIV/0! | M16: =(J16*K16)/(D16*E16) -> #DIV/0! | N16: =J16*K16/(D16*E16-(J16*K16)) -> #DIV/0! | O16: =dose!$H$11 -> 1.4144144 | P16: / | T16: =AVERAGE(R16:S16) -> #DIV/0! | V16: =LOG10(U16*100*T16/F16*1000) -> #DIV/0! | Y16: =AVERAGE(W16:X16) -> #DIV/0! | AA16: =LOG10(Y16*Z16*100/F16*1000) -> #DIV/0!
A17: day 5 | B17: 0 | C17: 0 | D17: =AVERAGE(B17:C17) -> 0 | E17: 1 | F17: =1727.8-1700.6 -> 27.2 | G17: =LOG10(D17*100*E17/F17*1000) -> #NUM! | H17: 0 | I17: 0 | J17: =AVERAGE(H17:I17) -> 0 | K17: 1 | L17: =LOG10(K17*100*J17/F17*1000) -> #NUM! | M17: =(J17*K17)/(D17*E17) -> #DIV/0! | N17: =J17*K17/(D17*E17-(J17*K17)) -> #DIV/0! | O17: =dose!$H$11 -> 1.4144144 | P17: / | R17: 0 | S17: 0 | T17: =AVERAGE(R17:S17) -> 0 | U17: 1 | V17: =LOG10(U17*100*T17/F17*1000) -> #NUM! | W17: 0 | X17: 0 | Y17: =AVERAGE(W17:X17) -> 0 | Z17: 1 | AA17: =LOG10(Y17*Z17*100/F17*1000) -> #NUM!
A18: day 7 | B18: 28 | C18: 30 | D18: =AVERAGE(B18:C18) -> 29 | E18: 1 | F18: =1808.2-1765.3 -> 42.9 | G18: =LOG10(D18*100*E18/F18*1000) -> 4.8299407 | H18: 0 | I18: 3 | J18: =AVERAGE(H18:I18) -> 1.5 | K18: 1 | L18: =LOG10(K18*100*J18/F18*1000) -> 3.543634 | M18: =(J18*K18)/(D18*E18) -> 0.051724138 | N18: =J18*K18/(D18*E18-(J18*K18)) -> 0.054545455 | O18: =dose!$H$11 -> 1.4144144 | P18: =N18/O18 -> 0.038563984 | R18: 24 | S18: 22 | T18: =AVERAGE(R18:S18) -> 23 | U18: 1 | V18: =LOG10(U18*100*T18/F18*1000) -> 4.7292705 | W18: 0 | X18: 1 | Y18: =AVERAGE(W18:X18) -> 0.5 | Z18: 1 | AA18: =LOG10(Y18*Z18*100/F18*1000) -> 3.0665127
A19: day 10 | B19: 74 | C19: 74 | D19: =AVERAGE(B19:C19) -> 74 | E19: 10 | F19: =1800.9-1764.1 -> 36.8 | G19: =LOG10(D19*100*E19/F19*1000) -> 6.3033839 | H19: 6 | I19: 8 | J19: =AVERAGE(H19:I19) -> 7 | K19: 10 | L19: =LOG10(K19*100*J19/F19*1000) -> 5.2792502 | M19: =(J19*K19)/(D19*E19) -> 0.094594595 | N19: =J19*K19/(D19*E19-(J19*K19)) -> 0.10447761 | O19: =dose!$H$11 -> 1.4144144 | P19: =N19/O19 -> 0.073866337 | R19: 67 | S19: 68 | T19: =AVERAGE(R19:S19) -> 67.5 | U19: 10 | V19: =LOG10(U19*100*T19/F19*1000) -> 6.263456 | W19: 6 | X19: 5 | Y19: =AVERAGE(W19:X19) -> 5.5 | Z19: 10 | AA19: =LOG10(Y19*Z19*100/F19*1000) -> 5.1745149 | AC19: 3 | AD19: 7 | AE19: =AVERAGE(AC19:AD19) -> 5 | AF19: 10 | AG19: =LOG10(AE19*AF19*100/F19*1000) -> 5.1331222
A20: day 14 | B20: 125 | C20: 130 | D20: =AVERAGE(B20:C20) -> 127.5 | E20: 1 | F20: =1898.7-1762.3 -> 136.4 | G20: =LOG10(D20*100*E20/F20*1000) -> 4.9706958 | H20: 28 | I20: 33 | J20: =AVERAGE(H20:I20) -> 30.5 | K20: 1 | L20: =LOG10(K20*100*J20/F20*1000) -> 4.3494855 | M20: =(J20*K20)/(D20*E20) -> 0.23921569 | N20: =J20*K20/(D20*E20-(J20*K20)) -> 0.31443299 | O20: =dose!$H$11 -> 1.4144144 | P20: =N20/O20 -> 0.22230613 | R20: 100 | S20: 112 | T20: =AVERAGE(R20:S20) -> 106 | U20: 1 | V20: =LOG10(U20*100*T20/F20*1000) -> 4.8904915 | W20: 20 | X20: 18 | Y20: =AVERAGE(W20:X20) -> 19 | Z20: 1 | AA20: =LOG10(Y20*Z20*100/F20*1000) -> 4.1439392 | AC20: 25 | AD20: 13 | AE20: =AVERAGE(AC20:AD20) -> 19 | AF20: 1 | AG20: =LOG10(AE20*AF20*100/F20*1000) -> 4.1439392
A22: BL048 hygR:BL048 total 59% mouse 4 | B22: total number of CFU - VBM plates | D22: mean in 10 µL | E22: Dilution factor | F22: feces weights (mg) | G22: Total log10 CFU/g of feces | H22: BL048 hygR number of CFU - VBM hyg500 plates | J22: mean in 10 µL | K22: Dilution factor | L22: log10 Bl048hygR CFU/g of feces | M22: % hygR / Total | N22: Output ratio HygR/WT | O22: Input ratio HygR/WT | P22: Competitive index | R22: total number of CFU - LBirg5 plates | T22: mean in 10 µL | U22: Dilution factor | V22: Total log10 CFU/g of feces | W22: BL048 hygR number of CFU - LBirg5hyg500 plates | Y22: mean in 10 µL | Z22: Dilution factor | AA22: Log10 HygR CFU/g of feces | AC22: BL048 hygR number of CFU - LBhyg500 plates | AE22: mean in 10 µL | AF22: Dilution factor | AG22: Log10 HygR CFU/g of feces
A23: day 3 | B23: 32 | C23: 24 | D23: =AVERAGE(B23:C23) -> 28 | E23: 100 | F23: =1670-1634.3 -> 35.7 | G23: =LOG10(D23*100*E23/F23*1000) -> 6.8944898 | H23: 16 | I23: 18 | J23: =AVERAGE(H23:I23) -> 17 | K23: 1 | L23: =LOG10(K23*100*J23/F23*1000) -> 4.6777807 | M23: =(J23*K23)/(D23*E23) -> 0.0060714286 | N23: =J23*K23/(D23*E23-(J23*K23)) -> 0.006108516 | O23: =dose!$H$11 -> 1.4144144 | P23: =N23/O23 -> 0.0043187597 | R23: 15 | S23: 21 | T23: =AVERAGE(R23:S23) -> 18 | U23: 100 | V23: =LOG10(U23*100*T23/F23*1000) -> 6.7026043 | W23: 11 | X23: 14 | Y23: =AVERAGE(W23:X23) -> 12.5 | Z23: 1 | AA23: =LOG10(Y23*Z23*100/F23*1000) -> 4.5442418
A24: day 5 | B24: 116 | C24: 135 | D24: =AVERAGE(B24:C24) -> 125.5 | E24: 1000 | F24: =1811.4-1758.3 -> 53.1 | G24: =LOG10(D24*100*E24/F24*1000) -> 8.3735492 | H24: 27 | I24: 12 | J24: =AVERAGE(H24:I24) -> 19.5 | K24: 100 | L24: =LOG10(K24*100*J24/F24*1000) -> 6.5649401 | M24: =(J24*K24)/(D24*E24) -> 0.015537849 | N24: =J24*K24/(D24*E24-(J24*K24)) -> 0.015783084 | O24: =dose!$H$11 -> 1.4144144 | P24: =N24/O24 -> 0.011158741 | R24: 91 | S24: 69 | T24: =AVERAGE(R24:S24) -> 80 | U24: 1000 | V24: =LOG10(U24*100*T24/F24*1000) -> 8.1779955 | W24: 31 | X24: 36 | Y24: =AVERAGE(W24:X24) -> 33.5 | Z24: 100 | AA24: =LOG10(Y24*Z24*100/F24*1000) -> 6.7999503
A25: day 7 | B25: =AVERAGE(56,53) -> 54.5 | C25: =AVERAGE(44,45) -> 44.5 | D25: =AVERAGE(B25:C25) -> 49.5 | E25: 1000 | F25: =1865.8-1831.2 -> 34.6 | G25: =LOG10(D25*100*E25/F25*1000) -> 8.1555291 | H25: 16 | I25: 20 | J25: =AVERAGE(H25:I25) -> 18 | K25: 100 | L25: =LOG10(K25*100*J25/F25*1000) -> 6.7161964 | M25: =(J25*K25)/(D25*E25) -> 0.036363636 | N25: =J25*K25/(D25*E25-(J25*K25)) -> 0.037735849 | O25: =dose!$H$11 -> 1.4144144 | P25: =N25/O25 -> 0.026679486 | R25: 37 | S25: 37 | T25: =AVERAGE(R25:S25) -> 37 | U25: 1000 | V25: =LOG10(U25*100*T25/F25*1000) -> 8.0291256 | W25: 16 | X25: 21 | Y25: =AVERAGE(W25:X25) -> 18.5 | Z25: 100 | AA25: =LOG10(Y25*Z25*100/F25*1000) -> 6.7280956
A26: day 10 | B26: 17 | C26: 21 | D26: =AVERAGE(B26:C26) -> 19 | E26: 10000 | F26: =1775.8-1724.1 -> 51.7 | G26: =LOG10(D26*100*E26/F26*1000) -> 8.5652631 | H26: 12 | I26: 12 | J26: =AVERAGE(H26:I26) -> 12 | K26: 10000 | L26: =LOG10(K26*100*J26/F26*1000) -> 8.3656907 | M26: =(J26*K26)/(D26*E26) -> 0.63157895 | N26: =J26*K26/(D26*E26-(J26*K26)) -> 1.7142857 | O26: =dose!$H$11 -> 1.4144144 | P26: =N26/O26 -> 1.2120109 | R26: 92 | S26: 82 | T26: =AVERAGE(R26:S26) -> 87 | U26: 1000 | V26: =LOG10(U26*100*T26/F26*1000) -> 8.2260287 | W26: 38 | X26: 43 | Y26: =AVERAGE(W26:X26) -> 40.5 | Z26: 1000 | AA26: =LOG10(Y26*Z26*100/F26*1000) -> 7.8939645 | AC26: 74 | AD26: 81 | AE26: =AVERAGE(AC26:AD26) -> 77.5 | AF26: 1000 | AG26: =LOG10(AE26*AF26*100/F26*1000) -> 8.1758112
A27: day 14 | B27: 29 | C27: 36 | D27: =AVERAGE(B27:C27) -> 32.5 | E27: 100 | F27: =1732.7-1711.9 -> 20.8 | G27: =LOG10(D27*100*E27/F27*1000) -> 7.19382 | H27: 21 | I27: 21 | J27: =AVERAGE(H27:I27) -> 21 | K27: 100 | L27: =LOG10(K27*100*J27/F27*1000) -> 7.004156 | M27: =(J27*K27)/(D27*E27) -> 0.64615385 | N27: =J27*K27/(D27*E27-(J27*K27)) -> 1.826087 | O27: =dose!$H$11 -> 1.4144144 | P27: =N27/O27 -> 1.2910551 | R27: 32 | S27: 35 | T27: =AVERAGE(R27:S27) -> 33.5 | U27: 100 | V27: =LOG10(U27*100*T27/F27*1000) -> 7.2069815 | W27: 14 | X27: 21 | Y27: =AVERAGE(W27:X27) -> 17.5 | Z27: 100 | AA27: =LOG10(Y27*Z27*100/F27*1000) -> 6.9249747 | AC27: 13 | AD27: 30 | AE27: =AVERAGE(AC27:AD27) -> 21.5 | AF27: 100 | AG27: =LOG10(AE27*AF27*100/F27*1000) -> 7.0143751
A29: BL048 hygR:BL048 total 59% mouse 5 | B29: total number of CFU - VBM plates | D29: mean in 10 µL | E29: Dilution factor | F29: feces weights (mg) | G29: Total log10 CFU/g of feces | H29: BL048 hygR number of CFU - VBM hyg500 plates | J29: mean in 10 µL | K29: Dilution factor | L29: log10 Bl048hygR CFU/g of feces | M29: % hygR / Total | N29: Output ratio HygR/WT | O29: Input ratio HygR/WT | P29: Competitive index | R29: total number of CFU - LBirg5 plates | T29: mean in 10 µL | U29: Dilution factor | V29: Total log10 CFU/g of feces | W29: BL048 hygR number of CFU - LBirg5hyg500 plates | Y29: mean in 10 µL | Z29: Dilution factor | AA29: Log10 HygR CFU/g of feces | AC29: BL048 hygR number of CFU - LBhyg500 plates | AE29: mean in 10 µL | AF29: Dilution factor | AG29: Log10 HygR CFU/g of feces
A30: day 3 | B30: 214 | C30: 197 | D30: =AVERAGE(B30:C30) -> 205.5 | E30: 100 | F30: =1651.6-1634 -> 17.6 | G30: =LOG10(D30*100*E30/F30*1000) -> 8.0672992 | H30: 171 | I30: 149 | J30: =AVERAGE(H30:I30) -> 160 | K30: 100 | L30: =LOG10(K30*100*J30/F30*1000) -> 7.9586073 | M30: =(J30*K30)/(D30*E30) -> 0.77858881 | N30: =J30*K30/(D30*E30-(J30*K30)) -> 3.5164835 | O30: =dose!$H$11 -> 1.4144144 | P30: =N30/O30 -> 2.4861762 | R30: 164 | S30: 133 | T30: =AVERAGE(R30:S30) -> 148.5 | U30: 100 | V30: =LOG10(U30*100*T30/F30*1000) -> 7.9262138 | W30: 98 | X30: 116 | Y30: =AVERAGE(W30:X30) -> 107 | Z30: 100 | AA30: =LOG10(Y30*Z30*100/F30*1000) -> 7.7838711
A31: day 5 | B31: 29 | C31: 18 | D31: =AVERAGE(B31:C31) -> 23.5 | E31: 10000 | F31: =1823.1-1744.5 -> 78.6 | G31: =LOG10(D31*100*E31/F31*1000) -> 8.4756453 | H31: 20 | I31: 16 | J31: =AVERAGE(H31:I31) -> 18 | K31: 10000 | L31: =LOG10(K31*100*J31/F31*1000) -> 8.35985 | M31: =(J31*K31)/(D31*E31) -> 0.76595745 | N31: =J31*K31/(D31*E31-(J31*K31)) -> 3.2727273 | O31: =dose!$H$11 -> 1.4144144 | P31: =N31/O31 -> 2.313839 | R31: 106 | S31: 125 | T31: =AVERAGE(R31:S31) -> 115.5 | U31: 1000 | V31: =LOG10(U31*100*T31/F31*1000) -> 8.1671594 | X31: 71 | Y31: =AVERAGE(W31:X31) -> 71 | Z31: 1000 | AA31: =LOG10(Y31*Z31*100/F31*1000) -> 7.9558358
A32: day 7 | B32: 28 | C32: 30 | D32: =AVERAGE(B32:C32) -> 29 | E32: 10000 | F32: =1741.6-1706.1 -> 35.5 | G32: =LOG10(D32*100*E32/F32*1000) -> 8.9121696 | H32: 29 | I32: 31 | J32: =AVERAGE(H32:I32) -> 30 | K32: 10000 | L32: =LOG10(K32*100*J32/F32*1000) -> 8.9268929 | M32: =(J32*K32)/(D32*E32) -> 1.0344828 | N32: =J32*K32/(D32*E32-(J32*K32)) -> -30 | O32: =dose!$H$11 -> 1.4144144 | P32: =N32/O32 -> -21.210191 | R32: 89 | S32: 100 | T32: =AVERAGE(R32:S32) -> 94.5 | U32: 1000 | V32: =LOG10(U32*100*T32/F32*1000) -> 8.4252035 | W32: 87 | X32: 81 | Y32: =AVERAGE(W32:X32) -> 84 | Z32: 1000 | AA32: =LOG10(Y32*Z32*100/F32*1000) -> 8.3740509
A33: day 10 | B33: 44 | C33: 50 | D33: =AVERAGE(B33:C33) -> 47 | E33: 100 | F33: =1785.1-1756.7 -> 28.4 | G33: =LOG10(D33*100*E33/F33*1000) -> 7.2187795 | H33: 44 | I33: 42 | J33: =AVERAGE(H33:I33) -> 43 | K33: 100 | L33: =LOG10(K33*100*J33/F33*1000) -> 7.1801501 | M33: =(J33*K33)/(D33*E33) -> 0.91489362 | N33: =J33*K33/(D33*E33-(J33*K33)) -> 10.75 | O33: =dose!$H$11 -> 1.4144144 | P33: =N33/O33 -> 7.6003185 | R33: 43 | S33: 34 | T33: =AVERAGE(R33:S33) -> 38.5 | U33: 100 | V33: =LOG10(U33*100*T33/F33*1000) -> 7.1321424 | W33: 33 | X33: 37 | Y33: =AVERAGE(W33:X33) -> 35 | Z33: 100 | AA33: =LOG10(Y33*Z33*100/F33*1000) -> 7.0907497 | AC33: 41 | AD33: 44 | AE33: =AVERAGE(AC33:AD33) -> 42.5 | AF33: 100 | AG33: =LOG10(AE33*AF33*100/F33*1000) -> 7.1750706
A34: day 14 | B34: 9 | C34: 14 | D34: =AVERAGE(B34:C34) -> 11.5 | E34: 100 | F34: =1679.4-1638.2 -> 41.2 | G34: =LOG10(D34*100*E34/F34*1000) -> 6.4458006 | H34: 8 | I34: 13 | J34: =AVERAGE(H34:I34) -> 10.5 | K34: 100 | L34: =LOG10(K34*100*J34/F34*1000) -> 6.4062921 | M34: =(J34*K34)/(D34*E34) -> 0.91304348 | N34: =J34*K34/(D34*E34-(J34*K34)) -> 10.5 | O34: =dose!$H$11 -> 1.4144144 | P34: =N34/O34 -> 7.4235669 | R34: 19 | S34: 12 | T34: =AVERAGE(R34:S34) -> 15.5 | U34: 100 | V34: =LOG10(U34*100*T34/F34*1000) -> 6.5754345 | W34: 7 | X34: 5 | Y34: =AVERAGE(W34:X34) -> 6 | Z34: 100 | AA34: =LOG10(Y34*Z34*100/F34*1000) -> 6.163254 | AC34: 10 | AD34: 10 | AE34: =AVERAGE(AC34:AD34) -> 10 | AF34: 100 | AG34: =LOG10(AE34*AF34*100/F34*1000) -> 6.3851028
A37: BL012 GentR:BL012 total 59% mouse 1 | B37: total number of CFU - VBM plates | D37: mean in 10 µL | E37: Dilution factor | F37: feces weights (mg) | G37: Total log10 CFU/g of feces | H37: BL012 GentR number of CFU - VBM gent10 plates | J37: mean in 10 µL | K37: Dilution factor | L37: log10 BL012gentR CFU/g of feces | M37: % GentR / Total | N37: Output ratio GentR/WT | O37: Input ratio GentR/WT | P37: Competitive index | R37: total number of CFU - LBirg5 plates | T37: mean in 10 µL | U37: Dilution factor | V37: Total log10 CFU/g of feces | W37: BL012 GentR - LBirg5gent10 plates | Y37: mean in 10 µL | Z37: Dilution factor | AC37: BL012 GentR number of CFU - LBgent10 plates | AE37: mean in 10 µL | AF37: Dilution factor | AG37: Log10 GentR CFU/g of feces
A38: day 3 | B38: 61 | C38: 63 | D38: =AVERAGE(B38:C38) -> 62 | E38: 1000 | F38: =1805.6-1748.6 -> 57 | G38: =LOG10(D38*100*E38/F38*1000) -> 8.0365168 | H38: 56 | I38: 55 | J38: =AVERAGE(H38:I38) -> 55.5 | K38: 1000 | L38: =LOG10(K38*100*J38/F38*1000) -> 7.9884181 | M38: =(J38*K38)/(D38*E38) -> 0.89516129 | N38: =J38*K38/(D38*E38-(J38*K38)) -> 8.5384615 | O38: =dose!$H$28 -> 1.4093264 | P38: =N38/O38 -> 6.0585407 | R38: 36 | S38: 33 | T38: =AVERAGE(R38:S38) -> 34.5 | U38: 1000 | V38: =LOG10(U38*100*T38/F38*1000) -> 7.7819442 | W38: 28 | X38: 29 | Y38: =AVERAGE(W38:X38) -> 28.5 | Z38: 1000
A39: day 5 | B39: 40 | C39: 42 | D39: =AVERAGE(B39:C39) -> 41 | E39: 1000 | F39: =1663.4-1637.8 -> 25.6 | G39: =LOG10(D39*100*E39/F39*1000) -> 8.2045439 | H39: 30 | I39: 35 | J39: =AVERAGE(H39:I39) -> 32.5 | K39: 1000 | L39: =LOG10(K39*100*J39/F39*1000) -> 8.1036434 | M39: =(J39*K39)/(D39*E39) -> 0.79268293 | N39: =J39*K39/(D39*E39-(J39*K39)) -> 3.8235294 | O39: =dose!$H$28 -> 1.4093264 | P39: =N39/O39 -> 2.713019 | T39: =AVERAGE(R39:S39) -> #DIV/0! | V39: =LOG10(U39*100*T39/F39*1000) -> #DIV/0! | Y39: =AVERAGE(W39:X39) -> #DIV/0!
A40: day 7 | B40: 22 | C40: 13 | D40: =AVERAGE(B40:C40) -> 17.5 | E40: 1000 | F40: =1791.9-1766.4 -> 25.5 | G40: =LOG10(D40*100*E40/F40*1000) -> 7.8364979 | H40: 6 | I40: 10 | J40: =AVERAGE(H40:I40) -> 8 | K40: 1000 | L40: =LOG10(K40*100*J40/F40*1000) -> 7.4965498 | M40: =(J40*K40)/(D40*E40) -> 0.45714286 | N40: =J40*K40/(D40*E40-(J40*K40)) -> 0.84210526 | O40: =dose!$H$28 -> 1.4093264 | P40: =N40/O40 -> 0.59752322
A41: day 10 | B41: 58 | C41: 39 | D41: =AVERAGE(B41:C41) -> 48.5 | E41: 1000 | F41: =1693.6-1668 -> 25.6 | G41: =LOG10(D41*100*E41/F41*1000) -> 8.2775018 | H41: 49 | I41: 40 | J41: =AVERAGE(H41:I41) -> 44.5 | K41: 1000 | L41: =LOG10(K41*100*J41/F41*1000) -> 8.24012 | M41: =(J41*K41)/(D41*E41) -> 0.91752577 | N41: =J41*K41/(D41*E41-(J41*K41)) -> 11.125 | O41: =dose!$H$28 -> 1.4093264 | P41: =N41/O41 -> 7.8938419
A42: day 14 | B42: 90 | C42: 88 | D42: =AVERAGE(B42:C42) -> 89 | E42: 10 | F42: =1849.4-1768.3 -> 81.1 | G42: =LOG10(D42*100*E42/F42*1000) -> 6.0403692 | H42: 53 | I42: 48 | J42: =AVERAGE(H42:I42) -> 50.5 | K42: 10 | L42: =LOG10(K42*100*J42/F42*1000) -> 5.7942705 | M42: =(J42*K42)/(D42*E42) -> 0.56741573 | N42: =J42*K42/(D42*E42-(J42*K42)) -> 1.3116883 | O42: =dose!$H$28 -> 1.4093264 | P42: =N42/O42 -> 0.93072002 | AC42: 53 | AD42: 60 | AE42: =AVERAGE(AC42:AD42) -> 56.5 | AF42: 10 | AG42: =LOG10(AE42*AF42*100/F42*1000) -> 5.8430276
A44: BL012 GentR:BL012 total 59% mouse 2 | B44: total number of CFU - VBM plates | D44: mean in 10 µL | E44: Dilution factor | F44: feces weights (mg) | G44: Total log10 CFU/g of feces | H44: BL012 GentR number of CFU - VBM gent10 plates | J44: mean in 10 µL | K44: Dilution factor | L44: log10 BL012gentR CFU/g of feces | M44: % GentR / Total | N44: Output ratio GentR/WT | O44: Input ratio GentR/WT | P44: Competitive index | R44: total number of CFU - LBirg5 plates | T44: mean in 10 µL | U44: Dilution factor | V44: Total log10 CFU/g of feces | W44: BL012 GentR - LBirg5gent10 plates | Y44: mean in 10 µL | Z44: Dilution factor | AC44: BL012 GentR number of CFU - LBgent10 plates | AE44: mean in 10 µL | AF44: Dilution factor | AG44: Log10 GentR CFU/g of feces
A45: day 3 | B45: 44 | C45: 41 | D45: =AVERAGE(B45:C45) -> 42.5 | E45: 1000 | F45: =1790.3-1770.8 -> 19.5 | G45: =LOG10(D45*100*E45/F45*1000) -> 8.3383543 | H45: 21 | I45: 20 | J45: =AVERAGE(H45:I45) -> 20.5 | K45: 1000 | L45: =LOG10(K45*100*J45/F45*1000) -> 8.0217192 | M45: =(J45*K45)/(D45*E45) -> 0.48235294 | N45: =J45*K45/(D45*E45-(J45*K45)) -> 0.93181818 | O45: =dose!$H$28 -> 1.4093264 | P45: =N45/O45 -> 0.66117981 | R45: 10 | S45: 6 | T45: =AVERAGE(R45:S45) -> 8 | U45: 1000 | V45: =LOG10(U45*100*T45/F45*1000) -> 7.6130554 | W45: 3 | X45: 4 | Y45: =AVERAGE(W45:X45) -> 3.5 | Z45: 1000
A46: day 5 | B46: 26 | C46: 29 | D46: =AVERAGE(B46:C46) -> 27.5 | E46: 1000 | F46: =1703.4-1694.2 -> 9.2 | G46: =LOG10(D46*100*E46/F46*1000) -> 8.4755449 | H46: 9 | I46: 15 | J46: =AVERAGE(H46:I46) -> 12 | K46: 1000 | L46: =LOG10(K46*100*J46/F46*1000) -> 8.1153934 | M46: =(J46*K46)/(D46*E46) -> 0.43636364 | N46: =J46*K46/(D46*E46-(J46*K46)) -> 0.77419355 | O46: =dose!$H$28 -> 1.4093264 | P46: =N46/O46 -> 0.54933586 | R46: 13 | S46: 10 | T46: =AVERAGE(R46:S46) -> 11.5 | U46: 100 | V46: =LOG10(U46*100*T46/F46*1000) -> 7.09691 | W46: 10 | X46: 13 | Y46: =AVERAGE(W46:X46) -> 11.5 | Z46: 100
A47: day 7 | B47: 61 | C47: 58 | D47: =AVERAGE(B47:C47) -> 59.5 | E47: 1000 | F47: =1697.1-1681.2 -> 15.9 | G47: =LOG10(D47*100*E47/F47*1000) -> 8.5731198 | H47: 51 | I47: 45 | J47: =AVERAGE(H47:I47) -> 48 | K47: 1000 | L47: =LOG10(K47*100*J47/F47*1000) -> 8.4798441 | M47: =(J47*K47)/(D47*E47) -> 0.80672269 | N47: =J47*K47/(D47*E47-(J47*K47)) -> 4.173913 | O47: =dose!$H$28 -> 1.4093264 | P47: =N47/O47 -> 2.9616368
A48: day 10 | B48: 36 | C48: 30 | D48: =AVERAGE(B48:C48) -> 33 | E48: 1000 | F48: =1796.7-1755.4 -> 41.3 | G48: =LOG10(D48*100*E48/F48*1000) -> 7.9025639 | H48: 21 | I48: 21 | J48: =AVERAGE(H48:I48) -> 21 | K48: 1000 | L48: =LOG10(K48*100*J48/F48*1000) -> 7.7062692 | M48: =(J48*K48)/(D48*E48) -> 0.63636364 | N48: =J48*K48/(D48*E48-(J48*K48)) -> 1.75 | O48: =dose!$H$28 -> 1.4093264 | P48: =N48/O48 -> 1.2417279
A49: day 14 | B49: 51 | C49: 49 | D49: =AVERAGE(B49:C49) -> 50 | E49: 100 | F49: =1936.3-1832.6 -> 103.7 | G49: =LOG10(D49*100*E49/F49*1000) -> 6.6831912 | H49: 41 | I49: 36 | J49: =AVERAGE(H49:I49) -> 38.5 | K49: 100 | L49: =LOG10(K49*100*J49/F49*1000) -> 6.569682 | M49: =(J49*K49)/(D49*E49) -> 0.77 | N49: =J49*K49/(D49*E49-(J49*K49)) -> 3.3478261 | O49: =dose!$H$28 -> 1.4093264 | P49: =N49/O49 -> 2.3754795 | AC49: 35 | AD49: 38 | AE49: =AVERAGE(AC49:AD49) -> 36.5 | AF49: 10 | AG49: =LOG10(AE49*AF49*100/F49*1000) -> 5.5465141
A51: BL012 GentR:BL012 total 59% mouse 3 | B51: total number of CFU - VBM plates | D51: mean in 10 µL | E51: Dilution factor | F51: feces weights (mg) | G51: Total log10 CFU/g of feces | H51: BL012 GentR number of CFU - VBM gent10 plates | J51: mean in 10 µL | K51: Dilution factor | L51: log10 BL012gentR CFU/g of feces | M51: % GentR / Total | N51: Output ratio GentR/WT | O51: Input ratio GentR/WT | P51: Competitive index | R51: total number of CFU - LBirg5 plates | T51: mean in 10 µL | U51: Dilution factor | V51: Total log10 CFU/g of feces | W51: BL012 GentR - LBirg5gent10 plates | Y51: mean in 10 µL | Z51: Dilution factor | AC51: BL012 GentR number of CFU - LBgent10 plates | AE51: mean in 10 µL | AF51: Dilution factor | AG51: Log10 GentR CFU/g of feces
A52: day 3 | B52: 161 | C52: 149 | D52: =AVERAGE(B52:C52) -> 155 | E52: 100 | F52: =1881.6-1868.1 -> 13.5 | G52: =LOG10(D52*100*E52/F52*1000) -> 8.0599979 | H52: 56 | I52: 54 | J52: =AVERAGE(H52:I52) -> 55 | K52: 100 | L52: =LOG10(K52*100*J52/F52*1000) -> 7.6100289 | M52: =(J52*K52)/(D52*E52) -> 0.35483871 | N52: =J52*K52/(D52*E52-(J52*K52)) -> 0.55 | O52: =dose!$H$28 -> 1.4093264 | P52: =N52/O52 -> 0.39025735 | R52: 116 | S52: 129 | T52: =AVERAGE(R52:S52) -> 122.5 | U52: 100 | V52: =LOG10(U52*100*T52/F52*1000) -> 7.9578023 | W52: 48 | X52: 52 | Y52: =AVERAGE(W52:X52) -> 50 | Z52: 100
A53: day 5 | B53: 18 | C53: 17 | D53: =AVERAGE(B53:C53) -> 17.5 | E53: 10000 | F53: =1723-1698.7 -> 24.3 | G53: =LOG10(D53*100*E53/F53*1000) -> 8.8574318 | H53: 9 | I53: 4 | J53: =AVERAGE(H53:I53) -> 6.5 | K53: 10000 | L53: =LOG10(K53*100*J53/F53*1000) -> 8.4273071 | M53: =(J53*K53)/(D53*E53) -> 0.37142857 | N53: =J53*K53/(D53*E53-(J53*K53)) -> 0.59090909 | O53: =dose!$H$28 -> 1.4093264 | P53: =N53/O53 -> 0.41928476 | T53: =AVERAGE(R53:S53) -> #DIV/0! | V53: =LOG10(U53*100*T53/F53*1000) -> #DIV/0! | Y53: =AVERAGE(W53:X53) -> #DIV/0!
A54: day 7 | B54: 107 | C54: 90 | D54: =AVERAGE(B54:C54) -> 98.5 | E54: 1000 | F54: =1728.4-1706.7 -> 21.7 | G54: =LOG10(D54*100*E54/F54*1000) -> 8.6569765 | H54: 41 | I54: 24 | J54: =AVERAGE(H54:I54) -> 32.5 | K54: 1000 | L54: =LOG10(K54*100*J54/F54*1000) -> 8.1754236 | M54: =(J54*K54)/(D54*E54) -> 0.32994924 | N54: =J54*K54/(D54*E54-(J54*K54)) -> 0.49242424 | O54: =dose!$H$28 -> 1.4093264 | P54: =N54/O54 -> 0.34940397
A55: day 10 | B55: 29 | C55: 29 | D55: =AVERAGE(B55:C55) -> 29 | E55: 1000 | F55: =1788.1-1769.1 -> 19 | G55: =LOG10(D55*100*E55/F55*1000) -> 8.1836444 | H55: 14 | I55: 9 | J55: =AVERAGE(H55:I55) -> 11.5 | K55: 1000 | L55: =LOG10(K55*100*J55/F55*1000) -> 7.7819442 | M55: =(J55*K55)/(D55*E55) -> 0.39655172 | N55: =J55*K55/(D55*E55-(J55*K55)) -> 0.65714286 | O55: =dose!$H$28 -> 1.4093264 | P55: =N55/O55 -> 0.46628151
A56: day 14 | B56: 39 | C56: 34 | D56: =AVERAGE(B56:C56) -> 36.5 | E56: 100 | F56: =1753.8-1697 -> 56.8 | G56: =LOG10(D56*100*E56/F56*1000) -> 6.8079445 | H56: 14 | I56: 13 | J56: =AVERAGE(H56:I56) -> 13.5 | K56: 100 | L56: =LOG10(K56*100*J56/F56*1000) -> 6.3759854 | M56: =(J56*K56)/(D56*E56) -> 0.36986301 | N56: =J56*K56/(D56*E56-(J56*K56)) -> 0.58695652 | O56: =dose!$H$28 -> 1.4093264 | P56: =N56/O56 -> 0.41648018 | AC56: 16 | AD56: 18 | AE56: =AVERAGE(AC56:AD56) -> 17 | AF56: 100 | AG56: =LOG10(AE56*AF56*100/F56*1000) -> 6.4761006
A58: BL012 GentR:BL012 total 59% mouse 4 | B58: total number of CFU - VBM plates | D58: mean in 10 µL | E58: Dilution factor | F58: feces weights (mg) | G58: Total log10 CFU/g of feces | H58: BL012 GentR number of CFU - VBM gent10 plates | J58: mean in 10 µL | K58: Dilution factor | L58: log10 BL012gentR CFU/g of feces | M58: % GentR / Total | N58: Output ratio GentR/WT | O58: Input ratio GentR/WT | P58: Competitive index | R58: total number of CFU - LBirg5 plates | T58: mean in 10 µL | U58: Dilution factor | V58: Total log10 CFU/g of feces | W58: BL012 GentR - LBirg5gent10 plates | Y58: mean in 10 µL | Z58: Dilution factor | AC58: BL012 GentR number of CFU - LBgent10 plates | AE58: mean in 10 µL | AF58: Dilution factor | AG58: Log10 GentR CFU/g of feces
A59: day 3 | B59: 84 | C59: 75 | D59: =AVERAGE(B59:C59) -> 79.5 | E59: 1000 | F59: =1751-1694 -> 57 | G59: =LOG10(D59*100*E59/F59*1000) -> 8.1444923 | H59: 61 | I59: 53 | J59: =AVERAGE(H59:I59) -> 57 | K59: 1000 | L59: =LOG10(K59*100*J59/F59*1000) -> 8 | M59: =(J59*K59)/(D59*E59) -> 0.71698113 | N59: =J59*K59/(D59*E59-(J59*K59)) -> 2.5333333 | O59: =dose!$H$28 -> 1.4093264 | P59: =N59/O59 -> 1.797549 | R59: 1 | S59: 2 | T59: =AVERAGE(R59:S59) -> 1.5 | U59: 1000 | V59: =LOG10(U59*100*T59/F59*1000) -> 6.4202164 | W59: 5 | X59: 3 | Y59: =AVERAGE(W59:X59) -> 4 | Z59: 1000
A60: day 5 | B60: 70 | C60: 60 | D60: =AVERAGE(B60:C60) -> 65 | E60: 10000 | F60: =1749.3-1693.9 -> 55.4 | G60: =LOG10(D60*100*E60/F60*1000) -> 9.0694036 | H60: 67 | I60: 65 | J60: =AVERAGE(H60:I60) -> 66 | K60: 10000 | L60: =LOG10(K60*100*J60/F60*1000) -> 9.0760342 | M60: =(J60*K60)/(D60*E60) -> 1.0153846 | N60: =J60*K60/(D60*E60-(J60*K60)) -> -66 | O60: =dose!$H$28 -> 1.4093264 | P60: =N60/O60 -> -46.830882 | R60: 30 | S60: 28 | T60: =AVERAGE(R60:S60) -> 29 | U60: 1000 | V60: =LOG10(U60*100*T60/F60*1000) -> 7.7188882 | W60: 32 | X60: 46 | Y60: =AVERAGE(W60:X60) -> 39 | Z60: 1000
A61: day 7 | B61: 29 | C61: 27 | D61: =AVERAGE(B61:C61) -> 28 | E61: 100000 | F61: =1720.8-1643.8 -> 77 | G61: =LOG10(D61*100*E61/F61*1000) -> 9.5606673 | H61: 20 | I61: 28 | J61: =AVERAGE(H61:I61) -> 24 | K61: 100000 | L61: =LOG10(K61*100*J61/F61*1000) -> 9.4937205 | M61: =(J61*K61)/(D61*E61) -> 0.85714286 | N61: =J61*K61/(D61*E61-(J61*K61)) -> 6 | O61: =dose!$H$28 -> 1.4093264 | P61: =N61/O61 -> 4.2573529
A62: day 10 | B62: 36 | C62: 38 | D62: =AVERAGE(B62:C62) -> 37 | E62: 10000 | F62: =1853.8-1771.6 -> 82.2 | G62: =LOG10(D62*100*E62/F62*1000) -> 8.6533299 | H62: 36 | I62: 32 | J62: =AVERAGE(H62:I62) -> 34 | K62: 10000 | L62: =LOG10(K62*100*J62/F62*1000) -> 8.6166071 | M62: =(J62*K62)/(D62*E62) -> 0.91891892 | N62: =J62*K62/(D62*E62-(J62*K62)) -> 11.333333 | O62: =dose!$H$28 -> 1.4093264 | P62: =N62/O62 -> 8.0416667
A63: day 14 | B63: 81 | C63: 73 | D63: =AVERAGE(B63:C63) -> 77 | E63: 10 | F63: =1692.3-1623.4 -> 68.9 | G63: =LOG10(D63*100*E63/F63*1000) -> 6.0482715 | H63: 82 | I63: 72 | J63: =AVERAGE(H63:I63) -> 77 | K63: 10 | L63: =LOG10(K63*100*J63/F63*1000) -> 6.0482715 | M63: =(J63*K63)/(D63*E63) -> 1 | N63: =J63*K63/(D63*E63-(J63*K63)) -> #DIV/0! | O63: =dose!$H$28 -> 1.4093264 | P63: =N63/O63 -> #DIV/0! | AC63: 12 | AD63: 8 | AE63: 100 | AF63: 10 | AG63: =LOG10(AE63*AF63*100/F63*1000) -> 6.1617808
A65: BL012 GentR:BL012 total 59% mouse 5 | B65: total number of CFU - VBM plates | D65: mean in 10 µL | E65: Dilution factor | F65: feces weights (mg) | G65: Total log10 CFU/g of feces | H65: BL012 GentR number of CFU - VBM gent10 plates | J65: mean in 10 µL | K65: Dilution factor | L65: log10 BL012gentR CFU/g of feces | M65: % GentR / Total | N65: Output ratio GentR/WT | O65: Input ratio GentR/WT | P65: Competitive index | R65: total number of CFU - LBirg5 plates | T65: mean in 10 µL | U65: Dilution factor | V65: Total log10 CFU/g of feces | W65: BL012 GentR - LBirg5gent10 plates | Y65: mean in 10 µL | Z65: Dilution factor | AC65: BL012 GentR number of CFU - LBgent10 plates | AE65: mean in 10 µL | AF65: Dilution factor | AG65: Log10 GentR CFU/g of feces
A66: day 3 | B66: 36 | C66: 43 | D66: =AVERAGE(B66:C66) -> 39.5 | E66: 1000 | F66: =1789.5-1770.7 -> 18.8 | G66: =LOG10(D66*100*E66/F66*1000) -> 8.3224392 | H66: 33 | I66: 41 | J66: =AVERAGE(H66:I66) -> 37 | K66: 1000 | L66: =LOG10(K66*100*J66/F66*1000) -> 8.2940439 | M66: =(J66*K66)/(D66*E66) -> 0.93670886 | N66: =J66*K66/(D66*E66-(J66*K66)) -> 14.8 | O66: =dose!$H$28 -> 1.4093264 | P66: =N66/O66 -> 10.501471 | T66: =AVERAGE(R66:S66) -> #DIV/0! | V66: =LOG10(U66*100*T66/F66*1000) -> #DIV/0! | Y66: =AVERAGE(W66:X66) -> #DIV/0!
A67: day 5 | B67: 48 | C67: 54 | D67: =AVERAGE(B67:C67) -> 51 | E67: 10000 | F67: =1694-1664.3 -> 29.7 | G67: =LOG10(D67*100*E67/F67*1000) -> 9.2348137 | H67: 49 | I67: 44 | J67: =AVERAGE(H67:I67) -> 46.5 | K67: 10000 | L67: =LOG10(K67*100*J67/F67*1000) -> 9.1946965 | M67: =(J67*K67)/(D67*E67) -> 0.91176471 | N67: =J67*K67/(D67*E67-(J67*K67)) -> 10.333333 | O67: =dose!$H$28 -> 1.4093264 | P67: =N67/O67 -> 7.3321078 | R67: 11 | S67: 4 | T67: =AVERAGE(R67:S67) -> 7.5 | U67: 1000 | V67: =LOG10(U67*100*T67/F67*1000) -> 7.4023048 | W67: 26 | X67: 18 | Y67: =AVERAGE(W67:X67) -> 22 | Z67: 1000
A68: day 7 | B68: 123 | C68: 104 | D68: =AVERAGE(B68:C68) -> 113.5 | E68: 1000 | F68: =1715.3-1702.5 -> 12.8 | G68: =LOG10(D68*100*E68/F68*1000) -> 8.9477859 | H68: 118 | I68: 103 | J68: =AVERAGE(H68:I68) -> 110.5 | K68: 1000 | L68: =LOG10(K68*100*J68/F68*1000) -> 8.9361523 | M68: =(J68*K68)/(D68*E68) -> 0.97356828 | N68: =J68*K68/(D68*E68-(J68*K68)) -> 36.833333 | O68: =dose!$H$28 -> 1.4093264 | P68: =N68/O68 -> 26.135417
A69: day 10 | B69: 29 | C69: 41 | D69: =AVERAGE(B69:C69) -> 35 | E69: 1000 | F69: =1787.3-1762.4 -> 24.9 | G69: =LOG10(D69*100*E69/F69*1000) -> 8.1478687 | H69: 36 | I69: 36 | J69: =AVERAGE(H69:I69) -> 36 | K69: 1000 | L69: =LOG10(K69*100*J69/F69*1000) -> 8.1601032 | M69: =(J69*K69)/(D69*E69) -> 1.0285714 | N69: =J69*K69/(D69*E69-(J69*K69)) -> -36 | O69: =dose!$H$28 -> 1.4093264 | P69: =N69/O69 -> -25.544118
A70: day 14 | B70: 64 | C70: 57 | D70: =AVERAGE(B70:C70) -> 60.5 | E70: 10 | F70: =1737.1-1705.8 -> 31.3 | G70: =LOG10(D70*100*E70/F70*1000) -> 6.286211 | H70: 54 | I70: 59 | J70: =AVERAGE(H70:I70) -> 56.5 | K70: 10 | L70: =LOG10(K70*100*J70/F70*1000) -> 6.2565041 | M70: =(J70*K70)/(D70*E70) -> 0.9338843 | N70: =J70*K70/(D70*E70-(J70*K70)) -> 14.125 | O70: =dose!$H$28 -> 1.4093264 | P70: =N70/O70 -> 10.022518 | AC70: 68 | AD70: 58 | AE70: =AVERAGE(AC70:AD70) -> 63 | AF70: 10 | AG70: =LOG10(AE70*AF70*100/F70*1000) -> 6.3037962
A72: BL012 LacZ:BL012 total 61% mouse 1 | B72: BL012 WT - VBM Xgal100 plates - white colonies | D72: mean in 10 µL | E72: Dilution factor | F72: feces weights (mg) | G72: Total log10 CFU/g of feces | H72: BL012 LacZ - VBM Xgal100 plates - blue colonies | J72: mean in 10 µL | K72: Dilution factor | M72: % LacZ / Total | N72: Output ratio LacZ/WT | O72: Input ratio LacZ/WT | P72: Competitive index | Q72: Competitive index (WT/LacZ) | R72: BL012 WT - LBirg5Xgal100 plates - white colonies | T72: mean in 10 µL | U72: Dilution factor | V72: Total log10 CFU/g of feces | W72: BL012 LacZ - LBirg5Xgal100 plates - blue colonies | Y72: mean in 10 µL | Z72: Dilution factor
A73: day 3 | B73: 27 | C73: 28 | D73: =AVERAGE(B73:C73) -> 27.5 | E73: 1000 | F73: =1697-1677.5 -> 19.5 | G73: =LOG10((D73*100*E73+J73*K73*100)/F73*1000) -> 8.5762527 | H73: 56 | I73: 36 | J73: =AVERAGE(H73:I73) -> 46 | K73: 1000 | M73: =(J73*K73)/(D73*E73+(J73*K73)) -> 0.62585034 | N73: =J73*K73/(D73*E73) -> 1.6727273 | O73: =dose!$H$47 -> 1.577381 | P73: =N73/O73 -> 1.060446 | Q73: =(((D73*E73)/(J73*K73)))/$N$53 -> 1.0117057 | R73: 5 | S73: 5 | T73: =AVERAGE(R73:S73) -> 5 | U73: 1000 | V73: =LOG10((U73*100*T73+Y73*Z73*100)/F73*1000) -> 7.8713334 | W73: 10 | X73: 9 | Y73: =AVERAGE(W73:X73) -> 9.5 | Z73: 1000
A74: day 5 | B74: 17 | C74: 17 | D74: =AVERAGE(B74:C74) -> 17 | E74: 10000 | F74: =1720.2-1698.4 -> 21.8 | G74: =LOG10((D74*100*E74+J74*K74*100)/F74*1000) -> 9.0507096 | H74: 6 | I74: 9 | J74: =AVERAGE(H74:I74) -> 7.5 | K74: 10000 | M74: =(J74*K74)/(D74*E74+(J74*K74)) -> 0.30612245 | N74: =J74*K74/(D74*E74) -> 0.44117647 | O74: =dose!$H$47 -> 1.577381 | P74: =N74/O74 -> 0.27968923 | Q74: =(((D74*E74)/(J74*K74)))/$N$53 -> 3.8358974 | R74: 32 | S74: 30 | T74: =AVERAGE(R74:S74) -> 31 | U74: 1000 | V74: =LOG10((U74*100*T74+Y74*Z74*100)/F74*1000) -> 8.295012 | W74: 12 | X74: 12 | Y74: =AVERAGE(W74:X74) -> 12 | Z74: 1000
A75: day 7 | B75: 31 | C75: 20 | D75: =AVERAGE(B75:C75) -> 25.5 | E75: 10000 | F75: =1720.1-1702 -> 18.1 | G75: =LOG10((D75*100*E75+J75*K75*100)/F75*1000) -> 9.3046143 | H75: 12 | I75: 10 | J75: =AVERAGE(H75:I75) -> 11 | K75: 10000 | M75: =(J75*K75)/(D75*E75+(J75*K75)) -> 0.30136986 | N75: =J75*K75/(D75*E75) -> 0.43137255 | O75: =dose!$H$47 -> 1.577381 | P75: =N75/O75 -> 0.27347392 | Q75: =(((D75*E75)/(J75*K75)))/$N$53 -> 3.9230769
A76: day 10 | D76: =AVERAGE(40,46,44) -> 43.333333 | E76: 1000 | F76: =1702-1679.7 -> 22.3 | G76: =LOG10((D76*100*E76+J76*K76*100)/F76*1000) -> 8.5363017 | J76: =AVERAGE(30,36,34) -> 33.333333 | K76: 1000 | M76: =(J76*K76)/(D76*E76+(J76*K76)) -> 0.43478261 | N76: =J76*K76/(D76*E76) -> 0.76923077 | O76: =dose!$H$47 -> 1.577381 | P76: =N76/O76 -> 0.48766328 | Q76: =(((D76*E76)/(J76*K76)))/$N$53 -> 2.2
A77: day 14 | B77: 17 | C77: 15 | D77: =AVERAGE(B77:C77) -> 16 | E77: 1 | F77: =1662.7-1635.9 -> 26.8 | G77: =LOG10((D77*100*E77+J77*K77*100)/F77*1000) -> 4.9142879 | H77: 5 | I77: 7 | J77: =AVERAGE(H77:I77) -> 6 | K77: 1 | M77: =(J77*K77)/(D77*E77) -> 0.375 | N77: =J77*K77/(D77*E77) -> 0.375 | O77: =dose!$H$47 -> 1.577381 | P77: =N77/O77 -> 0.23773585 | Q77: =(((D77*E77)/(J77*K77)))/$N$53 -> 4.5128205
A79: BL012 LacZ:BL012 total 61% mouse 2 | B79: BL012 WT - VBM Xgal100 plates - white colonies | D79: mean in 10 µL | E79: Dilution factor | F79: feces weights (mg) | G79: Total log10 CFU/g of feces | H79: BL012 LacZ - VBM Xgal100 plates - blue colonies | J79: mean in 10 µL | K79: Dilution factor | M79: % LacZ / Total | N79: Output ratio LacZ/WT | O79: Input ratio LacZ/WT | P79: Competitive index | Q79: Competitive index (WT/LacZ) | R79: BL012 WT - LBirg5Xgal100 plates - white colonies | T79: mean in 10 µL | U79: Dilution factor | V79: Total log10 CFU/g of feces | W79: BL012 LacZ - LBirg5Xgal100 plates - blue colonies | Y79: mean in 10 µL | Z79: Dilution factor
A80: day 3 | B80: 82 | C80: 81 | D80: =AVERAGE(B80:C80) -> 81.5 | E80: 100 | F80: =1794.6-1766.9 -> 27.7 | G80: =LOG10((D80*100*E80+J80*K80*100)/F80*1000) -> 7.7379329 | H80: 66 | I80: 74 | J80: =AVERAGE(H80:I80) -> 70 | K80: 100 | M80: =(J80*K80)/(D80*E80+(J80*K80)) -> 0.4620462 | N80: =J80*K80/(D80*E80) -> 0.85889571 | O80: =dose!$H$47 -> 1.577381 | P80: =N80/O80 -> 0.54450747 | Q80: =(((D80*E80)/(J80*K80)))/$N$53 -> 1.9703297 | R80: 56 | S80: 68 | T80: =AVERAGE(R80:S80) -> 62 | U80: 100 | V80: =LOG10((U80*100*T80+Y80*Z80*100)/F80*1000) -> 7.6294022 | W80: 53 | X80: 59 | Y80: =AVERAGE(W80:X80) -> 56 | Z80: 100
A81: day 5 | B81: 13 | C81: 9 | D81: =AVERAGE(B81:C81) -> 11 | E81: 10000 | F81: =1839.6-1816.8 -> 22.8 | G81: =LOG10((D81*100*E81+J81*K81*100)/F81*1000) -> 8.9320998 | H81: 6 | I81: 11 | J81: =AVERAGE(H81:I81) -> 8.5 | K81: 10000 | M81: =(J81*K81)/(D81*E81+(J81*K81)) -> 0.43589744 | N81: =J81*K81/(D81*E81) -> 0.77272727 | O81: =dose!$H$47 -> 1.577381 | P81: =N81/O81 -> 0.48987993 | Q81: =(((D81*E81)/(J81*K81)))/$N$53 -> 2.1900452 | T81: =AVERAGE(R81:S81) -> #DIV/0! | V81: =LOG10((U81*100*T81+Y81*Z81*100)/F81*1000) -> #DIV/0! | Y81: =AVERAGE(W81:X81) -> #DIV/0!
A82: day 7 | B82: 15 | C82: 17 | D82: =AVERAGE(B82:C82) -> 16 | E82: 10000 | F82: =1698.7-1672.3 -> 26.4 | G82: =LOG10((D82*100*E82+J82*K82*100)/F82*1000) -> 9.0332409 | H82: 8 | I82: 17 | J82: =AVERAGE(H82:I82) -> 12.5 | K82: 10000 | M82: =(J82*K82)/(D82*E82+(J82*K82)) -> 0.43859649 | N82: =J82*K82/(D82*E82) -> 0.78125 | O82: =dose!$H$47 -> 1.577381 | P82: =N82/O82 -> 0.49528302 | Q82: =(((D82*E82)/(J82*K82)))/$N$53 -> 2.1661538
A83: day 10 | B83: 19 | C83: 16 | D83: =AVERAGE(B83:C83) -> 17.5 | E83: 1000 | F83: =1710.5-1683 -> 27.5 | G83: =LOG10((D83*100*E83+J83*K83*100)/F83*1000) -> 8.1787154 | H83: 26 | I83: 22 | J83: =AVERAGE(H83:I83) -> 24 | K83: 1000 | M83: =(J83*K83)/(D83*E83+(J83*K83)) -> 0.57831325 | N83: =J83*K83/(D83*E83) -> 1.3714286 | O83: =dose!$H$47 -> 1.577381 | P83: =N83/O83 -> 0.86943396 | Q83: =(((D83*E83)/(J83*K83)))/$N$53 -> 1.2339744
A84: day 14 | B84: 21 | C84: 19 | D84: =AVERAGE(B84:C84) -> 20 | E84: 10 | F84: =1804.8-1706.1 -> 98.7 | G84: =LOG10((D84*100*E84+J84*K84*100)/F84*1000) -> 5.5738846 | H84: 14 | I84: 20 | J84: =AVERAGE(H84:I84) -> 17 | K84: 10 | M84: =(J84*K84)/(D84*E84) -> 0.85 | N84: =J84*K84/(D84*E84) -> 0.85 | O84: =dose!$H$47 -> 1.577381 | P84: =N84/O84 -> 0.53886792 | Q84: =(((D84*E84)/(J84*K84)))/$N$53 -> 1.9909502
A86: BL012 LacZ:BL012 total 61% mouse 3 | B86: BL012 WT - VBM Xgal100 plates - white colonies | D86: mean in 10 µL | E86: Dilution factor | F86: feces weights (mg) | G86: Total log10 CFU/g of feces | H86: BL012 LacZ - VBM Xgal100 plates - blue colonies | J86: mean in 10 µL | K86: Dilution factor | M86: % LacZ / Total | N86: Output ratio LacZ/WT | O86: Input ratio LacZ/WT | P86: Competitive index | Q86: Competitive index (WT/LacZ) | R86: BL012 WT - LBirg5Xgal100 plates - white colonies | T86: mean in 10 µL | U86: Dilution factor | V86: Total log10 CFU/g of feces | W86: BL012 LacZ - LBirg5Xgal100 plates - blue colonies | Y86: mean in 10 µL | Z86: Dilution factor
A87: day 3 | B87: 16 | C87: 8 | D87: =AVERAGE(B87:C87) -> 12 | E87: 1000 | F87: =1737-1694.5 -> 42.5 | G87: =LOG10((D87*100*E87+J87*K87*100)/F87*1000) -> 7.8699216 | H87: 16 | I87: 23 | J87: =AVERAGE(H87:I87) -> 19.5 | K87: 1000 | M87: =(J87*K87)/(D87*E87+(J87*K87)) -> 0.61904762 | N87: =J87*K87/(D87*E87) -> 1.625 | O87: =dose!$H$47 -> 1.577381 | P87: =N87/O87 -> 1.0301887 | Q87: =(((D87*E87)/(J87*K87)))/$N$53 -> 1.0414201 | R87: 2 | S87: 1 | T87: =AVERAGE(R87:S87) -> 1.5 | U87: 1000 | V87: =LOG10((U87*100*T87+Y87*Z87*100)/F87*1000) -> 7.0248236 | W87: 4 | X87: 2 | Y87: =AVERAGE(W87:X87) -> 3 | Z87: 1000
A88: day 5 | B88: 22 | C88: 18 | D88: =AVERAGE(B88:C88) -> 20 | E88: 10000 | F88: =1718-1677.5 -> 40.5 | G88: =LOG10((D88*100*E88+J88*K88*100)/F88*1000) -> 9.0260134 | H88: 22 | I88: 24 | J88: =AVERAGE(H88:I88) -> 23 | K88: 10000 | M88: =(J88*K88)/(D88*E88+(J88*K88)) -> 0.53488372 | N88: =J88*K88/(D88*E88) -> 1.15 | O88: =dose!$H$47 -> 1.577381 | P88: =N88/O88 -> 0.7290566 | Q88: =(((D88*E88)/(J88*K88)))/$N$53 -> 1.4715719 | T88: =AVERAGE(R88:S88) -> #DIV/0! | V88: =LOG10((U88*100*T88+Y88*Z88*100)/F88*1000) -> #DIV/0! | Y88: =AVERAGE(W88:X88) -> #DIV/0!
A89: day 7 | B89: 15 | C89: 16 | D89: =AVERAGE(B89:C89) -> 15.5 | E89: 10000 | F89: =1785.3-1746.7 -> 38.6 | G89: =LOG10((D89*100*E89+J89*K89*100)/F89*1000) -> 8.9574807 | H89: 19 | I89: 20 | J89: =AVERAGE(H89:I89) -> 19.5 | K89: 10000 | M89: =(J89*K89)/(D89*E89+(J89*K89)) -> 0.55714286 | N89: =J89*K89/(D89*E89) -> 1.2580645 | O89: =dose!$H$47 -> 1.577381 | P89: =N89/O89 -> 0.79756543 | Q89: =(((D89*E89)/(J89*K89)))/$N$53 -> 1.3451677
A90: day 10 | B90: 19 | C90: 22 | D90: =AVERAGE(B90:C90) -> 20.5 | E90: 100 | F90: =1799.4-1768.4 -> 31 | G90: =LOG10((D90*100*E90+J90*K90*100)/F90*1000) -> 7.249001 | H90: 33 | I90: 36 | J90: =AVERAGE(H90:I90) -> 34.5 | K90: 100 | M90: =(J90*K90)/(D90*E90+(J90*K90)) -> 0.62727273 | N90: =J90*K90/(D90*E90) -> 1.6829268 | O90: =dose!$H$47 -> 1.577381 | P90: =N90/O90 -> 1.0669121 | Q90: =(((D90*E90)/(J90*K90)))/$N$53 -> 1.0055741
A91: day 14 | B91: 9 | C91: 14 | D91: =AVERAGE(B91:C91) -> 11.5 | E91: 1 | F91: =1756.8-1692 -> 64.8 | G91: =LOG10((D91*100*E91+J91*K91*100)/F91*1000) -> 4.5686362 | H91: 10 | I91: 15 | J91: =AVERAGE(H91:I91) -> 12.5 | K91: 1 | M91: =(J91*K91)/(D91*E91) -> 1.0869565 | N91: =J91*K91/(D91*E91) -> 1.0869565 | O91: =dose!$H$47 -> 1.577381 | P91: =N91/O91 -> 0.68908942 | Q91: =(((D91*E91)/(J91*K91)))/$N$53 -> 1.5569231
A93: BL012 LacZ:BL012 total 61% mouse 4 | B93: BL012 WT - VBM Xgal100 plates - white colonies | D93: mean in 10 µL | E93: Dilution factor | F93: feces weights (mg) | G93: Total log10 CFU/g of feces | H93: BL012 LacZ - VBM Xgal100 plates - blue colonies | J93: mean in 10 µL | K93: Dilution factor | M93: % LacZ / Total | N93: Output ratio LacZ/WT | O93: Input ratio LacZ/WT | P93: Competitive index | Q93: Competitive index (WT/LacZ) | R93: BL012 WT - LBirg5Xgal100 plates - white colonies | T93: mean in 10 µL | U93: Dilution factor | V93: Total log10 CFU/g of feces | W93: BL012 LacZ - LBirg5Xgal100 plates - blue colonies | Y93: mean in 10 µL | Z93: Dilution factor
A94: day 3 - didn't poop | D94: =AVERAGE(B94:C94) -> #DIV/0! | G94: =LOG10((D94*100*E94+J94*K94*100)/F94*1000) -> #DIV/0! | J94: =AVERAGE(H94:I94) -> #DIV/0! | M94: =(J94*K94)/(D94*E94+(J94*K94)) -> #DIV/0! | N94: =J94*K94/(D94*E94) -> #DIV/0! | O94: =dose!$H$47 -> 1.577381 | P94: =N94/O94 -> #DIV/0! | T94: =AVERAGE(R94:S94) -> #DIV/0! | V94: =LOG10((U94*100*T94+Y94*Z94*100)/F94*1000) -> #DIV/0! | Y94: =AVERAGE(W94:X94) -> #DIV/0!
A95: day 5 | B95: 2 | C95: 5 | D95: =AVERAGE(B95:C95) -> 3.5 | E95: 100 | F95: =1640.7-1624.8 -> 15.9 | G95: =LOG10((D95*100*E95+J95*K95*100)/F95*1000) -> 7.4843446 | H95: 43 | I95: 47 | J95: =AVERAGE(H95:I95) -> 45 | K95: 100 | M95: =(J95*K95)/(D95*E95+(J95*K95)) -> 0.92783505 | N95: =J95*K95/(D95*E95) -> 12.857143 | O95: =dose!$H$47 -> 1.577381 | P95: =N95/O95 -> 8.1509434 | Q95: =(((D95*E95)/(J95*K95)))/$N$53 -> 0.13162393 | R95: 32 | S95: 36 | T95: =AVERAGE(R95:S95) -> 34 | U95: 100 | V95: =LOG10((U95*100*T95+Y95*Z95*100)/F95*1000) -> 7.336422 | W95: 1 | X95: 0 | Y95: =AVERAGE(W95:X95) -> 0.5 | Z95: 100
A96: day 7 | B96: 14 | C96: 22 | D96: =AVERAGE(B96:C96) -> 18 | E96: 1000 | F96: =1649-1613.9 -> 35.1 | G96: =LOG10((D96*100*E96+J96*K96*100)/F96*1000) -> 7.8349041 | H96: 5 | I96: 7 | J96: =AVERAGE(H96:I96) -> 6 | K96: 1000 | M96: =(J96*K96)/(D96*E96+(J96*K96)) -> 0.25 | N96: =J96*K96/(D96*E96) -> 0.33333333 | O96: =dose!$H$47 -> 1.577381 | P96: =N96/O96 -> 0.21132075 | Q96: =(((D96*E96)/(J96*K96)))/$N$53 -> 5.0769231
A97: day 10 | B97: 6 | C97: 14 | D97: =AVERAGE(B97:C97) -> 10 | E97: 1000 | F97: =1744.9-1702.9 -> 42 | G97: =LOG10((D97*100*E97+J97*K97*100)/F97*1000) -> 7.853872 | H97: 20 | I97: 20 | J97: =AVERAGE(H97:I97) -> 20 | K97: 1000 | M97: =(J97*K97)/(D97*E97+(J97*K97)) -> 0.66666667 | N97: =J97*K97/(D97*E97) -> 2 | O97: =dose!$H$47 -> 1.577381 | P97: =N97/O97 -> 1.2679245 | Q97: =(((D97*E97)/(J97*K97)))/$N$53 -> 0.84615385
A98: day 14 | B98: 1 | C98: 0 | D98: =AVERAGE(B98:C98) -> 0.5 | E98: 1 | F98: =1720.6-1632.9 -> 87.7 | G98: =LOG10((D98*100*E98+J98*K98*100)/F98*1000) -> 3.0570004 | H98: 1 | I98: 0 | J98: =AVERAGE(H98:I98) -> 0.5 | K98: 1 | M98: =(J98*K98)/(D98*E98) -> 1 | N98: =J98*K98/(D98*E98) -> 1 | O98: =dose!$H$47 -> 1.577381 | P98: =N98/O98 -> 0.63396226 | Q98: =(((D98*E98)/(J98*K98)))/$N$53 -> 1.6923077
A100: BL012 LacZ:BL012 total 61% mouse 5 | B100: BL012 WT - VBM Xgal100 plates - white colonies | D100: mean in 10 µL | E100: Dilution factor | F100: feces weights (mg) | G100: Total log10 CFU/g of feces | H100: BL012 LacZ - VBM Xgal100 plates - blue colonies | J100: mean in 10 µL | K100: Dilution factor | M100: % LacZ / Total | N100: Output ratio LacZ/WT | O100: Input ratio LacZ/WT | P100: Competitive index | Q100: Competitive index (WT/LacZ) | R100: BL012 WT - LBirg5Xgal100 plates - white colonies | T100: mean in 10 µL | U100: Dilution factor | V100: Total log10 CFU/g of feces | W100: BL012 LacZ - LBirg5Xgal100 plates - blue colonies | Y100: mean in 10 µL | Z100: Dilution factor
A101: day 3 | B101: 15 | C101: 18 | D101: =AVERAGE(B101:C101) -> 16.5 | E101: 1000 | F101: =1713-1687.8 -> 25.2 | G101: =LOG10((D101*100*E101+J101*K101*100)/F101*1000) -> 8.154902 | H101: 21 | I101: 18 | J101: =AVERAGE(H101:I101) -> 19.5 | K101: 1000 | M101: =(J101*K101)/(D101*E101+(J101*K101)) -> 0.54166667 | N101: =J101*K101/(D101*E101) -> 1.1818182 | O101: =dose!$H$47 -> 1.577381 | P101: =N101/O101 -> 0.74922813 | Q101: =(((D101*E101)/(J101*K101)))/$N$53 -> 1.4319527 | T101: =AVERAGE(R101:S101) -> #DIV/0! | V101: =LOG10((U101*100*T101+Y101*Z101*100)/F101*1000) -> #DIV/0! | Y101: =AVERAGE(W101:X101) -> #DIV/0!
A102: day 5 | B102: 10 | C102: 8 | D102: =AVERAGE(B102:C102) -> 9 | E102: 10000 | F102: =1763.3-1721.5 -> 41.8 | G102: =LOG10((D102*100*E102+J102*K102*100)/F102*1000) -> 8.7310062 | H102: 14 | I102: 13 | J102: =AVERAGE(H102:I102) -> 13.5 | K102: 10000 | M102: =(J102*K102)/(D102*E102+(J102*K102)) -> 0.6 | N102: =J102*K102/(D102*E102) -> 1.5 | O102: =dose!$H$47 -> 1.577381 | P102: =N102/O102 -> 0.9509434 | Q102: =(((D102*E102)/(J102*K102)))/$N$53 -> 1.1282051 | T102: =AVERAGE(R102:S102) -> #DIV/0! | V102: =LOG10((U102*100*T102+Y102*Z102*100)/F102*1000) -> #DIV/0! | Y102: =AVERAGE(W102:X102) -> #DIV/0!
A103: day 7 | B103: 13 | C103: 22 | D103: =AVERAGE(B103:C103) -> 17.5 | E103: 1000 | F103: =1867.7-1843.4 -> 24.3 | G103: =LOG10((D103*100*E103+J103*K103*100)/F103*1000) -> 8.3176851 | H103: 39 | I103: 27 | J103: =AVERAGE(H103:I103) -> 33 | K103: 1000 | M103: =(J103*K103)/(D103*E103+(J103*K103)) -> 0.65346535 | N103: =J103*K103/(D103*E103) -> 1.8857143 | O103: =dose!$H$47 -> 1.577381 | P103: =N103/O103 -> 1.1954717 | Q103: =(((D103*E103)/(J103*K103)))/$N$53 -> 0.8974359
A104: day 10 | B104: 36 | C104: 44 | D104: =AVERAGE(B104:C104) -> 40 | E104: 100 | F104: =1778.4-1757.8 -> 20.6 | G104: =LOG10((D104*100*E104+J104*K104*100)/F104*1000) -> 7.6104121 | H104: 46 | I104: 42 | J104: =AVERAGE(H104:I104) -> 44 | K104: 100 | M104: =(J104*K104)/(D104*E104+(J104*K104)) -> 0.52380952 | N104: =J104*K104/(D104*E104) -> 1.1 | O104: =dose!$H$47 -> 1.577381 | P104: =N104/O104 -> 0.69735849 | Q104: =(((D104*E104)/(J104*K104)))/$N$53 -> 1.5384615
A105: day 14 | B105: 19 | C105: 13 | D105: =AVERAGE(B105:C105) -> 16 | E105: 10 | F105: =1759.6-1668.7 -> 90.9 | G105: =LOG10((D105*100*E105+J105*K105*100)/F105*1000) -> 5.65422 | H105: 20 | I105: 30 | J105: =AVERAGE(H105:I105) -> 25 | K105: 10 | M105: =(J105*K105)/(D105*E105) -> 1.5625 | N105: =J105*K105/(D105*E105) -> 1.5625 | O105: =dose!$H$47 -> 1.577381 | P105: =N105/O105 -> 0.99056604 | Q105: =(((D105*E105)/(J105*K105)))/$N$53 -> 1.0830769
