Workbook

Sheet dose
J1: Colony Count | K1: Dilution Factor | L1: CFUs/50uL | M1: Average CFUs | N1: Log CFUs | O1: Ratio (1/x) | P1: %WT/total | Q1: OD reached | R1: input ratio GentR/gentS
H2: (LB irg5 plates) | I2: BL048 + BL048 ANT2''∆ 1:100 LB | J2: 9 | K2: 10000 | L2: =J2*5*K2 -> 450000 | M2: =AVERAGE(L2:L3) -> 625000 | N2: =LOG10(M2) -> 5.79588 | O2: =M2/M4 -> 147.05882 | P2: =M4/M2 -> 0.0068 | R2: =M4/(M2-M4) -> 0.0068465566
J3: 16 | K3: 10000 | L3: =J3*5*K3 -> 800000
H4: (LB irg5 gent10 plates) | I4: BL048 1:100 LB | J4: 10 | K4: 100 | L4: =J4*5*K4 -> 5000 | M4: =AVERAGE(L4:L5) -> 4250 | N4: =LOG10(M4) -> 3.6283889
J5: 7 | K5: 100 | L5: =J5*5*K5 -> 3500
H6: (LB irg5 plates) | I6: BL048 + BL048 ANT2''∆ 1:1000 LB | J6: 12 | K6: 10000 | L6: =J6*5*K6 -> 600000 | M6: =AVERAGE(L6:L7) -> 725000 | N6: =LOG10(M6) -> 5.860338 | O6: =M6/M8 -> 2071.4286 | P6: =M8/M6 -> 0.00048275862 | Q6: BL048 ANT2''∆ = 0.283 | R6: =M8/(M6-M8) -> 0.00048299179
J7: 17 | K7: 10000 | L7: =J7*5*K7 -> 850000
H8: (LB irg5 gent10 plates) | I8: BL048 1:1000 LB | J8: 70 | K8: 1 | L8: =J8*5*K8 -> 350 | M8: =AVERAGE(L8:L9) -> 350 | N8: =LOG10(M8) -> 2.544068 | Q8: BL048 = 0.310
J9: 70 | K9: 1 | L9: =J9*5*K9 -> 350
H10: (LB irg5 plates) | I10: BL048 + BL048 ANT2''∆ 1:10,000 LB | J10: 14 | K10: 10000 | L10: =J10*5*K10 -> 700000 | M10: =AVERAGE(L10:L11) -> 600000 | N10: =LOG10(M10) -> 5.7781513 | O10: =M10/M12 -> 18461.538 | P10: =M12/M10 -> 5.4166667e-05 | R10: =M12/(M10-M12) -> 5.4169601e-05
J11: 10 | K11: 10000 | L11: =J11*5*K11 -> 500000
H12: (LB irg5 gent10 plates) | I12: BL048 1:10,000 LB | J12: 7 | K12: 1 | L12: =J12*5*K12 -> 35 | M12: =AVERAGE(L12:L13) -> 32.5 | N12: =LOG10(M12) -> 1.5118834
J13: 6 | K13: 1 | L13: =J13*5*K13 -> 30
H14: (LB irg5 plates) | I14: BL048 + BL048 ANT2''∆ 1:100,000 LB | J14: 11 | K14: 10000 | L14: =J14*5*K14 -> 550000 | M14: =AVERAGE(L14:L15) -> 525000 | N14: =LOG10(M14) -> 5.7201593 | O14: =M14/M16 -> 105000 | P14: =M16/M14 -> 9.5238095e-06 | R14: =M16/(M14-M16) -> 9.5239002e-06
J15: 10 | K15: 10000 | L15: =J15*5*K15 -> 500000
H16: (LB irg5 gent10 plates) | I16: BL048 1:100,000 LB | J16: 1 | K16: 1 | L16: =J16*5*K16 -> 5 | M16: =AVERAGE(L16:L17) -> 5 | N16: =LOG10(M16) -> 0.69897
J17: 1 | K17: 1 | L17: =J17*5*K17 -> 5

Sheet feces pos ttmnt - PA
A1: BL048:BL048 ANT2''∆ 1:100 mouse 1 | B1: total number of CFU (not diluted) | D1: mean in 10 µL | E1: Dilution factor | F1: feces weights (mg) | G1: Total log10 CFU/g of feces | H1: BL048 only number of CFU (not diluted) | J1: mean in 10 µL | K1: Dilution factor | L1: Number in 200µL (no dilution) | M1: Log10 CFU/g feces (BL048 WT only) | N1: % WT / Total | O1: Compet index (gentR/total) | P1: Expectations | Q1: Limit of detection | R1: ratio output (GentS/GentR) | S1: Compet index (output/input) | V1: Limit of detection GentR
A2: day 3 | B2: 11 | C2: 6 | D2: =AVERAGE(B2:C2) -> 8.5 | E2: 100 | F2: =1910.4-1889.4 -> 21 | G2: =LOG10(D2*100*E2/F2*1000) -> 6.6071996 | H2: 0 | I2: 0 | J2: =AVERAGE(H2:I2) -> 0 | K2: 1 | L2: 0 | M2: =LOG10(L2*5/F2*1000) -> #NUM! | N2: =(J2*K2)/(D2*E2) -> 0 | P2: =dose!P$2 -> 0.0068 | Q2: =1/(D2*E2*20) -> 5.8823529e-05 | U2: day 3 | V2: =LOG10((10^MEDIAN(G2,G7,G12,G17,G22))/150) -> 5.355597 | X2: Limit of detection caecum | Z2: =LOG10(($L$78*5/$F$4)*1000) -> 0.41859654
A3: day 5 | B3: 10 | C3: 6 | D3: =AVERAGE(B3:C3) -> 8 | E3: 100 | F3: =1760.7-1743.4 -> 17.3 | G3: =LOG10(D3*100*E3/F3*1000) -> 6.6650439 | H3: 0 | I3: 0 | J3: =AVERAGE(H3:I3) -> 0 | K3: 1 | L3: 0 | M3: =LOG10(L3*5/F3*1000) -> #NUM! | N3: =(J3*K3)/(D3*E3) -> 0 | P3: =dose!P$2 -> 0.0068 | Q3: =1/(D3*E3*20) -> 6.25e-05 | U3: day 5 | V3: =LOG10((10^MEDIAN(G3,G8,G13,G18,G23))/150) -> 5.1856366 | X3: Limit of detection feces | Z3: =LOG10($L$78*5/$F$33*1000) -> 1.6607474
A4: day 7 - caecum | B4: 4 | C4: 8 | D4: =AVERAGE(B4:C4) -> 6 | E4: 10000 | F4: =3730.1-1823 -> 1907.1 | G4: =LOG10(D4*100*E4/F4*1000) -> 6.4977778 | H4: 0 | I4: 0 | J4: =AVERAGE(H4:I4) -> 0 | K4: 1 | L4: 150 | M4: =LOG10(L4*5/F4*1000) -> 2.5946878 | N4: =(L4/20)/(D4*E4) -> 0.000125 | O4: =LOG10(N4/P4) -> -1.7355989 | P4: =dose!P$2 -> 0.0068 | Q4: =1/(D4*E4*20) -> 8.3333333e-07 | R4: =(L4*5)/((D4*E4*100)-(L4*5)) -> 0.00012501563 | S4: =R4/dose!$R$2 -> 0.018259635 | U4: caecum | V4: =LOG10((10^MEDIAN(G4,G9,G14,G19,G24))/150) -> 4.4003625 | X4: BL048:BL048∆ANT2'' 0.68%
X5: mouse 1 | Z5: mouse 2 | AB5: mouse 3 | AD5: mouse 4 | AF5: mouse 5
A6: BL048:BL048 ANT2''∆ 1:100 mouse 2 | B6: total number of CFU (not diluted) | D6: mean in 10 µL | E6: Dilution factor | F6: feces weights (mg) | G6: Total log10 CFU/g of feces | H6: BL048 only number of CFU (not diluted) | J6: mean in 10 µL | K6: Dilution factor | L6: Number in 200µL (no dilution) | M6: Log10 CFU/g feces (BL048 WT only) | N6: % WT / Total | X6: Expectations | Y6: % WT / Total | Z6: Expectations | AA6: % WT / Total | AB6: Expectations | AC6: % WT / Total | AD6: Expectations | AE6: % WT / Total | AF6: Expectations | AG6: % WT / Total
A7: day 3 | B7: 60 | C7: 46 | D7: =AVERAGE(B7:C7) -> 53 | E7: 1000 | F7: =1865.1-1836.9 -> 28.2 | G7: =LOG10(D7*100*E7/F7*1000) -> 8.2740268 | H7: 0 | I7: 0 | J7: =AVERAGE(H7:I7) -> 0 | K7: 1 | L7: 0 | M7: =LOG10(L7*5/F7*1000) -> #NUM! | N7: =(J7*K7)/(D7*E7) -> 0 | P7: =dose!P$2 -> 0.0068 | Q7: =1/(D7*E7*20) -> 9.4339623e-07 | W7: Feces day 3 | X7: 0.0068 | Y7: 0 | Z7: 0.0068 | AA7: 0 | AB7: 0.0068 | AC7: 0 | AD7: / | AE7: 0 | AF7: 0.0068 | AG7: 0
A8: day 5 | B8: 26 | C8: 19 | D8: =AVERAGE(B8:C8) -> 22.5 | E8: 10000 | F8: =1800.9-1759.8 -> 41.1 | G8: =LOG10(D8*100*E8/F8*1000) -> 8.7383407 | H8: 0 | I8: 0 | J8: =AVERAGE(H8:I8) -> 0 | K8: 1 | L8: 0 | M8: =LOG10(L8*5/F8*1000) -> #NUM! | N8: =(J8*K8)/(D8*E8) -> 0 | P8: =dose!P$2 -> 0.0068 | Q8: =1/(D8*E8*20) -> 2.2222222e-07 | W8: Feces day 5 | X8: 0.0068 | Y8: 0 | Z8: 0.0068 | AA8: 0 | AB8: 0.0068 | AC8: 0 | AD8: 0.0068 | AE8: 0 | AF8: 0.0068 | AG8: 0
A9: day 7 - caecum | B9: 9 | C9: 18 | D9: =AVERAGE(B9:C9) -> 13.5 | E9: 1000000 | F9: =3461-1850.3 -> 1610.7 | G9: =LOG10(D9*100*E9/F9*1000) -> 8.9233191 | H9: 0 | I9: 0 | J9: =AVERAGE(H9:I9) -> 0 | K9: 1 | L9: 300 | M9: =LOG10(L9*5/F9*1000) -> 2.9690766 | N9: =(L9/20)/(D9*E9) -> 1.1111111e-06 | O9: =LOG10(N9/P9) -> -3.7867514 | P9: =dose!P$2 -> 0.0068 | Q9: =1/(D9*E9*20) -> 3.7037037e-09 | R9: =(L9*5)/((D9*E9*100)-(L9*5)) -> 1.1111123e-06 | S9: =R9/dose!$R$2 -> 0.00016228776 | W9: Caecum day 7 | X9: 0.0068 | Y9: 0.000125 | Z9: 0.0068 | AA9: 1.1111111e-06 | AB9: 0.0068 | AC9: ? | AD9: 0.0068 | AE9: 0 | AF9: 0.0068 | AG9: 2.1428571e-06
A11: BL048:BL048 ANT2''∆ 1:100 mouse 3 | B11: total number of CFU (not diluted) | D11: mean in 10 µL | E11: Dilution factor | F11: feces weights (mg) | G11: Total log10 CFU/g of feces | H11: BL048 only number of CFU (not diluted) | J11: mean in 10 µL | K11: Dilution factor | L11: Number in 200µL (no dilution) | M11: Log10 CFU/g feces (BL048 WT only) | N11: % WT / Total
A12: day 3 | B12: 45 | C12: 38 | D12: =AVERAGE(B12:C12) -> 41.5 | E12: 100 | F12: =1814.8-1802.6 -> 12.2 | G12: =LOG10(D12*100*E12/F12*1000) -> 7.5316883 | H12: 0 | I12: 0 | J12: =AVERAGE(H12:I12) -> 0 | K12: 1 | L12: 0 | M12: =LOG10(L12*5/F12*1000) -> #NUM! | N12: =(J12*K12)/(D12*E12) -> 0 | P12: =dose!P$2 -> 0.0068 | Q12: =1/(D12*E12*20) -> 1.2048193e-05 | X12: =LOG10(1) -> 0
A13: day 5 | B13: 11 | C13: 12 | D13: =AVERAGE(B13:C13) -> 11.5 | E13: 1000 | F13: =1944.8-1894.8 -> 50 | G13: =LOG10(D13*100*E13/F13*1000) -> 7.3617278 | H13: 0 | I13: 0 | J13: =AVERAGE(H13:I13) -> 0 | K13: 1 | L13: 0 | M13: =LOG10(L13*5/F13*1000) -> #NUM! | N13: =(J13*K13)/(D13*E13) -> 0 | P13: =dose!P$2 -> 0.0068 | Q13: =1/(D13*E13*20) -> 4.3478261e-06 | X13: =0.0125%/0.68% -> 0.018382353
A14: day 7 - caecum | B14: 5 | C14: 7 | D14: =AVERAGE(B14:C14) -> 6 | E14: 10000 | F14: =3453.3-1862.2 -> 1591.1 | G14: =LOG10(D14*100*E14/F14*1000) -> 6.5764538 | H14: 0 | I14: 0 | J14: =AVERAGE(H14:I14) -> 0 | K14: 1 | L14: ? | M14: =LOG10(L14*5/F14*1000) -> #VALUE! | N14: ? | O14: =LOG10(N14/P14) -> #VALUE! | P14: =dose!P$2 -> 0.0068 | Q14: =1/(D14*E14*20) -> 8.3333333e-07 | R14: ? | S14: =R14/dose!$R$2 -> #VALUE! | X14: =LOG10(X13) -> -1.7355989
A16: BL048:BL048 ANT2''∆ 1:100 mouse 4 | B16: total number of CFU (not diluted) | D16: mean in 10 µL | E16: Dilution factor | F16: feces weights (mg) | G16: Total log10 CFU/g of feces | H16: BL048 only number of CFU (not diluted) | J16: mean in 10 µL | K16: Dilution factor | L16: Number in 200µL (no dilution) | M16: Log10 CFU/g feces (BL048 WT only) | N16: % WT / Total
A17: day 3 | B17: 1 | C17: 0 | D17: =AVERAGE(B17:C17) -> 0.5 | E17: 1 | F17: =1919.4-1835.6 -> 83.8 | G17: =LOG10(D17*100*E17/F17*1000) -> 2.775726 | H17: 0 | I17: 0 | J17: =AVERAGE(H17:I17) -> 0 | K17: 1 | L17: 0 | M17: =LOG10(L17*5/F17*1000) -> #NUM! | N17: =(J17*K17)/(D17*E17) -> 0 | P17: / | Q17: =1/(D17*E17*20) -> 0.1
A18: day 5 | B18: 21 | C18: 21 | D18: =AVERAGE(B18:C18) -> 21 | E18: 1 | F18: =1980.8-1922.5 -> 58.3 | G18: =LOG10(D18*100*E18/F18*1000) -> 4.5565507 | H18: 0 | I18: 0 | J18: =AVERAGE(H18:I18) -> 0 | K18: 1 | L18: 0 | M18: =LOG10(L18*5/F18*1000) -> #NUM! | N18: =(J18*K18)/(D18*E18) -> 0 | P18: =dose!P$2 -> 0.0068 | Q18: =1/(D18*E18*20) -> 0.0023809524
A19: day 7 - caecum | B19: 25 | C19: 24 | D19: =AVERAGE(B19:C19) -> 24.5 | E19: 100 | F19: =3076.8-1727.2 -> 1349.6 | G19: =LOG10(D19*100*E19/F19*1000) -> 5.258961 | H19: 0 | I19: 0 | J19: =AVERAGE(H19:I19) -> 0 | K19: 1 | L19: 0 | M19: =LOG10(L19*5/F19*1000) -> #NUM! | N19: =(J19*K19)/(D19*E19) -> 0 | O19: =LOG10(Q19/P19) -> -2.522705 | P19: =dose!P$2 -> 0.0068 | Q19: =1/(D19*E19*20) -> 2.0408163e-05 | R19: =(L19*5)/((D19*E19*100)-(L19*5)) -> 0 | S19: =R19/dose!$R$2 -> 0
A21: BL048:BL048 ANT2''∆ 1:100 mouse 5 | B21: total number of CFU (not diluted) | D21: mean in 10 µL | E21: Dilution factor | F21: feces weights (mg) | G21: Total log10 CFU/g of feces | H21: BL048 only number of CFU (not diluted) | J21: mean in 10 µL | K21: Dilution factor | L21: Number in 200µL (no dilution) | M21: Log10 CFU/g feces (BL048 WT only) | N21: % WT / Total
A22: day 3 | B22: 55 | C22: 62 | D22: =AVERAGE(B22:C22) -> 58.5 | E22: 1000 | F22: =1956-1865.3 -> 90.7 | G22: =LOG10(D22*100*E22/F22*1000) -> 7.8095486 | H22: 0 | I22: 0 | J22: =AVERAGE(H22:I22) -> 0 | K22: 1 | L22: 0 | M22: =LOG10(L22*5/F22*1000) -> #NUM! | N22: =(J22*K22)/(D22*E22) -> 0 | P22: =dose!P$2 -> 0.0068 | Q22: =1/(D22*E22*20) -> 8.5470085e-07
A23: day 5 | B23: 22 | C23: 31 | D23: =AVERAGE(B23:C23) -> 26.5 | E23: 10000 | F23: =1809.7-1743.3 -> 66.4 | G23: =LOG10(D23*100*E23/F23*1000) -> 8.6010778 | H23: 0 | I23: 0 | J23: =AVERAGE(H23:I23) -> 0 | K23: 1 | L23: 0 | M23: =LOG10(L23*5/F23*1000) -> #NUM! | N23: =(J23*K23)/(D23*E23) -> 0 | P23: =dose!P$2 -> 0.0068 | Q23: =1/(D23*E23*20) -> 1.8867925e-07
A24: day 7 - caecum | B24: 7 | C24: 7 | D24: =AVERAGE(B24:C24) -> 7 | E24: 1000000 | F24: =3221.3-1665.3 -> 1556 | G24: =LOG10(D24*100*E24/F24*1000) -> 8.6530884 | H24: 0 | I24: 0 | J24: =AVERAGE(H24:I24) -> 0 | K24: 1 | L24: 300 | M24: =LOG10(L24*5/F24*1000) -> 2.9840817 | N24: =(L24/20)/(D24*E24) -> 2.1428571e-06 | O24: =LOG10(N24/P24) -> -3.5015157 | P24: =dose!P$2 -> 0.0068 | Q24: =1/(D24*E24*20) -> 7.1428571e-09 | R24: =(L24*5)/((D24*E24*100)-(L24*5)) -> 2.1428617e-06 | S24: =R24/dose!$R$2 -> 0.00031298386
P25: 1
A26: BL048:BL048 ANT2''∆ 1:1000 mouse 1 | B26: total number of CFU (not diluted) | D26: mean in 10 µL | E26: Dilution factor | F26: feces weights (mg) | G26: Total log10 CFU/g of feces | H26: BL048 only number of CFU (not diluted) | J26: mean in 10 µL | K26: Dilution factor | L26: Number in 200µL (no dilution) | M26: Log10 CFU/g feces (BL048 WT only) | N26: % WT / Total | P26: Expectations | V26: Limit of detection GentR
A27: day 3 | B27: 0 | C27: 0 | D27: =AVERAGE(B27:C27) -> 0 | E27: 1 | F27: =1778.5-1757.4 -> 21.1 | G27: =LOG10(D27*100*E27/F27*1000) -> #NUM! | H27: 0 | I27: 0 | J27: =AVERAGE(H27:I27) -> 0 | K27: 1 | L27: 0 | M27: =LOG10(L27*5/F27*1000) -> #NUM! | N27: =(J27*K27)/(D27*E27) -> #DIV/0! | P27: / | Q27: =1/(D27*E27*20) -> #DIV/0! | U27: day 3 | V27: =LOG10((10^MEDIAN(0,0,G37,G42,G47))/2070) -> 2.4722228
A28: day 5 | B28: 14 | C28: 9 | D28: =AVERAGE(B28:C28) -> 11.5 | E28: 10 | F28: =1901.9-1795.9 -> 106 | G28: =LOG10(D28*100*E28/F28*1000) -> 5.035392 | H28: 0 | I28: 0 | J28: =AVERAGE(H28:I28) -> 0 | K28: 1 | L28: 0 | M28: =LOG10(L28*5/F28*1000) -> #NUM! | N28: =(J28*K28)/(D28*E28) -> 0 | P28: =dose!P$6 -> 0.00048275862 | Q28: =1/(D28*E28*20) -> 0.00043478261 | U28: day 5 | V28: =LOG10((10^MEDIAN(G28,G33,G38,G43,G48))/2070) -> 3.8794493
A29: day 7 - caecum | B29: 10 | C29: 4 | D29: =AVERAGE(B29:C29) -> 7 | E29: 10000 | F29: =2888.2-1716.4 -> 1171.8 | G29: =LOG10(D29*100*E29/F29*1000) -> 6.7762445 | H29: 0 | I29: 0 | J29: =AVERAGE(H29:I29) -> 0 | K29: 1 | L29: 100 | M29: =LOG10(L29*5/F29*1000) -> 2.6301165 | N29: =(L29/20)/(D29*E29) -> 7.1428571e-05 | O29: =LOG10(N29/P29) -> -0.82985807 | P29: =dose!P$6 -> 0.00048275862 | Q29: =1/(D29*E29*20) -> 7.1428571e-07 | R29: =(L29*5)/((D29*E29*100)-(L29*5)) -> 7.1433674e-05 | S29: =R29/dose!$R$6 -> 0.14789832 | U29: caecum | V29: =LOG10((10^MEDIAN(G29,G34,G39,G44,G49))/2070) -> 4.1027249 | X29: BL048:BL048∆ANT2'' 0.048%
X30: mouse 1 | Z30: mouse 2 | AB30: mouse 3 | AD30: mouse 4 | AF30: mouse 5
A31: BL048:BL048 ANT2''∆ 1:1000 mouse 2 | B31: total number of CFU (not diluted) | D31: mean in 10 µL | E31: Dilution factor | F31: feces weights (mg) | G31: Total log10 CFU/g of feces | H31: BL048 only number of CFU (not diluted) | J31: mean in 10 µL | K31: Dilution factor | L31: Number in 200µL (no dilution) | M31: Log10 CFU/g feces (BL048 WT only) | N31: % WT / Total | X31: Expectations | Y31: % WT / Total | Z31: Expectations | AA31: % WT / Total | AB31: Expectations | AC31: % WT / Total | AD31: Expectations | AE31: % WT / Total | AF31: Expectations | AG31: % WT / Total
A32: day 3 | B32: 0 | C32: 0 | D32: =AVERAGE(B32:C32) -> 0 | E32: 1 | F32: =1878.6-1854.7 -> 23.9 | G32: =LOG10(D32*100*E32/F32*1000) -> #NUM! | H32: 0 | I32: 0 | J32: =AVERAGE(H32:I32) -> 0 | K32: 1 | L32: 0 | M32: =LOG10(L32*5/F32*1000) -> #NUM! | N32: =(J32*K32)/(D32*E32) -> #DIV/0! | P32: / | Q32: =1/(D32*E32*20) -> #DIV/0! | W32: Feces day 3 | X32: / | Y32: #DIV/0! | Z32: / | AA32: #DIV/0! | AB32: 0.00048275862 | AC32: 0 | AD32: 0.00048275862 | AE32: 0 | AF32: 0.00048275862 | AG32: 0.010714286
A33: day 5 | B33: 4 | C33: 5 | D33: =AVERAGE(B33:C33) -> 4.5 | E33: 1 | F33: =1907.4-1798.2 -> 109.2 | G33: =LOG10(D33*100*E33/F33*1000) -> 3.6149899 | H33: 0 | I33: 0 | J33: =AVERAGE(H33:I33) -> 0 | K33: 1 | L33: 0 | M33: =LOG10(L33*5/F33*1000) -> #NUM! | N33: =(J33*K33)/(D33*E33) -> 0 | P33: / | Q33: =1/(D33*E33*20) -> 0.011111111 | W33: Feces day 5 | X33: 0.00048275862 | Y33: 0 | Z33: / | AA33: 0 | AB33: 0.00048275862 | AC33: 0 | AD33: 0.00048275862 | AE33: 0 | AF33: 0.00048275862 | AG33: 0.006015625
A34: day 7 - caecum | B34: 26 | C34: 14 | D34: =AVERAGE(B34:C34) -> 20 | E34: 1 | F34: =2361-1575.4 -> 785.6 | G34: =LOG10(D34*100*E34/F34*1000) -> 3.4058285 | H34: 0 | I34: 0 | J34: =AVERAGE(H34:I34) -> 0 | K34: 1 | L34: 0 | M34: =LOG10(L34*5/F34*1000) -> #NUM! | N34: =(J34*K34)/(D34*E34) -> 0 | O34: =LOG10(N34/P34) -> #VALUE! | P34: / | Q34: =1/(D34*E34*20) -> 0.0025 | R34: =(L34*5)/((D34*E34*100)-(L34*5)) -> 0 | W34: Caecum day 7 | X34: 0.00048275862 | Y34: 7.1428571e-05 | Z34: / | AA34: 0 | AB34: 0.00048275862 | AC34: 7.2463768e-05 | AD34: 0.00048275862 | AE34: 3.75e-07 | AF34: 0.00048275862 | AG34: 0.011111111
A36: BL048:BL048 ANT2''∆ 1:1000 mouse 3 | B36: total number of CFU (not diluted) | D36: mean in 10 µL | E36: Dilution factor | F36: feces weights (mg) | G36: Total log10 CFU/g of feces | H36: BL048 only number of CFU (not diluted) | J36: mean in 10 µL | K36: Dilution factor | L36: Number in 200µL (no dilution) | M36: Log10 CFU/g feces (BL048 WT only) | N36: % WT / Total
A37: day 3 | B37: 30 | C37: 24 | D37: =AVERAGE(B37:C37) -> 27 | E37: 10 | F37: =1849.7-1827 -> 22.7 | G37: =LOG10(D37*100*E37/F37*1000) -> 6.0753379 | H37: 0 | I37: 0 | J37: =AVERAGE(H37:I37) -> 0 | K37: 1 | L37: 0 | M37: =LOG10(L37*5/F37*1000) -> #NUM! | N37: =(J37*K37)/(D37*E37) -> 0 | P37: =dose!P$6 -> 0.00048275862 | Q37: =1/(D37*E37*20) -> 0.00018518519
A38: day 5 | B38: 41 | C38: 44 | D38: =AVERAGE(B38:C38) -> 42.5 | E38: 100 | F38: =1876.3-1849.2 -> 27.1 | G38: =LOG10(D38*100*E38/F38*1000) -> 7.1954196 | H38: 0 | I38: 0 | J38: =AVERAGE(H38:I38) -> 0 | K38: 1 | L38: 0 | M38: =LOG10(L38*5/F38*1000) -> #NUM! | N38: =(J38*K38)/(D38*E38) -> 0 | P38: =dose!P$6 -> 0.00048275862 | Q38: =1/(D38*E38*20) -> 1.1764706e-05
A39: day 7 - caecum | B39: 34 | C39: 35 | D39: =AVERAGE(B39:C39) -> 34.5 | E39: 10000 | F39: =2934.9-1619.3 -> 1315.6 | G39: =LOG10(D39*100*E39/F39*1000) -> 7.4186952 | H39: 0 | I39: 0 | J39: =AVERAGE(H39:I39) -> 0 | K39: 1 | L39: 500 | M39: =LOG10(L39*5/F39*1000) -> 3.2788161 | N39: =(L39/20)/(D39*E39) -> 7.2463768e-05 | O39: =LOG10(N39/P39) -> -0.82360912 | P39: =dose!P$6 -> 0.00048275862 | Q39: =1/(D39*E39*20) -> 1.4492754e-07 | R39: =(L39*5)/((D39*E39*100)-(L39*5)) -> 7.2469019e-05 | S39: =R39/dose!$R$6 -> 0.15004193
A41: BL048:BL048 ANT2''∆ 1:1000 mouse 4 | B41: total number of CFU (not diluted) | D41: mean in 10 µL | E41: Dilution factor | F41: feces weights (mg) | G41: Total log10 CFU/g of feces | H41: BL048 only number of CFU (not diluted) | J41: mean in 10 µL | K41: Dilution factor | L41: Number in 200µL (no dilution) | M41: Log10 CFU/g feces (BL048 WT only) | N41: % WT / Total
A42: day 3 | B42: 16 | C42: 18 | D42: =AVERAGE(B42:C42) -> 17 | E42: 100 | F42: =1823.6-1809.1 -> 14.5 | G42: =LOG10(D42*100*E42/F42*1000) -> 7.0690809 | H42: 0 | I42: 0 | J42: =AVERAGE(H42:I42) -> 0 | K42: 1 | L42: 0 | M42: =LOG10(L42*5/F42*1000) -> #NUM! | N42: =(J42*K42)/(D42*E42) -> 0 | P42: =dose!P$6 -> 0.00048275862 | Q42: =1/(D42*E42*20) -> 2.9411765e-05
A43: day 5 | B43: 96 | C43: 95 | D43: =AVERAGE(B43:C43) -> 95.5 | E43: 1000 | F43: =1894.4-1866.6 -> 27.8 | G43: =LOG10(D43*100*E43/F43*1000) -> 8.5359586 | H43: 0 | I43: 0 | J43: =AVERAGE(H43:I43) -> 0 | K43: 1 | L43: 0 | M43: =LOG10(L43*5/F43*1000) -> #NUM! | N43: =(J43*K43)/(D43*E43) -> 0 | P43: =dose!P$6 -> 0.00048275862 | Q43: =1/(D43*E43*20) -> 5.2356021e-07
A44: day 7 - caecum | B44: 4 | C44: 4 | D44: =AVERAGE(B44:C44) -> 4 | E44: 1000000 | F44: =3373.1-1764.1 -> 1609 | G44: =LOG10(D44*100*E44/F44*1000) -> 8.3955039 | H44: 0 | I44: 0 | J44: =AVERAGE(H44:I44) -> 0 | K44: 1 | L44: 30 | M44: =LOG10(L44*5/F44*1000) -> 1.9695352 | N44: =(L44/20)/(D44*E44) -> 3.75e-07 | O44: =LOG10(N44/P44) -> -3.1096988 | P44: =dose!P$6 -> 0.00048275862 | Q44: =1/(D44*E44*20) -> 1.25e-08 | R44: =(L44*5)/((D44*E44*100)-(L44*5)) -> 3.7500014e-07 | S44: =R44/dose!$R$6 -> 0.00077641101
A46: BL048:BL048 ANT2''∆ 1:1000 mouse 5 | B46: total number of CFU (not diluted) | D46: mean in 10 µL | E46: Dilution factor | F46: feces weights (mg) | G46: Total log10 CFU/g of feces | H46: BL048 only number of CFU (not diluted) | J46: mean in 10 µL | K46: Dilution factor | L46: Number in 200µL (no dilution) | M46: Log10 CFU/g feces (BL048 WT only) | N46: % WT / Total
...
