Workbook

Sheet dose
J1: Colony Count | K1: Dilution Factor | L1: CFUs/50uL | M1: Average CFUs | N1: Log CFUs | O1: Ratio input (LacZ/WT) | Q1: OD reached
H2: BL004 vs BL012 LacZ | I2: BL004 - VBMXgal80 plates (white) | J2: 1 | K2: 10000 | L2: =J2*5*K2 -> 50000 | M2: =AVERAGE(L2:L4) -> 83333.333 | N2: =LOG10(M2) -> 4.9208188 | Q2: 0.341
J3: 2 | K3: 10000 | L3: =J3*5*K3 -> 100000
J4: 2 | K4: 10000 | L4: =J4*5*K4 -> 100000
I5: BL012LacZ - VBMXgal80 plates (blue) | J5: 11 | K5: 10000 | L5: =J5*5*K5 -> 550000 | M5: =AVERAGE(L5:L7) -> 566666.67 | N5: =LOG10(M5) -> 5.7533277 | Q5: 0.32
J6: 14 | K6: 10000 | L6: =J6*5*K6 -> 700000
J7: 9 | K7: 10000 | L7: =J7*5*K7 -> 450000
I8: TOTAL | J8: =J2+J5 -> 12 | K8: 10000 | L8: =J8*5*K8 -> 600000 | M8: =AVERAGE(L8:L10) -> 650000 | N8: =LOG10(M8) -> 5.8129134 | O8: =M5/M2 -> 6.8
J9: =J3+J6 -> 16 | K9: 10000 | L9: =J9*5*K9 -> 800000
J10: =J4+J7 -> 11 | K10: 10000 | L10: =J10*5*K10 -> 550000
H11: BL048 vs BL012 LacZ | I11: BL048 - VBMXgal80 plates (white) | J11: 5 | K11: 10000 | L11: =J11*5*K11 -> 250000 | M11: =AVERAGE(L11:L13) -> 183333.33 | N11: =LOG10(M11) -> 5.2632414 | Q11: 0.344
J12: 5 | K12: 10000 | L12: =J12*5*K12 -> 250000
J13: 1 | K13: 10000 | L13: =J13*5*K13 -> 50000
I14: BL012LacZ - VBMXgal80 plates (blue) | J14: 10 | K14: 10000 | L14: =J14*5*K14 -> 500000 | M14: =AVERAGE(L14:L16) -> 533333.33 | N14: =LOG10(M14) -> 5.7269987 | Q14: 0.32
J15: 14 | K15: 10000 | L15: =J15*5*K15 -> 700000
J16: 8 | K16: 10000 | L16: =J16*5*K16 -> 400000 | P16: WT/LacZ
I17: TOTAL | J17: =J11+J14 -> 15 | K17: 10000 | L17: =J17*5*K17 -> 750000 | M17: =AVERAGE(L17:L19) -> 716666.67 | N17: =LOG10(M17) -> 5.8553172 | O17: =M14/M11 -> 2.9090909 | P17: =M11/M14 -> 0.34375
J18: =J12+J15 -> 19 | K18: 10000 | L18: =J18*5*K18 -> 950000
J19: =J13+J16 -> 9 | K19: 10000 | L19: =J19*5*K19 -> 450000
J22: Log CFUs | K22: Ratio input (LacZ/WT)
H23: BL004 vs BL012 LacZ | I23: BL004 - VBMXgal80 plates (white) | J23: 4.9208188
I24: BL012LacZ - VBMXgal80 plates (blue) | J24: 5.7533277
I25: TOTAL | J25: 5.8129134 | K25: 6.8
H26: BL048 vs BL012 LacZ | I26: BL048 - VBMXgal80 plates (white) | J26: 5.2632414
I27: BL012LacZ - VBMXgal80 plates (blue) | J27: 5.7269987
I28: TOTAL | J28: 5.8553172 | K28: 2.9090909

Sheet feces pos ttmnt - PA
A1: BL004:BL012 LacZ mouse 1 input ratio: 6.8 | B1: number of blue CFU (BL012 LacZ) | D1: mean in 10 µL | E1: Dilution factor | F1: feces weights (mg) | G1: Log10 CFU/g of feces | H1: number of white CFU (BL004) in 100µL | I1: Estimate in 10µL | J1: Output LacZ/WT | K1: Compet index
A2: day 3 | B2: 7 | C2: 14 | D2: =AVERAGE(B2:C2) -> 10.5 | E2: 1000 | F2: =1812.1-1789.9 -> 22.2 | G2: =LOG10(D2*100*E2/F2*1000) -> 7.6748363 | J2: =(D2*E2)/I2 -> #DIV/0! | K2: =J2/dose!$O$8 -> #DIV/0!
A3: day 5 | D3: =AVERAGE(B3:C3) -> #DIV/0! | G3: =LOG10(D3*100*E3/F3*1000) -> #DIV/0! | J3: =(D3*E3)/I3 -> #DIV/0! | K3: =J3/dose!$O$8 -> #DIV/0!
A4: day 7 | B4: 42 | C4: 42 | D4: =AVERAGE(B4:C4) -> 42 | E4: 1000 | F4: =1706.7-1683.4 -> 23.3 | G4: =LOG10(D4*100*E4/F4*1000) -> 8.2558934 | I4: =H4/10 -> 0 | J4: =(D4*E4)/I4 -> #DIV/0! | K4: =J4/dose!$O$8 -> #DIV/0!
A5: day 10 | B5: 10 | D5: =AVERAGE(B5:C5) -> 10 | E5: 1000 | F5: =1713.7-1666.1 -> 47.6 | G5: =LOG10(D5*100*E5/F5*1000) -> 7.322393 | H5: 0 | I5: =H5/10 -> 0 | J5: =(D5*E5)/I5 -> #DIV/0! | K5: =J5/dose!$O$8 -> #DIV/0!
A6: day 14 | D6: =AVERAGE(B6:C6) -> #DIV/0! | G6: =LOG10(D6*100*E6/F6*1000) -> #DIV/0! | J6: =(D6*E6)/I6 -> #DIV/0! | K6: =J6/dose!$O$8 -> #DIV/0!
A8: BL004:BL012 LacZ mouse 2 input ratio: 6.8 | B8: number of blue CFU (BL012 LacZ) | D8: mean in 10 µL | E8: Dilution factor | F8: feces weights (mg) | G8: Log10 CFU/g of feces | H8: number of white CFU (BL004) in 100µL | I8: Estimate in 10µL | J8: Output LacZ/WT | K8: Compet index
A9: day 3 | B9: 27 | C9: 27 | D9: =AVERAGE(B9:C9) -> 27 | E9: 1000 | F9: =1652.6-1632.5 -> 20.1 | G9: =LOG10(D9*100*E9/F9*1000) -> 8.1281677 | J9: =(D9*E9)/I9 -> #DIV/0! | K9: =J9/dose!$O$8 -> #DIV/0!
A10: day 5 | D10: =AVERAGE(B10:C10) -> #DIV/0! | G10: =LOG10(D10*100*E10/F10*1000) -> #DIV/0! | J10: =(D10*E10)/I10 -> #DIV/0! | K10: =J10/dose!$O$8 -> #DIV/0!
A11: day 7 | B11: 9 | C11: 7 | D11: =AVERAGE(B11:C11) -> 8 | E11: 10000 | F11: =1706.7-1683.4 -> 23.3 | G11: =LOG10(D11*100*E11/F11*1000) -> 8.5357341 | I11: =H11/10 -> 0 | J11: =(D11*E11)/I11 -> #DIV/0! | K11: =J11/dose!$O$8 -> #DIV/0!
A12: day 10 | B12: 10 | D12: =AVERAGE(B12:C12) -> 10 | E12: 1000 | F12: =1726.5-1628.1 -> 98.4 | G12: =LOG10(D12*100*E12/F12*1000) -> 7.0070049 | H12: 0 | I12: =H12/10 -> 0 | J12: =(D12*E12)/I12 -> #DIV/0! | K12: =J12/dose!$O$8 -> #DIV/0!
A13: day 14 | D13: =AVERAGE(B13:C13) -> #DIV/0! | G13: =LOG10(D13*100*E13/F13*1000) -> #DIV/0! | J13: =(D13*E13)/I13 -> #DIV/0! | K13: =J13/dose!$O$8 -> #DIV/0!
A15: BL004:BL012 LacZ mouse 3 input ratio: 6.8 | B15: number of blue CFU (BL012 LacZ) | D15: mean in 10 µL | E15: Dilution factor | F15: feces weights (mg) | G15: Log10 CFU/g of feces | H15: number of white CFU (BL004) in 100µL | I15: Estimate in 10µL | J15: Output LacZ/WT | K15: Compet index
A16: day 3 | B16: 16 | C16: 16 | D16: =AVERAGE(B16:C16) -> 16 | E16: 1000 | F16: =1735-1717.7 -> 17.3 | G16: =LOG10(D16*100*E16/F16*1000) -> 7.9660739 | J16: =(D16*E16)/I16 -> #DIV/0! | K16: =J16/dose!$O$8 -> #DIV/0!
A17: day 5 | D17: =AVERAGE(B17:C17) -> #DIV/0! | G17: =LOG10(D17*100*E17/F17*1000) -> #DIV/0! | J17: =(D17*E17)/I17 -> #DIV/0! | K17: =J17/dose!$O$8 -> #DIV/0!
A18: day 7 | B18: 34 | C18: 27 | D18: =AVERAGE(B18:C18) -> 30.5 | E18: 10000 | F18: =1730.8-1706.5 -> 24.3 | G18: =LOG10(D18*100*E18/F18*1000) -> 9.0986936 | I18: =H18/10 -> 0 | J18: =(D18*E18)/I18 -> #DIV/0! | K18: =J18/dose!$O$8 -> #DIV/0!
A19: day 10 | B19: 9 | D19: =AVERAGE(B19:C19) -> 9 | E19: 10000 | F19: =1752.7-1695 -> 57.7 | G19: =LOG10(D19*100*E19/F19*1000) -> 8.1930667 | H19: 0 | I19: =H19/10 -> 0 | J19: =(D19*E19)/I19 -> #DIV/0! | K19: =J19/dose!$O$8 -> #DIV/0!
A20: day 14 | D20: =AVERAGE(B20:C20) -> #DIV/0! | G20: =LOG10(D20*100*E20/F20*1000) -> #DIV/0! | J20: =(D20*E20)/I20 -> #DIV/0! | K20: =J20/dose!$O$8 -> #DIV/0!
A22: BL004:BL012 LacZ mouse 4 input ratio: 6.8 | B22: number of blue CFU (BL012 LacZ) | D22: mean in 10 µL | E22: Dilution factor | F22: feces weights (mg) | G22: Log10 CFU/g of feces | H22: number of white CFU (BL004) in 100µL | I22: Estimate in 10µL | J22: Output LacZ/WT | K22: Compet index
A23: day 3 | B23: 40 | C23: 39 | D23: =AVERAGE(B23:C23) -> 39.5 | E23: 100 | F23: =1743.5-1717.9 -> 25.6 | G23: =LOG10(D23*100*E23/F23*1000) -> 7.1883571 | J23: =(D23*E23)/I23 -> #DIV/0! | K23: =J23/dose!$O$8 -> #DIV/0!
A24: day 5 | D24: =AVERAGE(B24:C24) -> #DIV/0! | G24: =LOG10(D24*100*E24/F24*1000) -> #DIV/0! | J24: =(D24*E24)/I24 -> #DIV/0! | K24: =J24/dose!$O$8 -> #DIV/0!
A25: day 7 | B25: 11 | C25: 13 | D25: =AVERAGE(B25:C25) -> 12 | E25: 1000 | F25: =1709.7-1700.5 -> 9.2 | G25: =LOG10(D25*100*E25/F25*1000) -> 8.1153934 | I25: =H25/10 -> 0 | J25: =(D25*E25)/I25 -> #DIV/0! | K25: =J25/dose!$O$8 -> #DIV/0!
A26: day 10 | B26: 27 | D26: =AVERAGE(B26:C26) -> 27 | E26: 1000 | G26: =LOG10(D26*100*E26/F26*1000) -> #DIV/0! | H26: 0 | I26: =H26/10 -> 0 | J26: =(D26*E26)/I26 -> #DIV/0! | K26: =J26/dose!$O$8 -> #DIV/0!
A27: day 14 | D27: =AVERAGE(B27:C27) -> #DIV/0! | G27: =LOG10(D27*100*E27/F27*1000) -> #DIV/0! | J27: =(D27*E27)/I27 -> #DIV/0! | K27: =J27/dose!$O$8 -> #DIV/0!
A29: BL004:BL012 LacZ mouse 5 input ratio: 6.8 | B29: number of blue CFU (BL012 LacZ) | D29: mean in 10 µL | E29: Dilution factor | F29: feces weights (mg) | G29: Log10 CFU/g of feces | H29: number of white CFU (BL004) in 100µL | I29: Estimate in 10µL | J29: Output LacZ/WT | K29: Compet index
A30: day 3 | B30: 12 | C30: 11 | D30: =AVERAGE(B30:C30) -> 11.5 | E30: 1000 | F30: =1710.3-1703.2 -> 7.1 | G30: =LOG10(D30*100*E30/F30*1000) -> 8.2094395 | J30: =(D30*E30)/I30 -> #DIV/0! | K30: =J30/dose!$O$8 -> #DIV/0!
A31: day 5 | D31: =AVERAGE(B31:C31) -> #DIV/0! | G31: =LOG10(D31*100*E31/F31*1000) -> #DIV/0! | J31: =(D31*E31)/I31 -> #DIV/0! | K31: =J31/dose!$O$8 -> #DIV/0!
A32: day 7 | B32: 21 | C32: 28 | D32: =AVERAGE(B32:C32) -> 24.5 | E32: 10000 | F32: =1709.8-1691.6 -> 18.2 | G32: =LOG10(D32*100*E32/F32*1000) -> 9.1290947 | I32: =H32/10 -> 0 | J32: =(D32*E32)/I32 -> #DIV/0! | K32: =J32/dose!$O$8 -> #DIV/0!
A33: day 10 | B33: 46 | D33: =AVERAGE(B33:C33) -> 46 | E33: 1000 | F33: =1741.7-1692.7 -> 49 | G33: =LOG10(D33*100*E33/F33*1000) -> 7.9725618 | H33: 0 | I33: =H33/10 -> 0 | J33: =(D33*E33)/I33 -> #DIV/0! | K33: =J33/dose!$O$8 -> #DIV/0!
A34: day 14 | D34: =AVERAGE(B34:C34) -> #DIV/0! | G34: =LOG10(D34*100*E34/F34*1000) -> #DIV/0! | J34: =(D34*E34)/I34 -> #DIV/0! | K34: =J34/dose!$O$8 -> #DIV/0!
A36: BL048:BL012 LacZ mouse 1 input ratio: 2.9 | B36: number of blue CFU (BL012 LacZ) | D36: mean in 10 µL | E36: Dilution factor | F36: feces weights (mg) | G36: Log10 CFU/g of feces | H36: number of white CFU (BL048) in 100µL | I36: Estimate in 10µL | J36: Output LacZ/WT | K36: Compet index | M36: Output WT/LacZ | N36: Compet index WT/LacZ
A37: day 3 | B37: 4 | C37: 8 | D37: =AVERAGE(B37:C37) -> 6 | E37: 10000 | F37: =1669.9-1657.6 -> 12.3 | G37: =LOG10(D37*100*E37/F37*1000) -> 8.6882461 | J37: =(D37*E37)/I37 -> #DIV/0! | K37: =J37/dose!$O$17 -> #DIV/0!
A38: day 5 | B38: 46 | C38: 45 | D38: =AVERAGE(B38:C38) -> 45.5 | E38: 1000 | F38: =1678.7-1660.2 -> 18.5 | G38: =LOG10(D38*100*E38/F38*1000) -> 8.3908397 | I38: 7 | J38: =(D38*E38)/I38 -> 6500 | K38: =J38/dose!$O$17 -> 2234.375 | M38: =I38/(D38*E38) -> 0.00015384615 | N38: =M38/dose!$P$17 -> 0.00044755245
A39: day 7 | B39: 51 | C39: 50 | D39: =AVERAGE(B39:C39) -> 50.5 | E39: 1000 | F39: =1818-1806 -> 12 | G39: =LOG10(D39*100*E39/F39*1000) -> 8.6241101 | I39: 2 | J39: =(D39*E39)/I39 -> 25250 | K39: =J39/dose!$O$17 -> 8679.6875 | M39: =I39/(D39*E39) -> 3.960396e-05 | N39: =M39/dose!$P$17 -> 0.00011521152
A40: day 10 | B40: 48 | D40: =AVERAGE(B40:C40) -> 48 | E40: 1000 | F40: =1744.5-1718.8 -> 25.7 | G40: =LOG10(D40*100*E40/F40*1000) -> 8.2713081 | H40: 9 | I40: =H40/10 -> 0.9 | J40: =(D40*E40)/I40 -> 53333.333 | K40: =J40/dose!$O$17 -> 18333.333 | M40: =I40/(D40*E40) -> 1.875e-05 | N40: =M40/dose!$P$17 -> 5.4545455e-05
A41: day 14 | B41: 44 | D41: =AVERAGE(B41:C41) -> 44 | E41: 100 | F41: =1657.5-1622.8 -> 34.7 | G41: =LOG10(D41*100*E41/F41*1000) -> 7.1031232 | H41: 0 | I41: =H41/10 -> 0 | J41: =(D41*E41)/I41 -> #DIV/0! | K41: =J41/dose!$O$17 -> #DIV/0! | M41: =I41/(D41*E41) -> 0 | N41: =M41/dose!$P$17 -> 0
A43: BL048:BL012 LacZ mouse 2 input ratio: 2.9 | B43: number of blue CFU (BL012 LacZ) | D43: mean in 10 µL | E43: Dilution factor | F43: feces weights (mg) | G43: Log10 CFU/g of feces | H43: number of white CFU (BL048) in 100µL | I43: Estimate in 10µL | J43: Output LacZ/WT | K43: Compet index
A44: day 3 | B44: 11 | C44: 13 | D44: =AVERAGE(B44:C44) -> 12 | E44: 1000 | F44: =1728.1-1705 -> 23.1 | G44: =LOG10(D44*100*E44/F44*1000) -> 7.7155693 | J44: =(D44*E44)/I44 -> #DIV/0! | K44: =J44/dose!$O$17 -> #DIV/0!
A45: day 5 | B45: 22 | C45: 11 | D45: =AVERAGE(B45:C45) -> 16.5 | E45: 10000 | F45: =1799.1-1738.4 -> 60.7 | G45: =LOG10(D45*100*E45/F45*1000) -> 8.4342953 | I45: 47 | J45: =(D45*E45)/I45 -> 3510.6383 | K45: =J45/dose!$O$17 -> 1206.7819 | M45: =I45/(D45*E45) -> 0.00028484848 | N45: =M45/dose!$P$17 -> 0.00082865014
A46: day 7 | B46: 42 | C46: 40 | D46: =AVERAGE(B46:C46) -> 41 | E46: 1000 | F46: =1750-1683.9 -> 66.1 | G46: =LOG10(D46*100*E46/F46*1000) -> 7.7925824 | I46: 9 | J46: =(D46*E46)/I46 -> 4555.5556 | K46: =J46/dose!$O$17 -> 1565.9722 | M46: =I46/(D46*E46) -> 0.0002195122 | N46: =M46/dose!$P$17 -> 0.00063858093
...
