Workbook

Sheet dose
J1: Colony Count | K1: Dilution Factor | L1: CFUs/50uL | M1: Average CFUs | N1: Log CFUs | O1: Ratio input (WT/gentR) | Q1: OD reached
H2: 1:100 BL012 gentR:WT | I2: BL012 gentR (VBM gent10) | J2: 70 | K2: 10 | L2: =J2*5*K2 -> 3500 | M2: =AVERAGE(L2:L4) -> 3750 | N2: =LOG10(M2) -> 3.5740313 | Q2: 0.311
J3: 74 | K3: 10 | L3: =J3*5*K3 -> 3700
J4: 81 | K4: 10 | L4: =J4*5*K4 -> 4050
I5: BL012 WT (VBM - VBMgent10) | L5: =J5*5*K5 -> 0 | M5: =M6-M2 -> 419583.33 | N5: =LOG10(M5) -> 5.6228182 | Q5: 0.323
I6: TOTAL (VBM) | J6: 84 | K6: 1000 | L6: =J6*5*K6 -> 420000 | M6: =AVERAGE(L6:L8) -> 423333.33 | N6: =LOG10(M6) -> 5.6266825 | O6: =M5/M2 -> 111.88889
J7: 82 | K7: 1000 | L7: =J7*5*K7 -> 410000
J8: 88 | K8: 1000 | L8: =J8*5*K8 -> 440000
H9: 1:1,000 BL012 gentR:WT | I9: BL012 gentR (VBM gent10) | J9: 81 | K9: 1 | L9: =J9*5*K9 -> 405 | M9: =AVERAGE(L9:L11) -> 391.66667 | N9: =LOG10(M9) -> 2.5929166
J10: 75 | K10: 1 | L10: =J10*5*K10 -> 375
J11: 79 | K11: 1 | L11: =J11*5*K11 -> 395
I12: BL012 WT (VBM - VBMgent10) | L12: =J12*5*K12 -> 0 | M12: =M13-M9 -> 451275 | N12: =LOG10(M12) -> 5.6544413
I13: TOTAL (VBM) | J13: 102 | K13: 1000 | L13: =J13*5*K13 -> 510000 | M13: =AVERAGE(L13:L15) -> 451666.67 | N13: =LOG10(M13) -> 5.654818 | O13: =M12/M9 -> 1152.1915
J14: 81 | K14: 1000 | L14: =J14*5*K14 -> 405000
J15: 88 | K15: 1000 | L15: =J15*5*K15 -> 440000
H16: 1:10,000 BL012 gentR:WT | I16: BL012 gentR (VBM gent10) | L16: =109/2 -> 54.5 | M16: =AVERAGE(L16:L16) -> 54.5 | N16: =LOG10(M16) -> 1.7363965
I17: BL012 WT (VBM - VBMgent10) | L17: =J17*5*K17 -> 0 | M17: =M18-M16 -> 443278.83 | N17: =LOG10(M17) -> 5.646677
I18: TOTAL (VBM) | J18: 91 | K18: 1000 | L18: =J18*5*K18 -> 455000 | M18: =AVERAGE(L18:L20) -> 443333.33 | N18: =LOG10(M18) -> 5.6467304 | O18: =M17/M16 -> 8133.5566
J19: 98 | K19: 1000 | L19: =J19*5*K19 -> 490000
J20: 77 | K20: 1000 | L20: =J20*5*K20 -> 385000
J24: Log CFUs | K24: Ratio input (WT/gentR)
H25: 1:100 BL012 gentR:WT | I25: BL012 gentR (VBM gent10) | J25: 3.6
I28: BL012 WT (VBM - VBMgent10) | J28: 5.6
I29: TOTAL (VBM) | J29: 5.6 | K29: =O6 -> 111.88889
H32: 1:1,000 BL012 gentR:WT | I32: BL012 gentR (VBM gent10) | J32: 2.6
I35: BL012 WT (VBM - VBMgent10) | J35: 5.7
I36: TOTAL (VBM) | J36: 5.7 | K36: =O13 -> 1152.1915
H39: 1:10,000 BL012 gentR:WT | I39: BL012 gentR (VBM gent10) | J39: 1.7
I42: BL012 WT (VBM - VBMgent10) | J42: 5.6
I43: TOTAL (VBM) | J43: 5.6 | K43: =O18 -> 8133.5566

Sheet feces pos ttmnt - PA
A1: 1:100 BL012GentR:BL012 WT mouse 1 | B1: total number of bacteria (VBM plates) | D1: mean in 10 µL | E1: Dilution factor | F1: feces weights (mg) | G1: Log10 CFU/g of feces | H1: number of CFU BL012gentR only | J1: Estimate in BL012 gentR in 10µL | K1: Estimate in BL012 WT in 10µL | L1: Output WT/gentR | M1: Compet index
A2: day 1 | B2: 73 | C2: 79 | D2: =AVERAGE(B2:C2) -> 76 | E2: 100 | F2: =1754.6-1723.8 -> 30.8 | G2: =LOG10(D2*100*E2/F2*1000) -> 7.3922629 | H2: 1 | I2: 0 | J2: =AVERAGE(H2:I2) -> 0.5 | K2: =D2*E2-J2 -> 7599.5 | L2: =K2/J2 -> 15199 | M2: =L2/dose!K29 -> 135.84012
A3: day 2 | B3: 51 | C3: 56 | D3: =AVERAGE(B3:C3) -> 53.5 | E3: 1000 | F3: =1851.5-1745.8 -> 105.7 | G3: =LOG10(D3*100*E3/F3*1000) -> 7.7042788 | J3: 0 | K3: =D3*E3-J3 -> 53500 | L3: =(D3*E3)/J3 -> #DIV/0! | M3: =L3/dose!$O$6 -> #DIV/0!
A4: day 3 | B4: 6 | C4: 14 | D4: =AVERAGE(B4:C4) -> 10 | E4: 10000 | F4: =1708.3 -> 1708.3 | G4: =LOG10(D4*100*E4/F4*1000) -> 6.7674359 | J4: 0 | K4: =D4*E4-J4 -> 100000 | L4: =(D4*E4)/J4 -> #DIV/0! | M4: =L4/dose!$O$6 -> #DIV/0!
A6: 1:100 BL012GentR:BL012 WT mouse 2 | B6: total number of bacteria (VBM plates) | D6: mean in 10 µL | E6: Dilution factor | F6: feces weights (mg) | G6: Log10 CFU/g of feces | H6: number of CFU BL012gentR only | J6: Estimate in BL012 gentR in 10µL | K6: Estimate in BL012 WT in 10µL | L6: Output WT/gentR | M6: Compet index
A7: day 1 | B7: 0 | D7: =AVERAGE(B7:C7) -> 0 | E7: 1 | F7: =1731.1-1712.3 -> 18.8 | G7: =LOG10(D7*100*E7/F7*1000) -> #NUM! | H7: 0 | J7: =H7/10 -> 0 | K7: =D7*E7-J7 -> 0 | L7: =K7/J7 -> #DIV/0! | M7: =L7/dose!K34 -> #DIV/0!
A8: day 2 | B8: 0 | D8: =AVERAGE(B8:C8) -> 0 | E8: 1 | F8: =1728.2-1686.1 -> 42.1 | G8: =LOG10(D8*100*E8/F8*1000) -> #NUM! | J8: 0 | K8: =D8*E8-J8 -> 0 | L8: =(D8*E8)/J8 -> #DIV/0! | M8: =L8/dose!$O$6 -> #DIV/0!
A9: day 3 | B9: 7 | C9: 15 | D9: =AVERAGE(B9:C9) -> 11 | E9: 10 | F9: =1700.4-1684.8 -> 15.6 | G9: =LOG10(D9*100*E9/F9*1000) -> 5.8482681 | J9: 0 | K9: =D9*E9-J9 -> 110 | L9: =(D9*E9)/J9 -> #DIV/0! | M9: =L9/dose!$O$6 -> #DIV/0!
A11: 1:100 BL012GentR:BL012 WT mouse 3 | B11: total number of bacteria (VBM plates) | D11: mean in 10 µL | E11: Dilution factor | F11: feces weights (mg) | G11: Log10 CFU/g of feces | H11: number of CFU BL012gentR only | J11: Estimate in BL012 gentR in 10µL | K11: Estimate in BL012 WT in 10µL | L11: Output WT/gentR | M11: Compet index
A12: day 1 | D12: =AVERAGE(B12:C12) -> #DIV/0! | G12: =LOG10(D12*100*E12/F12*1000) -> #DIV/0! | K12: =D12*E12-J12 -> #DIV/0! | L12: =K12/J12 -> #DIV/0! | M12: =L12/dose!K39 -> #DIV/0!
A13: day 2 | D13: =AVERAGE(B13:C13) -> #DIV/0! | G13: =LOG10(D13*100*E13/F13*1000) -> #DIV/0! | K13: =D13*E13-J13 -> #DIV/0! | L13: =(D13*E13)/J13 -> #DIV/0! | M13: =L13/dose!$O$6 -> #DIV/0!
A14: day 3 | D14: =AVERAGE(B14:C14) -> #DIV/0! | G14: =LOG10(D14*100*E14/F14*1000) -> #DIV/0! | K14: =D14*E14-J14 -> #DIV/0! | L14: =(D14*E14)/J14 -> #DIV/0! | M14: =L14/dose!$O$6 -> #DIV/0!
A16: 1:1,000 BL012GentR:BL012 WT mouse 1 | B16: total number of bacteria (VBM plates) | D16: mean in 10 µL | E16: Dilution factor | F16: feces weights (mg) | G16: Log10 CFU/g of feces | H16: number of CFU BL012gentR only | J16: Estimate in BL012 gentR in 10µL | K16: Estimate in BL012 WT in 10µL | L16: Output WT/gentR | M16: Compet index
A17: day 1 | B17: 16 | C17: 20 | D17: =AVERAGE(B17:C17) -> 18 | E17: 10000 | F17: =1674.6-1604.3 -> 70.3 | G17: =LOG10(D17*100*E17/F17*1000) -> 8.4083172 | H17: 0 | J17: =H17/10 -> 0 | K17: =D17*E17-J17 -> 180000 | L17: =K17/J17 -> #DIV/0! | M17: =L17/dose!K44 -> #DIV/0!
A18: day 2 | B18: 58 | C18: 59 | D18: =AVERAGE(B18:C18) -> 58.5 | E18: 1000 | F18: =1760.4-1741.2 -> 19.2 | G18: =LOG10(D18*100*E18/F18*1000) -> 8.4838546 | J18: 0 | K18: =D18*E18-J18 -> 58500 | L18: =(D18*E18)/J18 -> #DIV/0! | M18: =L18/dose!$O$6 -> #DIV/0!
A19: day 3 | B19: 43 | C19: 38 | D19: =AVERAGE(B19:C19) -> 40.5 | E19: 1000 | F19: =1760.5-1738.4 -> 22.1 | G19: =LOG10(D19*100*E19/F19*1000) -> 8.2630627 | J19: 0 | K19: =D19*E19-J19 -> 40500 | L19: =(D19*E19)/J19 -> #DIV/0! | M19: =L19/dose!$O$6 -> #DIV/0!
A21: 1:1,000 BL012GentR:BL012 WT mouse 2 | B21: total number of bacteria (VBM plates) | D21: mean in 10 µL | E21: Dilution factor | F21: feces weights (mg) | G21: Log10 CFU/g of feces | H21: number of CFU BL012gentR only | J21: Estimate in BL012 gentR in 10µL | K21: Estimate in BL012 WT in 10µL | L21: Output WT/gentR | M21: Compet index
A22: day 1 | B22: 25 | C22: 26 | D22: =AVERAGE(B22:C22) -> 25.5 | E22: 1000 | F22: =1888.4-1813.5 -> 74.9 | G22: =LOG10(D22*100*E22/F22*1000) -> 7.5320584 | H22: 0 | J22: =H22/10 -> 0 | K22: =D22*E22-J22 -> 25500 | L22: =K22/J22 -> #DIV/0! | M22: =L22/dose!K49 -> #DIV/0!
A23: day 2 | B23: 16 | C23: 15 | D23: =AVERAGE(B23:C23) -> 15.5 | E23: 10000 | F23: =1801-1733.9 -> 67.1 | G23: =LOG10(D23*100*E23/F23*1000) -> 8.3636092 | J23: 0 | K23: =D23*E23-J23 -> 155000 | L23: =(D23*E23)/J23 -> #DIV/0! | M23: =L23/dose!$O$6 -> #DIV/0!
A24: day 3 | B24: 35 | C24: 24 | D24: =AVERAGE(B24:C24) -> 29.5 | E24: 10000 | F24: =1694.2-1660.1 -> 34.1 | G24: =LOG10(D24*100*E24/F24*1000) -> 8.9370676 | J24: 0 | K24: =D24*E24-J24 -> 295000 | L24: =(D24*E24)/J24 -> #DIV/0! | M24: =L24/dose!$O$6 -> #DIV/0!
A26: 1:100 BL012GentR:BL012 WT mouse 3 | B26: total number of bacteria (VBM plates) | D26: mean in 10 µL | E26: Dilution factor | F26: feces weights (mg) | G26: Log10 CFU/g of feces | H26: number of CFU BL012gentR only | J26: Estimate in BL012 gentR in 10µL | K26: Estimate in BL012 WT in 10µL | L26: Output WT/gentR | M26: Compet index
A27: day 1 - didn't poop | D27: =AVERAGE(B27:C27) -> #DIV/0! | G27: =LOG10(D27*100*E27/F27*1000) -> #DIV/0! | H27: 0 | J27: =H27/10 -> 0 | K27: =D27*E27-J27 -> #DIV/0! | L27: =K27/J27 -> #DIV/0! | M27: =L27/dose!K54 -> #DIV/0!
A28: day 2 | B28: 48 | C28: 40 | D28: =AVERAGE(B28:C28) -> 44 | E28: 100 | F28: =1782.5-1734.1 -> 48.4 | G28: =LOG10(D28*100*E28/F28*1000) -> 6.9586073 | J28: 0 | K28: =D28*E28-J28 -> 4400 | L28: =(D28*E28)/J28 -> #DIV/0! | M28: =L28/dose!$O$6 -> #DIV/0!
A29: day 3 | B29: 39 | C29: 27 | D29: =AVERAGE(B29:C29) -> 33 | E29: 1000 | F29: =1760.3-1738.1 -> 22.2 | G29: =LOG10(D29*100*E29/F29*1000) -> 8.172161 | J29: 0 | K29: =D29*E29-J29 -> 33000 | L29: =(D29*E29)/J29 -> #DIV/0! | M29: =L29/dose!$O$6 -> #DIV/0!
A31: 1:10,000 BL012GentR:BL012 WT mouse 1 | B31: total number of bacteria (VBM plates) | D31: mean in 10 µL | E31: Dilution factor | F31: feces weights (mg) | G31: Log10 CFU/g of feces | H31: number of CFU BL012gentR only | J31: Estimate in BL012 gentR in 10µL | K31: Estimate in BL012 WT in 10µL | L31: Output WT/gentR | M31: Compet index
A32: day 1 | B32: 29 | C32: 19 | D32: =AVERAGE(B32:C32) -> 24 | E32: 1000 | F32: =1797.6-1756.9 -> 40.7 | G32: =LOG10(D32*100*E32/F32*1000) -> 7.7706168 | H32: 0 | J32: =H32/10 -> 0 | K32: =D32*E32-J32 -> 24000 | L32: =K32/J32 -> #DIV/0! | M32: =L32/dose!K59 -> #DIV/0!
A33: day 2 | B33: 44 | C33: 32 | D33: =AVERAGE(B33:C33) -> 38 | E33: 1000 | F33: =1772-1751 -> 21 | G33: =LOG10(D33*100*E33/F33*1000) -> 8.2575643 | J33: 0 | K33: =D33*E33-J33 -> 38000 | L33: =(D33*E33)/J33 -> #DIV/0! | M33: =L33/dose!$O$6 -> #DIV/0!
A34: day 3 | B34: 36 | C34: 35 | D34: =AVERAGE(B34:C34) -> 35.5 | E34: 1000 | F34: =1735-1692.7 -> 42.3 | G34: =LOG10(D34*100*E34/F34*1000) -> 7.923888 | J34: 0 | K34: =D34*E34-J34 -> 35500 | L34: =(D34*E34)/J34 -> #DIV/0! | M34: =L34/dose!$O$6 -> #DIV/0!
A36: 1:10,000 BL012GentR:BL012 WT mouse 2 | B36: total number of bacteria (VBM plates) | D36: mean in 10 µL | E36: Dilution factor | F36: feces weights (mg) | G36: Log10 CFU/g of feces | H36: number of CFU BL012gentR only | J36: Estimate in BL012 gentR in 10µL | K36: Estimate in BL012 WT in 10µL | L36: Output WT/gentR | M36: Compet index
A37: day 1 | B37: 11 | C37: 19 | D37: =AVERAGE(B37:C37) -> 15 | E37: 10000 | F37: =1646-1621.4 -> 24.6 | G37: =LOG10(D37*100*E37/F37*1000) -> 8.7851562 | H37: 0 | J37: =H37/10 -> 0 | K37: =D37*E37-J37 -> 150000 | L37: =K37/J37 -> #DIV/0! | M37: =L37/dose!K64 -> #DIV/0!
A38: day 2 | B38: 73 | C38: 58 | D38: =AVERAGE(B38:C38) -> 65.5 | E38: 1000 | F38: =1675-1605.6 -> 69.4 | G38: =LOG10(D38*100*E38/F38*1000) -> 7.9748818 | J38: 0 | K38: =D38*E38-J38 -> 65500 | L38: =(D38*E38)/J38 -> #DIV/0! | M38: =L38/dose!$O$6 -> #DIV/0!
A39: day 3 | B39: 36 | C39: 35 | D39: =AVERAGE(B39:C39) -> 35.5 | E39: 10000 | F39: =1717.1-1702.7 -> 14.4 | G39: =LOG10(D39*100*E39/F39*1000) -> 9.3918659 | J39: 0 | K39: =D39*E39-J39 -> 355000 | L39: =(D39*E39)/J39 -> #DIV/0! | M39: =L39/dose!$O$6 -> #DIV/0!
A41: 1:10,000 BL012GentR:BL012 WT mouse 3 | B41: total number of bacteria (VBM plates) | D41: mean in 10 µL | E41: Dilution factor | F41: feces weights (mg) | G41: Log10 CFU/g of feces | H41: number of CFU BL012gentR only | J41: Estimate in BL012 gentR in 10µL | K41: Estimate in BL012 WT in 10µL | L41: Output WT/gentR | M41: Compet index
A42: day 1 | B42: 20 | C42: 21 | D42: =AVERAGE(B42:C42) -> 20.5 | E42: 1000 | F42: =1705-1682.4 -> 22.6 | G42: =LOG10(D42*100*E42/F42*1000) -> 7.9576454 | H42: 0 | J42: =H42/10 -> 0 | K42: =D42*E42-J42 -> 20500 | L42: =K42/J42 -> #DIV/0! | M42: =L42/dose!K69 -> #DIV/0!
A43: day 2 | B43: 33 | C43: 27 | D43: =AVERAGE(B43:C43) -> 30 | E43: 1000 | F43: =1841.9-1768.7 -> 73.2 | G43: =LOG10(D43*100*E43/F43*1000) -> 7.6126102 | J43: 0 | K43: =D43*E43-J43 -> 30000 | L43: =(D43*E43)/J43 -> #DIV/0! | M43: =L43/dose!$O$6 -> #DIV/0!
A44: day 3 | B44: 50 | C44: 48 | D44: =AVERAGE(B44:C44) -> 49 | E44: 1000 | F44: =1676.6-1653.9 -> 22.7 | G44: =LOG10(D44*100*E44/F44*1000) -> 8.3341702 | J44: 0 | K44: =D44*E44-J44 -> 49000 | L44: =(D44*E44)/J44 -> #DIV/0! | M44: =L44/dose!$O$6 -> #DIV/0!
A46: 1:10,000 BL012GentR:BL012 WT mouse 4 | B46: total number of bacteria (VBM plates) | D46: mean in 10 µL | E46: Dilution factor | F46: feces weights (mg) | G46: Log10 CFU/g of feces | H46: number of CFU BL012gentR only | J46: Estimate in BL012 gentR in 10µL | K46: Estimate in BL012 WT in 10µL | L46: Output WT/gentR | M46: Compet index
A47: day 1 | B47: 2 | C47: 1 | D47: =AVERAGE(B47:C47) -> 1.5 | E47: 1 | F47: =1709.2-1691.5 -> 17.7 | G47: =LOG10(D47*100*E47/F47*1000) -> 3.928118 | H47: 0 | J47: =H47/10 -> 0 | K47: =D47*E47-J47 -> 1.5 | L47: =K47/J47 -> #DIV/0! | M47: =L47/dose!K74 -> #DIV/0!
A48: day 2 | B48: 42 | C48: 45 | D48: =AVERAGE(B48:C48) -> 43.5 | E48: 10 | F48: =1684.5-1636.5 -> 48 | G48: =LOG10(D48*100*E48/F48*1000) -> 5.957248 | J48: 0 | K48: =D48*E48-J48 -> 435 | L48: =(D48*E48)/J48 -> #DIV/0! | M48: =L48/dose!$O$6 -> #DIV/0!
A49: day 3 | B49: 14 | C49: 13 | D49: =AVERAGE(B49:C49) -> 13.5 | E49: 100 | F49: =1731.4-1725 -> 6.4 | G49: =LOG10(D49*100*E49/F49*1000) -> 7.3241538 | J49: 0 | K49: =D49*E49-J49 -> 1350 | L49: =(D49*E49)/J49 -> #DIV/0! | M49: =L49/dose!$O$6 -> #DIV/0!
