Workbook

Sheet dose
J1: Colony Count | K1: Dilution Factor | L1: CFUs/50uL | M1: Average CFUs | N1: Log CFUs | O1: Ratio input (LacZ/WT) | P1: Ratio WT/LacZ | Q1: OD reached
H2: BL048 vs BL012 LacZ | I2: BL048 - VBMXgal80 plates (white) | J2: 25 | K2: 1000 | L2: =J2*5*K2 -> 125000 | M2: =AVERAGE(L2:L4) -> 133333.33 | N2: =LOG10(M2) -> 5.1249387 | Q2: 0.344
J3: 25 | K3: 1000 | L3: =J3*5*K3 -> 125000
J4: 30 | K4: 1000 | L4: =J4*5*K4 -> 150000
I5: BL012LacZ - VBMXgal80 plates (blue) | J5: 45 | K5: 1000 | L5: =J5*5*K5 -> 225000 | M5: =AVERAGE(L5:L7) -> 233333.33 | N5: =LOG10(M5) -> 5.3679768 | Q5: 0.303
J6: 52 | K6: 1000 | L6: =J6*5*K6 -> 260000
J7: 43 | K7: 1000 | L7: =J7*5*K7 -> 215000
I8: TOTAL | J8: =J2+J5 -> 70 | K8: 1000 | L8: =J8*5*K8 -> 350000 | M8: =AVERAGE(L8:L10) -> 366666.67 | N8: =LOG10(M8) -> 5.5642714 | O8: =M5/M2 -> 1.75 | P8: =M2/M5 -> 0.57142857
J9: =J3+J6 -> 77 | K9: 1000 | L9: =J9*5*K9 -> 385000
J10: =J4+J7 -> 73 | K10: 1000 | L10: =J10*5*K10 -> 365000
H11: BL048 Lac Z vs BL012 | I11: BL012 - VBMXgal80 plates (white) | J11: 13 | K11: 10000 | L11: =J11*5*K11 -> 650000 | M11: =AVERAGE(L11:L13) -> 550000 | N11: =LOG10(M11) -> 5.7403627 | Q11: 0.318
J12: 10 | K12: 10000 | L12: =J12*5*K12 -> 500000
J13: 10 | K13: 10000 | L13: =J13*5*K13 -> 500000
I14: BL048LacZ - VBMXgal80 plates (blue) | J14: 6 | K14: 10000 | L14: =J14*5*K14 -> 300000 | M14: =AVERAGE(L14:L16) -> 266666.67 | N14: =LOG10(M14) -> 5.4259687 | Q14: 0.347
J15: 4 | K15: 10000 | L15: =J15*5*K15 -> 200000
J16: 6 | K16: 10000 | L16: =J16*5*K16 -> 300000
I17: TOTAL | J17: =J11+J14 -> 19 | K17: 10000 | L17: =J17*5*K17 -> 950000 | M17: =AVERAGE(L17:L19) -> 816666.67 | N17: =LOG10(M17) -> 5.9120448 | O17: =M14/M11 -> 0.48484848 | P17: =M11/M14 -> 2.0625
J18: =J12+J15 -> 14 | K18: 10000 | L18: =J18*5*K18 -> 700000
J19: =J13+J16 -> 16 | K19: 10000 | L19: =J19*5*K19 -> 800000
H20: BL048 vs BL048 LacZ | I20: BL048 - VBMXgal80 plates (white) | J20: 7 | K20: 10000 | L20: =J20*5*K20 -> 350000 | M20: =AVERAGE(L20:L22) -> 383333.33 | N20: =LOG10(M20) -> 5.5835766 | Q20: 0.344
J21: 6 | K21: 10000 | L21: =J21*5*K21 -> 300000
J22: 10 | K22: 10000 | L22: =J22*5*K22 -> 500000
I23: BL048LacZ - VBMXgal80 plates (blue) | J23: 6 | K23: 10000 | L23: =J23*5*K23 -> 300000 | M23: =AVERAGE(L23:L25) -> 383333.33 | N23: =LOG10(M23) -> 5.5835766 | Q23: 0.347
J24: 10 | K24: 10000 | L24: =J24*5*K24 -> 500000
J25: 7 | K25: 10000 | L25: =J25*5*K25 -> 350000
I26: TOTAL | J26: =J20+J23 -> 13 | K26: 10000 | L26: =J26*5*K26 -> 650000 | M26: =AVERAGE(L26:L28) -> 766666.67 | N26: =LOG10(M26) -> 5.8846066 | O26: =M23/M20 -> 1
J27: =J21+J24 -> 16 | K27: 10000 | L27: =J27*5*K27 -> 800000
J28: =J22+J25 -> 17 | K28: 10000 | L28: =J28*5*K28 -> 850000
H29: BL048 Lac Z vs BL049 | I29: BL049 - VBMXgal80 plates (white) | J29: 13 | K29: 10000 | L29: =J29*5*K29 -> 650000 | M29: =AVERAGE(L29:L31) -> 550000 | N29: =LOG10(M29) -> 5.7403627 | Q29: 0.345
J30: 10 | K30: 10000 | L30: =J30*5*K30 -> 500000
J31: 10 | K31: 10000 | L31: =J31*5*K31 -> 500000
I32: BL048LacZ - VBMXgal80 plates (blue) | J32: 6 | K32: 10000 | L32: =J32*5*K32 -> 300000 | M32: =AVERAGE(L32:L34) -> 266666.67 | N32: =LOG10(M32) -> 5.4259687 | Q32: 0.347
J33: 4 | K33: 10000 | L33: =J33*5*K33 -> 200000
J34: 6 | K34: 10000 | L34: =J34*5*K34 -> 300000
I35: TOTAL | J35: =J29+J32 -> 19 | K35: 10000 | L35: =J35*5*K35 -> 950000 | M35: =AVERAGE(L35:L37) -> 816666.67 | N35: =LOG10(M35) -> 5.9120448 | O35: =M32/M29 -> 0.48484848 | P35: =M29/M32 -> 2.0625
J36: =J30+J33 -> 14 | K36: 10000 | L36: =J36*5*K36 -> 700000
J37: =J31+J34 -> 16 | K37: 10000 | L37: =J37*5*K37 -> 800000
J43: Log CFUs | K43: Ratio input (LacZ/WT)
H44: BL048 vs BL012 LacZ | I44: BL048 - VBMXgal80 plates (white) | J44: 5.1
I45: BL012LacZ - VBMXgal80 plates (blue) | J45: 5.4
I46: TOTAL | J46: 5.6 | K46: 1.75
H47: BL048 LacZ vs BL012 | I47: BL012 - VBMXgal80 plates (white) | J47: 5.7
I48: BL048LacZ - VBMXgal80 plates (blue) | J48: 5.4
I49: TOTAL | J49: 5.8553172 | K49: 0.5
H50: BL048 vs BL048 LacZ | I50: BL048 - VBMXgal80 plates (white) | J50: 5.6
I51: BL048LacZ - VBMXgal80 plates (blue) | J51: 5.6
I52: TOTAL | J52: 5.9 | K52: 1
H53: BL048 LacZ vs BL049 | I53: BL049 - VBMXgal80 plates (white) | J53: 5.7
I54: BL048LacZ - VBMXgal80 plates (blue) | J54: 5.4
I55: TOTAL | J55: 5.9 | K55: 0.5

Sheet feces pos ttmnt - PA
A1: BL048:BL012 LacZ mouse 1 input ratio: 1.75 | B1: number of blue CFU (BL012 LacZ) | D1: mean in 10 µL | E1: Dilution factor | F1: feces weights (mg) | G1: Log10 CFU/g of feces | H1: number of white CFU (BL048) (Xgal or gent10 plates) | J1: dilution factor | K1: number of white CFU (BL048) in 100µL | L1: Estimate in 10µL | M1: Output LacZ/WT | N1: Compet index | P1: Output WT/lacZ | Q1: Compet index WT/LacZ
A2: day 3 | B2: 58 | C2: 48 | D2: =AVERAGE(B2:C2) -> 53 | E2: 100 | F2: =1700-1684.8 -> 15.2 | G2: =LOG10(D2*100*E2/F2*1000) -> 7.5424323 | H2: 28 | J2: 1 | L2: =(AVERAGE(H2:I2)*J2) -> 28 | M2: =(D2*E2)/L2 -> 189.28571 | N2: =M2/dose!$K$46 -> 108.16327 | P2: =L2/(D2*E2) -> 0.0052830189 | Q2: =P2/dose!$P$8 -> 0.009245283
A3: day 5 | B3: 6 | D3: =AVERAGE(B3:C3) -> 6 | E3: 10000 | F3: =1656.5-1630.4 -> 26.1 | G3: =LOG10(D3*100*E3/F3*1000) -> 8.3615107 | H3: 21 | J3: 10 | L3: =(AVERAGE(H3:I3)*J3) -> 210 | M3: =(D3*E3)/L3 -> 285.71429 | N3: =M3/dose!$K$46 -> 163.26531 | P3: =L3/(D3*E3) -> 0.0035 | Q3: =P3/dose!$P$8 -> 0.006125
A4: day 7 | B4: 22 | D4: =AVERAGE(B4:C4) -> 22 | E4: 10000 | F4: =1876.3-1852.7 -> 23.6 | G4: =LOG10(D4*100*E4/F4*1000) -> 8.9695107 | H4: 21 | J4: 1 | L4: =(AVERAGE(H4:I4)*J4) -> 21 | M4: =(D4*E4)/L4 -> 10476.19 | N4: =M4/dose!$K$46 -> 5986.3946 | P4: =L4/(D4*E4) -> 9.5454545e-05 | Q4: =P4/dose!$P$8 -> 0.00016704545
A5: day 10 | B5: 28 | D5: =AVERAGE(B5:C5) -> 28 | E5: 100 | F5: =1973.4-1934.2 -> 39.2 | G5: =LOG10(D5*100*E5/F5*1000) -> 6.853872 | K5: 13 | L5: =K5/10 -> 1.3 | M5: =(D5*E5)/L5 -> 2153.8462 | N5: =M5/dose!$K$46 -> 1230.7692 | P5: =L5/(D5*E5) -> 0.00046428571 | Q5: =P5/dose!$P$8 -> 0.0008125
A6: day 14 | B6: 3 | D6: =AVERAGE(B6:C6) -> 3 | E6: 1 | F6: =1784.3-1727.6 -> 56.7 | G6: =LOG10(D6*100*E6/F6*1000) -> 3.7235382 | K6: 0 | L6: =K6/10 -> 0 | M6: =(D6*E6)/L6 -> #DIV/0! | N6: =M6/dose!$K$46 -> #DIV/0! | P6: =L6/(D6*E6) -> 0 | Q6: =P6/dose!$P$8 -> 0
A8: BL048:BL012 LacZ mouse 2 input ratio: 1.75 | B8: number of blue CFU (BL012 LacZ) | D8: mean in 10 µL | E8: Dilution factor | F8: feces weights (mg) | G8: Log10 CFU/g of feces | H8: number of white CFU (BL048) (Xgal or gent10 plates) | J8: dilution factor | K8: number of white CFU (BL048) in 100µL | L8: Estimate in 10µL | M8: Output LacZ/WT | N8: Compet index | P8: Output WT/lacZ | Q8: Compet index WT/LacZ
A9: day 3 | B9: 46 | C9: 38 | D9: =AVERAGE(B9:C9) -> 42 | E9: 100 | F9: =1701.7-1670.6 -> 31.1 | G9: =LOG10(D9*100*E9/F9*1000) -> 7.1304889 | H9: 52 | I9: 63 | J9: 100 | L9: =(AVERAGE(H9:I9)*J9) -> 5750 | M9: =(D9*E9)/L9 -> 0.73043478 | N9: =M9/dose!$K$46 -> 0.4173913 | P9: =L9/(D9*E9) -> 1.3690476 | Q9: =P9/dose!$P$8 -> 2.3958333
A10: day 5 | B10: 8 | D10: =AVERAGE(B10:C10) -> 8 | E10: 10000 | F10: =1797.1-1758.3 -> 38.8 | G10: =LOG10(D10*100*E10/F10*1000) -> 8.3142583 | H10: 3 | J10: 10000 | L10: =(AVERAGE(H10:I10)*J10) -> 30000 | M10: =(D10*E10)/L10 -> 2.6666667 | N10: =M10/dose!$K$46 -> 1.5238095 | P10: =L10/(D10*E10) -> 0.375 | Q10: =P10/dose!$P$8 -> 0.65625
A11: day 7 | B11: 14 | D11: =AVERAGE(B11:C11) -> 14 | E11: 10000 | F11: =1819-1793.8 -> 25.2 | G11: =LOG10(D11*100*E11/F11*1000) -> 8.7447275 | H11: 14 | J11: 1000 | L11: =(AVERAGE(H11:I11)*J11) -> 14000 | M11: =(D11*E11)/L11 -> 10 | N11: =M11/dose!$K$46 -> 5.7142857 | P11: =L11/(D11*E11) -> 0.1 | Q11: =P11/dose!$P$8 -> 0.175
A12: day 10 | B12: 40 | D12: =AVERAGE(B12:C12) -> 40 | E12: 1000 | F12: =1761.5-1741.6 -> 19.9 | G12: =LOG10(D12*100*E12/F12*1000) -> 8.3032069 | H12: 17 | J12: 100 | L12: =(AVERAGE(H12:I12)*J12) -> 1700 | M12: =(D12*E12)/L12 -> 23.529412 | N12: =M12/dose!$K$46 -> 13.445378 | P12: =L12/(D12*E12) -> 0.0425 | Q12: =P12/dose!$P$8 -> 0.074375
A13: day 14 | B13: 6 | D13: =AVERAGE(B13:C13) -> 6 | E13: 1 | F13: =1868.1-1803.1 -> 65 | G13: =LOG10(D13*100*E13/F13*1000) -> 3.9652379 | H13: 3 | J13: 1 | L13: =(AVERAGE(H13:I13)*J13) -> 3 | M13: =(D13*E13)/L13 -> 2 | N13: =M13/dose!$K$46 -> 1.1428571 | P13: =L13/(D13*E13) -> 0.5 | Q13: =P13/dose!$P$8 -> 0.875
A15: BL048:BL012 LacZ mouse 3 input ratio: 1.75 | B15: number of blue CFU (BL012 LacZ) | D15: mean in 10 µL | E15: Dilution factor | F15: feces weights (mg) | G15: Log10 CFU/g of feces | H15: number of white CFU (BL048) (Xgal or gent10 plates) | J15: dilution factor | K15: number of white CFU (BL048) in 100µL | L15: Estimate in 10µL | M15: Output LacZ/WT | N15: Compet index | P15: Output WT/lacZ | Q15: Compet index WT/LacZ
A16: day 3 | B16: 22 | C16: 25 | D16: =AVERAGE(B16:C16) -> 23.5 | E16: 1000 | F16: =1652.2-1632.8 -> 19.4 | G16: =LOG10(D16*100*E16/F16*1000) -> 8.0832661 | H16: 10 | J16: 10 | L16: =(AVERAGE(H16:I16)*J16) -> 100 | M16: =(D16*E16)/L16 -> 235 | N16: =M16/dose!$K$46 -> 134.28571 | P16: =L16/(D16*E16) -> 0.0042553191 | Q16: =P16/dose!$P$8 -> 0.0074468085
A17: day 5 | B17: 30 | D17: =AVERAGE(B17:C17) -> 30 | E17: 10000 | F17: =1672.2-1635.9 -> 36.3 | G17: =LOG10(D17*100*E17/F17*1000) -> 8.9172146 | H17: 17 | J17: 1 | L17: =(AVERAGE(H17:I17)*J17) -> 17 | M17: =(D17*E17)/L17 -> 17647.059 | N17: =M17/dose!$K$46 -> 10084.034 | P17: =L17/(D17*E17) -> 5.6666667e-05 | Q17: =P17/dose!$P$8 -> 9.9166667e-05
A18: day 7 | B18: 22 | D18: =AVERAGE(B18:C18) -> 22 | E18: 10000 | F18: =1832.2-1801.6 -> 30.6 | G18: =LOG10(D18*100*E18/F18*1000) -> 8.8567013 | H18: 6 | J18: 1 | L18: =(AVERAGE(H18:I18)*J18) -> 6 | M18: =(D18*E18)/L18 -> 36666.667 | N18: =M18/dose!$K$46 -> 20952.381 | P18: =L18/(D18*E18) -> 2.7272727e-05 | Q18: =P18/dose!$P$8 -> 4.7727273e-05
A19: day 10 | B19: 10 | D19: =AVERAGE(B19:C19) -> 10 | E19: 10000 | F19: =1856.8-1733.6 -> 123.2 | G19: =LOG10(D19*100*E19/F19*1000) -> 7.9093893 | K19: =211*4 -> 844 | L19: =K19/10 -> 84.4 | M19: =(D19*E19)/L19 -> 1184.8341 | N19: =M19/dose!$K$46 -> 677.04807 | P19: =L19/(D19*E19) -> 0.000844 | Q19: =P19/dose!$P$8 -> 0.001477
A20: day 14 | B20: 2 | D20: =AVERAGE(B20:C20) -> 2 | E20: 1 | F20: =1801-1729 -> 72 | G20: =LOG10(D20*100*E20/F20*1000) -> 3.4436975 | H20: 0 | L20: =K20/10 -> 0 | M20: =(D20*E20)/L20 -> #DIV/0! | N20: =M20/dose!$K$46 -> #DIV/0! | P20: =L20/(D20*E20) -> 0 | Q20: =P20/dose!$P$8 -> 0
A22: BL048:BL012 LacZ mouse 4 input ratio: 1.75 | B22: number of blue CFU (BL012 LacZ) | D22: mean in 10 µL | E22: Dilution factor | F22: feces weights (mg) | G22: Log10 CFU/g of feces | H22: number of white CFU (BL048) (Xgal or gent10 plates) | J22: dilution factor | K22: number of white CFU (BL048) in 100µL | L22: Estimate in 10µL | M22: Output LacZ/WT | N22: Compet index | P22: Output WT/lacZ | Q22: Compet index WT/LacZ
A23: day 3 | B23: 7 | C23: 11 | D23: =AVERAGE(B23:C23) -> 9 | E23: 1000 | F23: =1665.5-1632.5 -> 33 | G23: =LOG10(D23*100*E23/F23*1000) -> 7.4357286 | H23: 15 | J23: 10 | L23: =(AVERAGE(H23:I23)*J23) -> 150 | M23: =(D23*E23)/L23 -> 60 | N23: =M23/dose!$K$46 -> 34.285714 | P23: =L23/(D23*E23) -> 0.016666667 | Q23: =P23/dose!$P$8 -> 0.029166667
A24: day 5 | B24: 21 | D24: =AVERAGE(B24:C24) -> 21 | E24: 10000 | F24: =1733.5-1701.8 -> 31.7 | G24: =LOG10(D24*100*E24/F24*1000) -> 8.82116 | H24: 23 | J24: 10 | L24: =(AVERAGE(H24:I24)*J24) -> 230 | M24: =(D24*E24)/L24 -> 913.04348 | N24: =M24/dose!$K$46 -> 521.73913 | P24: =L24/(D24*E24) -> 0.0010952381 | Q24: =P24/dose!$P$8 -> 0.0019166667
A25: day 7 | B25: 19 | D25: =AVERAGE(B25:C25) -> 19 | E25: 10000 | F25: =1790.3-1735.5 -> 54.8 | G25: =LOG10(D25*100*E25/F25*1000) -> 8.539973 | H25: 48 | J25: 1 | L25: =(AVERAGE(H25:I25)*J25) -> 48 | M25: =(D25*E25)/L25 -> 3958.3333 | N25: =M25/dose!$K$46 -> 2261.9048 | P25: =L25/(D25*E25) -> 0.00025263158 | Q25: =P25/dose!$P$8 -> 0.00044210526
A26: day 10 | B26: 22 | D26: =AVERAGE(B26:C26) -> 22 | E26: 100 | F26: =1763.5-1728.5 -> 35 | G26: =LOG10(D26*100*E26/F26*1000) -> 6.7983546 | K26: 8 | L26: =K26/10 -> 0.8 | M26: =(D26*E26)/L26 -> 2750 | N26: =M26/dose!$K$46 -> 1571.4286 | P26: =L26/(D26*E26) -> 0.00036363636 | Q26: =P26/dose!$P$8 -> 0.00063636364
A27: day 14 | B27: 0 | D27: =AVERAGE(B27:C27) -> 0 | E27: 1 | F27: =1800.4-1729.8 -> 70.6 | G27: =LOG10(D27*100*E27/F27*1000) -> #NUM! | K27: 0 | L27: =K27/10 -> 0 | M27: =(D27*E27)/L27 -> #DIV/0! | N27: =M27/dose!$K$46 -> #DIV/0! | P27: =L27/(D27*E27) -> #DIV/0! | Q27: =P27/dose!$P$8 -> #DIV/0!
A29: BL048:BL012 LacZ mouse 5 input ratio: 1.75 | B29: number of blue CFU (BL012 LacZ) | D29: mean in 10 µL | E29: Dilution factor | F29: feces weights (mg) | G29: Log10 CFU/g of feces | H29: number of white CFU (BL048) (Xgal or gent10 plates) | J29: dilution factor | K29: number of white CFU (BL048) in 100µL | L29: Estimate in 10µL | M29: Output LacZ/WT | N29: Compet index | P29: Output WT/lacZ | Q29: Compet index WT/LacZ
A30: day 3 | B30: 36 | C30: 42 | D30: =AVERAGE(B30:C30) -> 39 | E30: 1000 | F30: =1768.7-1721.4 -> 47.3 | G30: =LOG10(D30*100*E30/F30*1000) -> 7.9162035 | H30: 0 | J30: 1 | L30: =(AVERAGE(H30:I30)*J30) -> 0 | M30: =(D30*E30)/L30 -> #DIV/0! | N30: =M30/dose!$K$46 -> #DIV/0! | P30: =L30/(D30*E30) -> 0 | Q30: =P30/dose!$P$8 -> 0
A31: day 5 | B31: 10 | D31: =AVERAGE(B31:C31) -> 10 | E31: 10000 | F31: =1825.6-1734.9 -> 90.7 | G31: =LOG10(D31*100*E31/F31*1000) -> 8.0423927 | H31: 1 | J31: 1 | L31: =(AVERAGE(H31:I31)*J31) -> 1 | M31: =(D31*E31)/L31 -> 100000 | N31: =M31/dose!$K$46 -> 57142.857 | P31: =L31/(D31*E31) -> 1e-05 | Q31: =P31/dose!$P$8 -> 1.75e-05
A32: day 7 | B32: 10 | D32: =AVERAGE(B32:C32) -> 10 | E32: 1000 | F32: =1909.4-1820.1 -> 89.3 | G32: =LOG10(D32*100*E32/F32*1000) -> 7.0491485 | H32: 0 | J32: 1 | L32: =(AVERAGE(H32:I32)*J32) -> 0 | M32: =(D32*E32)/L32 -> #DIV/0! | N32: =M32/dose!$K$46 -> #DIV/0! | P32: =L32/(D32*E32) -> 0 | Q32: =P32/dose!$P$8 -> 0
A33: day 10 | B33: 28 | D33: =AVERAGE(B33:C33) -> 28 | E33: 10 | F33: =1894-1865.1 -> 28.9 | G33: =LOG10(D33*100*E33/F33*1000) -> 5.9862602 | H33: 0 | J33: 1 | L33: =K33/10 -> 0 | M33: =(D33*E33)/L33 -> #DIV/0! | N33: =M33/dose!$K$46 -> #DIV/0! | P33: =L33/(D33*E33) -> 0 | Q33: =P33/dose!$P$8 -> 0
A34: day 14 | B34: 2 | D34: =AVERAGE(B34:C34) -> 2 | E34: 1 | F34: =1850.1-1735.1 -> 115 | G34: =LOG10(D34*100*E34/F34*1000) -> 3.2403322 | K34: 1 | L34: =K34/10 -> 0.1 | M34: =(D34*E34)/L34 -> 20 | N34: =M34/dose!$K$46 -> 11.428571 | P34: =L34/(D34*E34) -> 0.05 | Q34: =P34/dose!$P$8 -> 0.0875
A36: BL012:BL048 LacZ mouse 1 input ratio: 0.5 | B36: number of white CFU (BL012) (Xgal plates) | D36: mean in 10 µL | E36: Dilution factor | F36: feces weights (mg) | G36: Log10 CFU/g of feces | H36: number of blue CFU (BL048) (Xgal or gent10 plates) | J36: dilution factor | K36: number of blue CFU (BL048) in 100µL | L36: Estimate in 10µL | M36: Output LacZ/WT | N36: Compet index | P36: Output BL012:BL048 LacZ | Q36: Compet Index BL012:BL48LacZ
A37: day 3 | B37: 21 | C37: 20 | D37: =AVERAGE(B37:C37) -> 20.5 | E37: 1000 | F37: =1663.5-1642.7 -> 20.8 | G37: =LOG10(D37*100*E37/F37*1000) -> 7.9936905 | H37: 24 | J37: 1 | L37: =(AVERAGE(H37:I37)*J37) -> 24 | M37: =L37/(D37*E37) -> 0.0011707317 | N37: =M37/dose!$K$49 -> 0.0023414634 | P37: =(D37*E37)/L37 -> 854.16667 | Q37: =P37/dose!$P$17 -> 414.14141
A38: day 5 | B38: 13 | D38: =AVERAGE(B38:C38) -> 13 | E38: 10000 | F38: =1710.9-1686.9 -> 24 | G38: =LOG10(D38*100*E38/F38*1000) -> 8.7337321 | H38: 52 | J38: 1 | L38: =(AVERAGE(H38:I38)*J38) -> 52 | M38: =L38/(D38*E38) -> 0.0004 | N38: =M38/dose!$K$49 -> 0.0008 | P38: =(D38*E38)/L38 -> 2500 | Q38: =P38/dose!$P$17 -> 1212.1212
A39: day 7 | B39: 51 | D39: =AVERAGE(B39:C39) -> 51 | E39: 1000 | F39: =1857.4-1796.5 -> 60.9 | G39: =LOG10(D39*100*E39/F39*1000) -> 7.9229529 | H39: 20 | J39: 1 | L39: =(AVERAGE(H39:I39)*J39) -> 20 | M39: =L39/(D39*E39) -> 0.00039215686 | N39: =M39/dose!$K$49 -> 0.00078431373 | P39: =(D39*E39)/L39 -> 2550 | Q39: =P39/dose!$P$17 -> 1236.3636
A40: day 10 | B40: 16 | D40: =AVERAGE(B40:C40) -> 16 | E40: 100 | F40: =1859-1800.6 -> 58.4 | G40: =LOG10(D40*100*E40/F40*1000) -> 6.4377071 | K40: 2 | L40: =K40/10 -> 0.2 | M40: =L40/(D40*E40) -> 0.000125 | N40: =M40/dose!$K$49 -> 0.00025 | P40: =(D40*E40)/L40 -> 8000 | Q40: =P40/dose!$P$17 -> 3878.7879
A41: day 14 | B41: 32 | D41: =AVERAGE(B41:C41) -> 32 | E41: 1 | F41: =1763.9-1658.3 -> 105.6 | G41: =LOG10(D41*100*E41/F41*1000) -> 4.4814861 | K41: 1 | L41: =K41/10 -> 0.1 | M41: =L41/(D41*E41) -> 0.003125 | N41: =M41/dose!$K$49 -> 0.00625 | P41: =(D41*E41)/L41 -> 320 | Q41: =P41/dose!$P$17 -> 155.15152
A43: BL012:BL048 LacZ mouse 2 input ratio: 0.5 | B43: number of white CFU (BL012) (Xgal plates) | D43: mean in 10 µL | E43: Dilution factor | F43: feces weights (mg) | G43: Log10 CFU/g of feces | H43: number of blue CFU (BL048) (Xgal or gent10 plates) | J43: dilution factor | K43: number of blue CFU (BL048) in 100µL | L43: Estimate in 10µL | M43: Output LacZ/WT | N43: Compet index | P43: Output BL012:BL048 LacZ | Q43: Compet Index BL012:BL48LacZ
A44: day 3 | B44: 29 | C44: 32 | D44: =AVERAGE(B44:C44) -> 30.5 | E44: 1000 | F44: =1712-1692.3 -> 19.7 | G44: =LOG10(D44*100*E44/F44*1000) -> 8.1898336 | H44: 45 | I44: 61 | J44: 1000 | L44: =(AVERAGE(H44:I44)*J44) -> 53000 | M44: =L44/(D44*E44) -> 1.7377049 | N44: =M44/dose!$K$49 -> 3.4754098 | P44: =(D44*E44)/L44 -> 0.5754717 | Q44: =P44/dose!$P$17 -> 0.27901658
A45: day 5 | B45: 25 | D45: =AVERAGE(B45:C45) -> 25 | E45: 10000 | F45: =1734.2-1692.5 -> 41.7 | G45: =LOG10(D45*100*E45/F45*1000) -> 8.777804 | H45: 31 | J45: 10000 | L45: =(AVERAGE(H45:I45)*J45) -> 310000 | M45: =L45/(D45*E45) -> 1.24 | N45: =M45/dose!$K$49 -> 2.48 | P45: =(D45*E45)/L45 -> 0.80645161 | Q45: =P45/dose!$P$17 -> 0.39100684
A46: day 7 | B46: 41 | D46: =AVERAGE(B46:C46) -> 41 | E46: 10000 | F46: =1782.5-1742.3 -> 40.2 | G46: =LOG10(D46*100*E46/F46*1000) -> 9.0085578 | H46: 26 | J46: 1000 | L46: =(AVERAGE(H46:I46)*J46) -> 26000 | M46: =L46/(D46*E46) -> 0.063414634 | N46: =M46/dose!$K$49 -> 0.12682927 | P46: =(D46*E46)/L46 -> 15.769231 | Q46: =P46/dose!$P$17 -> 7.6456876
A47: day 10 | B47: 12 | D47: =AVERAGE(B47:C47) -> 12 | E47: 10000 | F47: =1854.9-1803.6 -> 51.3 | G47: =LOG10(D47*100*E47/F47*1000) -> 8.3690639 | H47: 14 | J47: 100 | L47: =(AVERAGE(H47:I47)*J47) -> 1400 | M47: =L47/(D47*E47) -> 0.011666667 | N47: =M47/dose!$K$49 -> 0.023333333 | P47: =(D47*E47)/L47 -> 85.714286 | Q47: =P47/dose!$P$17 -> 41.558442
A48: day 14 | B48: 11 | D48: =AVERAGE(B48:C48) -> 11 | E48: 10 | F48: =1841.5-1725.8 -> 115.7 | G48: =LOG10(D48*100*E48/F48*1000) -> 4.9780593 | H48: 0 | L48: =K48/10 -> 0 | M48: =L48/(D48*E48) -> 0 | N48: =M48/dose!$K$49 -> 0 | P48: =(D48*E48)/L48 -> #DIV/0! | Q48: 1000000
A50: BL012:BL048 LacZ mouse 3 input ratio: 0.5 | B50: number of white CFU (BL012) (Xgal plates) | D50: mean in 10 µL | E50: Dilution factor | F50: feces weights (mg) | G50: Log10 CFU/g of feces | H50: number of blue CFU (BL048) (Xgal or gent10 plates) | J50: dilution factor | K50: number of blue CFU (BL048) in 100µL | L50: Estimate in 10µL | M50: Output LacZ/WT | N50: Compet index | P50: Output BL012:BL048 LacZ | Q50: Compet Index BL012:BL48LacZ
A51: day 3 | B51: 25 | C51: 29 | D51: =AVERAGE(B51:C51) -> 27 | E51: 1000 | F51: =1805.5-1785.6 -> 19.9 | G51: =LOG10(D51*100*E51/F51*1000) -> 8.1325107 | H51: 24 | J51: 1 | L51: =(AVERAGE(H51:I51)*J51) -> 24 | M51: =L51/(D51*E51) -> 0.00088888889 | N51: =M51/dose!$K$49 -> 0.0017777778 | P51: =(D51*E51)/L51 -> 1125 | Q51: =P51/dose!$P$17 -> 545.45455
A52: day 5 | B52: 11 | D52: =AVERAGE(B52:C52) -> 11 | E52: 10000 | F52: =1734.2-1692.5 -> 41.7 | G52: =LOG10(D52*100*E52/F52*1000) -> 8.4212566 | H52: 7 | J52: 1 | L52: =(AVERAGE(H52:I52)*J52) -> 7 | M52: =L52/(D52*E52) -> 6.3636364e-05 | N52: =M52/dose!$K$49 -> 0.00012727273 | P52: =(D52*E52)/L52 -> 15714.286 | Q52: =P52/dose!$P$17 -> 7619.0476
A53: day 7 | B53: 40 | D53: =AVERAGE(B53:C53) -> 40 | E53: 1000 | F53: =1736.3-1715.6 -> 20.7 | G53: =LOG10(D53*100*E53/F53*1000) -> 8.2860896 | H53: 0 | J53: 1 | L53: =(AVERAGE(H53:I53)*J53) -> 0 | M53: =L53/(D53*E53) -> 0 | N53: =M53/dose!$K$49 -> 0 | P53: =(D53*E53)/L53 -> #DIV/0! | Q53: 1000000
A54: day 10 | B54: 12 | D54: =AVERAGE(B54:C54) -> 12 | E54: 1000 | F54: =1982.3-1865.5 -> 116.8 | G54: =LOG10(D54*100*E54/F54*1000) -> 7.0117384 | K54: 1 | L54: =K54/10 -> 0.1 | M54: =L54/(D54*E54) -> 8.3333333e-06 | N54: =M54/dose!$K$49 -> 1.6666667e-05 | P54: =(D54*E54)/L54 -> 120000 | Q54: =P54/dose!$P$17 -> 58181.818
A55: day 14 | B55: 25 | D55: =AVERAGE(B55:C55) -> 25 | E55: 1 | F55: =1823.5-1659.2 -> 164.3 | G55: =LOG10(D55*100*E55/F55*1000) -> 4.1823024 | K55: 0 | L55: =K55/10 -> 0 | M55: =L55/(D55*E55) -> 0 | N55: =M55/dose!$K$49 -> 0 | P55: =(D55*E55)/L55 -> #DIV/0! | Q55: 1000000
A57: BL012:BL048 LacZ mouse 4 input ratio: 0.5 | B57: number of white CFU (BL012) (Xgal plates) | D57: mean in 10 µL | E57: Dilution factor | F57: feces weights (mg) | G57: Log10 CFU/g of feces | H57: number of blue CFU (BL048) (Xgal or gent10 plates) | J57: dilution factor | K57: number of blue CFU (BL048) in 100µL | L57: Estimate in 10µL | M57: Output LacZ/WT | N57: Compet index | P57: Output BL012:BL048 LacZ | Q57: Compet Index BL012:BL48LacZ
A58: day 3 | B58: 15 | C58: 21 | D58: =AVERAGE(B58:C58) -> 18 | E58: 1000 | F58: =1721.2-1689.7 -> 31.5 | G58: =LOG10(D58*100*E58/F58*1000) -> 7.756962 | H58: 16 | J58: 1 | L58: =(AVERAGE(H58:I58)*J58) -> 16 | M58: =L58/(D58*E58) -> 0.00088888889 | N58: =M58/dose!$K$49 -> 0.0017777778 | P58: =(D58*E58)/L58 -> 1125 | Q58: =P58/dose!$P$17 -> 545.45455
A59: day 5 | B59: 13 | D59: =AVERAGE(B59:C59) -> 13 | E59: 1000 | F59: =1764.6-1745.5 -> 19.1 | G59: =LOG10(D59*100*E59/F59*1000) -> 7.83291 | H59: 1 | J59: 1 | L59: =(AVERAGE(H59:I59)*J59) -> 1 | M59: =L59/(D59*E59) -> 7.6923077e-05 | N59: =M59/dose!$K$49 -> 0.00015384615 | P59: =(D59*E59)/L59 -> 13000 | Q59: =P59/dose!$P$17 -> 6303.0303
A60: day 7 | B60: 8 | D60: =AVERAGE(B60:C60) -> 8 | E60: 1000 | F60: =1828.4-1730.7 -> 97.7 | G60: =LOG10(D60*100*E60/F60*1000) -> 6.9131954 | H60: 0 | J60: 1 | L60: =(AVERAGE(H60:I60)*J60) -> 0 | M60: =L60/(D60*E60) -> 0 | N60: =M60/dose!$K$49 -> 0 | P60: =(D60*E60)/L60 -> #DIV/0! | Q60: 1000000
A61: day 10 | B61: 20 | D61: =AVERAGE(B61:C61) -> 20 | E61: 100 | F61: =1812.4-1710.1 -> 102.3 | G61: =LOG10(D61*100*E61/F61*1000) -> 6.2911544 | K61: 0 | L61: =K61/10 -> 0 | M61: =L61/(D61*E61) -> 0 | N61: =M61/dose!$K$49 -> 0 | P61: =(D61*E61)/L61 -> #DIV/0! | Q61: 1000000
A62: day 14 | B62: 18 | D62: =AVERAGE(B62:C62) -> 18 | E62: 100 | F62: =2016.4-1877.7 -> 138.7 | G62: =LOG10(D62*100*E62/F62*1000) -> 6.113196 | K62: 0 | L62: =K62/10 -> 0 | M62: =L62/(D62*E62) -> 0 | N62: =M62/dose!$K$49 -> 0 | P62: =(D62*E62)/L62 -> #DIV/0! | Q62: 1000000
A64: BL012:BL048 LacZ mouse 5 input ratio: 0.5 | B64: number of white CFU (BL012) (Xgal plates) | D64: mean in 10 µL | E64: Dilution factor | F64: feces weights (mg) | G64: Log10 CFU/g of feces | H64: number of blue CFU (BL048) (Xgal or gent10 plates) | J64: dilution factor | K64: number of blue CFU (BL048) in 100µL | L64: Estimate in 10µL | M64: Output LacZ/WT | N64: Compet index | P64: Output BL012:BL048 LacZ | Q64: Compet Index BL012:BL48LacZ
A65: day 3 | B65: 27 | C65: 24 | D65: =AVERAGE(B65:C65) -> 25.5 | E65: 1000 | F65: =1680-1669.8 -> 10.2 | G65: =LOG10(D65*100*E65/F65*1000) -> 8.39794 | H65: 24 | J65: 1 | L65: =(AVERAGE(H65:I65)*J65) -> 24 | M65: =L65/(D65*E65) -> 0.00094117647 | N65: =M65/dose!$K$49 -> 0.0018823529 | P65: =(D65*E65)/L65 -> 1062.5 | Q65: =P65/dose!$P$17 -> 515.15152
A66: day 5 | B66: 46 | D66: =AVERAGE(B66:C66) -> 46 | E66: 10000 | F66: =1793.4-1741.7 -> 51.7 | G66: =LOG10(D66*100*E66/F66*1000) -> 8.9492673 | H66: 31 | J66: 1 | L66: =(AVERAGE(H66:I66)*J66) -> 31 | M66: =L66/(D66*E66) -> 6.7391304e-05 | N66: =M66/dose!$K$49 -> 0.00013478261 | P66: =(D66*E66)/L66 -> 14838.71 | Q66: =P66/dose!$P$17 -> 7194.5259
A67: day 7 | B67: 34 | D67: =AVERAGE(B67:C67) -> 34 | E67: 1000 | F67: =1754-1730.6 -> 23.4 | G67: =LOG10(D67*100*E67/F67*1000) -> 8.1622631 | H67: 2 | J67: 1 | L67: =(AVERAGE(H67:I67)*J67) -> 2 | M67: =L67/(D67*E67) -> 5.8823529e-05 | N67: =M67/dose!$K$49 -> 0.00011764706 | P67: =(D67*E67)/L67 -> 17000 | Q67: =P67/dose!$P$17 -> 8242.4242
A68: day 10 | B68: 36 | D68: =AVERAGE(B68:C68) -> 36 | E68: 100 | F68: =1784.8-1732.1 -> 52.7 | G68: =LOG10(D68*100*E68/F68*1000) -> 6.8344919 | K68: 0 | L68: =K68/10 -> 0 | M68: =L68/(D68*E68) -> 0 | N68: =M68/dose!$K$49 -> 0 | P68: =(D68*E68)/L68 -> #DIV/0! | Q68: 1000000
A69: day 14 | B69: 21 | D69: =AVERAGE(B69:C69) -> 21 | E69: 10 | F69: =1801.7-1670 -> 131.7 | G69: =LOG10(D69*100*E69/F69*1000) -> 5.2026335 | K69: 0 | L69: =K69/10 -> 0 | M69: =L69/(D69*E69) -> 0 | N69: =M69/dose!$K$49 -> 0 | P69: =(D69*E69)/L69 -> #DIV/0! | Q69: 1000000
A71: BL048:BL048 LacZ mouse 1 input ratio: 1 | B71: number of white CFU (BL048) (Xgal plates) | D71: mean in 10 µL | E71: Dilution factor | F71: feces weights (mg) | G71: Log10 CFU/g of feces | H71: number of blue CFU (BL048 LacZ) (Xgal plates) | J71: dilution factor | K71: Output LacZ/WT | L71: Compet index
A72: day 3 | B72: 23 | C72: 20 | D72: =AVERAGE(B72:C72) -> 21.5 | E72: 1000 | F72: =1698.1-1658.6 -> 39.5 | G72: =LOG10(D72*100*E72/F72*1000) -> 7.7358414 | H72: 31 | I72: 26 | J72: 1000 | K72: =(AVERAGE(H72:I72)*J72)/(D72*E72) -> 1.3255814 | L72: =K72/dose!$K$52 -> 1.3255814
A73: day 5 | B73: 17 | C73: 15 | D73: =AVERAGE(B73:C73) -> 16 | E73: 1000 | F73: =1801.1-1783 -> 18.1 | G73: =LOG10(D73*100*E73/F73*1000) -> 7.9464414 | H73: 52 | I73: 46 | J73: 1000 | K73: =(AVERAGE(H73:I73)*J73)/(D73*E73) -> 3.0625 | L73: =K73/dose!$K$52 -> 3.0625
A74: day 7 | B74: 15 | C74: 20 | D74: =AVERAGE(B74:C74) -> 17.5 | E74: 1000 | F74: =1682.5-1667.9 -> 14.6 | G74: =LOG10(D74*100*E74/F74*1000) -> 8.0786852 | H74: 29 | I74: 34 | J74: 1000 | K74: =(AVERAGE(H74:I74)*J74)/(D74*E74) -> 1.8 | L74: =K74/dose!$K$52 -> 1.8
A75: day 10 | B75: 22 | C75: 19 | D75: =AVERAGE(B75:C75) -> 20.5 | E75: 1000 | F75: =1787-1721.2 -> 65.8 | G75: =LOG10(D75*100*E75/F75*1000) -> 7.493528 | H75: 18 | I75: 12 | J75: 1000 | K75: =(AVERAGE(H75:I75)*J75)/(D75*E75) -> 0.73170732 | L75: =K75/dose!$K$52 -> 0.73170732
A76: day 14 | B76: 0 | C76: 0 | D76: =AVERAGE(B76:C76) -> 0 | E76: 1 | F76: =2020.2-1868.7 -> 151.5 | G76: =LOG10(D76*100*E76/F76*1000) -> #NUM! | H76: 0 | I76: 0 | J76: 1 | K76: =(AVERAGE(H76:I76)*J76)/(D76*E76) -> #DIV/0! | L76: =K76/dose!$K$52 -> #DIV/0!
A78: BL048:BL048 LacZ mouse 2 input ratio: 1 | B78: number of white CFU (BL048) (Xgal plates) | D78: mean in 10 µL | E78: Dilution factor | F78: feces weights (mg) | G78: Log10 CFU/g of feces | H78: number of blue CFU (BL048 LacZ) (Xgal plates) | J78: dilution factor | K78: Output LacZ/WT | L78: Compet index
A79: day 3 | B79: 35 | C79: 39 | D79: =AVERAGE(B79:C79) -> 37 | E79: 10 | F79: =1731.9-1717 -> 14.9 | G79: =LOG10(D79*100*E79/F79*1000) -> 6.3950155 | H79: 30 | I79: 34 | J79: 10 | K79: =(AVERAGE(H79:I79)*J79)/(D79*E79) -> 0.86486486 | L79: =K79/dose!$K$52 -> 0.86486486
A80: day 5 | B80: 18 | C80: 18 | D80: =AVERAGE(B80:C80) -> 18 | E80: 1000 | F80: =1625.6-1602.5 -> 23.1 | G80: =LOG10(D80*100*E80/F80*1000) -> 7.8916605 | H80: 12 | I80: 19 | J80: 1000 | K80: =(AVERAGE(H80:I80)*J80)/(D80*E80) -> 0.86111111 | L80: =K80/dose!$K$52 -> 0.86111111
A81: day 7 | B81: 10 | C81: 7 | D81: =AVERAGE(B81:C81) -> 8.5 | E81: 1000 | F81: =1736.7-1718.5 -> 18.2 | G81: =LOG10(D81*100*E81/F81*1000) -> 7.6693475 | H81: 12 | I81: 9 | J81: 1000 | K81: =(AVERAGE(H81:I81)*J81)/(D81*E81) -> 1.2352941 | L81: =K81/dose!$K$52 -> 1.2352941
A82: day 10 | B82: 12 | C82: 5 | D82: =AVERAGE(B82:C82) -> 8.5 | E82: 100 | F82: =1853.9-1797.1 -> 56.8 | G82: =LOG10(D82*100*E82/F82*1000) -> 6.1750706 | H82: 9 | I82: 8 | J82: 100 | K82: =(AVERAGE(H82:I82)*J82)/(D82*E82) -> 1 | L82: =K82/dose!$K$52 -> 1
A83: day 14 | B83: 5 | C83: 3 | D83: =AVERAGE(B83:C83) -> 4 | E83: 1 | F83: =1734.9-1651.4 -> 83.5 | G83: =LOG10(D83*100*E83/F83*1000) -> 3.6803735 | H83: 0 | I83: 1 | J83: 1 | K83: =(AVERAGE(H83:I83)*J83)/(D83*E83) -> 0.125 | L83: =K83/dose!$K$52 -> 0.125
A85: BL048:BL048 LacZ mouse 3 input ratio: 1 | B85: number of white CFU (BL048) (Xgal plates) | D85: mean in 10 µL | E85: Dilution factor | F85: feces weights (mg) | G85: Log10 CFU/g of feces | H85: number of blue CFU (BL048 LacZ) (Xgal plates) | J85: dilution factor | K85: Output LacZ/WT | L85: Compet index
A86: day 3 | B86: 1 | C86: 0 | D86: =AVERAGE(B86:C86) -> 0.5 | E86: 1 | F86: =1752-1715.9 -> 36.1 | G86: =LOG10(D86*100*E86/F86*1000) -> 3.1414628 | H86: 2 | I86: 4 | J86: 1 | K86: =(AVERAGE(H86:I86)*J86)/(D86*E86) -> 6 | L86: =K86/dose!$K$52 -> 6
A87: day 5 | B87: 1 | C87: 1 | D87: =AVERAGE(B87:C87) -> 1 | E87: 1 | F87: =1665.3-1630.8 -> 34.5 | G87: =LOG10(D87*100*E87/F87*1000) -> 3.4621809 | H87: 7 | I87: 5 | J87: 1 | K87: =(AVERAGE(H87:I87)*J87)/(D87*E87) -> 6 | L87: =K87/dose!$K$52 -> 6
A88: day 7 | B88: 0 | D88: =AVERAGE(B88:C88) -> 0 | E88: 1 | F88: =1845.7-1812 -> 33.7 | G88: =LOG10(D88*100*E88/F88*1000) -> #NUM! | H88: 38 | I88: 31 | J88: 1 | K88: =(AVERAGE(H88:I88)*J88)/(D88*E88) -> #DIV/0! | L88: =K88/dose!$K$52 -> #DIV/0!
A89: day 10 | B89: 2 | C89: 1 | D89: =AVERAGE(B89:C89) -> 1.5 | E89: 1 | F89: =1869.5-1800.8 -> 68.7 | G89: =LOG10(D89*100*E89/F89*1000) -> 3.3391345 | H89: 21 | I89: 17 | J89: 1 | K89: =(AVERAGE(H89:I89)*J89)/(D89*E89) -> 12.666667 | L89: =K89/dose!$K$52 -> 12.666667
A90: day 14 | B90: 1 | C90: 1 | D90: =AVERAGE(B90:C90) -> 1 | E90: 1 | F90: =1851.2-1729.7 -> 121.5 | G90: =LOG10(D90*100*E90/F90*1000) -> 2.9154237 | H90: 1 | I90: 1 | J90: 1 | K90: =(AVERAGE(H90:I90)*J90)/(D90*E90) -> 1 | L90: =K90/dose!$K$52 -> 1
A92: BL048:BL048 LacZ mouse 4 input ratio: 1 | B92: number of white CFU (BL048) (Xgal plates) | D92: mean in 10 µL | E92: Dilution factor | F92: feces weights (mg) | G92: Log10 CFU/g of feces | H92: number of blue CFU (BL048 LacZ) (Xgal plates) | J92: dilution factor | K92: Output LacZ/WT | L92: Compet index
A93: day 3 | B93: 8 | C93: 11 | D93: =AVERAGE(B93:C93) -> 9.5 | E93: 100 | F93: =1780.7-1757.9 -> 22.8 | G93: =LOG10(D93*100*E93/F93*1000) -> 6.6197888 | H93: 43 | I93: 36 | J93: 100 | K93: =(AVERAGE(H93:I93)*J93)/(D93*E93) -> 4.1578947 | L93: =K93/dose!$K$52 -> 4.1578947
A94: day 5 | B94: 3 | C94: 9 | D94: =AVERAGE(B94:C94) -> 6 | E94: 1000 | F94: =1801.3-1753.3 -> 48 | G94: =LOG10(D94*100*E94/F94*1000) -> 7.09691 | H94: 29 | I94: 29 | J94: 1000 | K94: =(AVERAGE(H94:I94)*J94)/(D94*E94) -> 4.8333333 | L94: =K94/dose!$K$52 -> 4.8333333
A95: day 7 | B95: 6 | C95: 4 | D95: =AVERAGE(B95:C95) -> 5 | E95: 10 | F95: =1826.6-1732.3 -> 94.3 | G95: =LOG10(D95*100*E95/F95*1000) -> 4.7244583 | H95: 17 | I95: 22 | J95: 10 | K95: =(AVERAGE(H95:I95)*J95)/(D95*E95) -> 3.9 | L95: =K95/dose!$K$52 -> 3.9
A96: day 10 | B96: 11 | C96: 6 | D96: =AVERAGE(B96:C96) -> 8.5 | E96: 1 | F96: =1785.2-1732.5 -> 52.7 | G96: =LOG10(D96*100*E96/F96*1000) -> 4.2076083 | H96: 24 | I96: 21 | J96: 1 | K96: =(AVERAGE(H96:I96)*J96)/(D96*E96) -> 2.6470588 | L96: =K96/dose!$K$52 -> 2.6470588
A97: day 14 | B97: 2 | C97: 0 | D97: =AVERAGE(B97:C97) -> 1 | E97: 1 | F97: =1684.9-1653.1 -> 31.8 | G97: =LOG10(D97*100*E97/F97*1000) -> 3.4975729 | H97: 0 | I97: 0 | J97: 1 | K97: =(AVERAGE(H97:I97)*J97)/(D97*E97) -> 0 | L97: =K97/dose!$K$52 -> 0
A99: BL048:BL048 LacZ mouse 5 input ratio: 1 | B99: number of white CFU (BL048) (Xgal plates) | D99: mean in 10 µL | E99: Dilution factor | F99: feces weights (mg) | G99: Log10 CFU/g of feces | H99: number of blue CFU (BL048 LacZ) (Xgal plates) | J99: dilution factor | K99: Output LacZ/WT | L99: Compet index
A100: day 3 | B100: 1 | C100: 0 | D100: =AVERAGE(B100:C100) -> 0.5 | E100: 1000 | F100: =1647.5-1626.2 -> 21.3 | G100: =LOG10(D100*100*E100/F100*1000) -> 6.3705904 | H100: 35 | I100: 31 | J100: 1000 | K100: =(AVERAGE(H100:I100)*J100)/(D100*E100) -> 66 | L100: =K100/dose!$K$52 -> 66
A101: day 5 | B101: 0 | C101: 3 | D101: =AVERAGE(B101:C101) -> 1.5 | E101: 100 | F101: =1656-1646.2 -> 9.8 | G101: =LOG10(D101*100*E101/F101*1000) -> 6.1848652 | H101: 30 | I101: 28 | J101: 100 | K101: =(AVERAGE(H101:I101)*J101)/(D101*E101) -> 19.333333 | L101: =K101/dose!$K$52 -> 19.333333
A102: day 7 | B102: 7 | C102: 4 | D102: =AVERAGE(B102:C102) -> 5.5 | E102: 10 | F102: =1757.6-1739.4 -> 18.2 | G102: =LOG10(D102*100*E102/F102*1000) -> 5.4802913 | H102: 23 | I102: 29 | J102: 100 | K102: =(AVERAGE(H102:I102)*J102)/(D102*E102) -> 47.272727 | L102: =K102/dose!$K$52 -> 47.272727
A103: day 10 | B103: 2 | C103: 2 | D103: =AVERAGE(B103:C103) -> 2 | E103: 1 | F103: =1788.2-1730.2 -> 58 | G103: =LOG10(D103*100*E103/F103*1000) -> 3.537602 | H103: 49 | I103: 50 | J103: 1 | K103: =(AVERAGE(H103:I103)*J103)/(D103*E103) -> 24.75 | L103: =K103/dose!$K$52 -> 24.75
A104: day 14 | B104: 1 | C104: 0 | D104: =AVERAGE(B104:C104) -> 0.5 | E104: 1 | F104: =1802.5-1658.3 -> 144.2 | G104: =LOG10(D104*100*E104/F104*1000) -> 2.5400047 | H104: 5 | I104: 4 | J104: 1 | K104: =(AVERAGE(H104:I104)*J104)/(D104*E104) -> 9 | L104: =K104/dose!$K$52 -> 9
A106: BL049:BL048 LacZ mouse 1 input ratio: 0.5 | B106: number of white CFU (BL049) (Xgal plates) | D106: mean in 10 µL | E106: Dilution factor | F106: feces weights (mg) | G106: Log10 CFU/g of feces | H106: number of blue CFU (BL048) (Xgal or gent10 plates) | J106: dilution factor | K106: number of blue CFU (BL048) in 100µL | L106: Estimate in 10µL | M106: Output LacZ/WT | N106: Compet index | P106: compet index BL049/BL048 LacZ
A107: day 3 | B107: 16 | C107: 21 | D107: =AVERAGE(B107:C107) -> 18.5 | E107: 100 | F107: =1695-1683 -> 12 | G107: =LOG10(D107*100*E107/F107*1000) -> 7.1879905 | H107: 1 | J107: 1 | L107: =(AVERAGE(H107:I107)*J107) -> 1 | M107: =L107/(D107*E107) -> 0.00054054054 | N107: =M107/dose!$K$55 -> 0.0010810811 | P107: =((D107*E107)/(L107))/dose!$P$35 -> 896.9697
A108: day 5 | B108: 27 | D108: =AVERAGE(B108:C108) -> 27 | E108: 1000 | F108: =1705.9-1687.8 -> 18.1 | G108: =LOG10(D108*100*E108/F108*1000) -> 8.1736852 | H108: 3 | J108: 1 | L108: =(AVERAGE(H108:I108)*J108) -> 3 | M108: =L108/(D108*E108) -> 0.00011111111 | N108: =M108/dose!$K$55 -> 0.00022222222 | P108: =((D108*E108)/(L108))/dose!$P$35 -> 4363.6364
A109: day 7 | B109: 13 | D109: =AVERAGE(B109:C109) -> 13 | E109: 1000 | F109: =1822.2-1809 -> 13.2 | G109: =LOG10(D109*100*E109/F109*1000) -> 7.9933694 | H109: 1 | J109: 1 | L109: =(AVERAGE(H109:I109)*J109) -> 1 | M109: =L109/(D109*E109) -> 7.6923077e-05 | N109: =M109/dose!$K$55 -> 0.00015384615 | P109: =((D109*E109)/(L109))/dose!$P$35 -> 6303.0303
A110: day 10 | B110: 23 | D110: =AVERAGE(B110:C110) -> 23 | E110: 1000 | F110: =1799.3-1659.8 -> 139.5 | G110: =LOG10(D110*100*E110/F110*1000) -> 7.2171536 | K110: 0 | L110: =K110/10 -> 0 | M110: =L110/(D110*E110) -> 0 | N110: =M110/dose!$K$55 -> 0 | P110: =((D110*E110)/(L110))/dose!$P$35 -> #DIV/0!
A111: day 14 | B111: 29 | D111: =AVERAGE(B111:C111) -> 29 | E111: 1 | F111: =1718.2-1652.8 -> 65.4 | G111: =LOG10(D111*100*E111/F111*1000) -> 4.6468202 | K111: 0 | L111: =K111/10 -> 0 | M111: =L111/(D111*E111) -> 0 | N111: =M111/dose!$K$55 -> 0 | P111: =((D111*E111)/(L111))/dose!$P$35 -> #DIV/0!
P112: =((D112*E112)/(L112))/dose!$P$35 -> #DIV/0!
A113: BL049:BL048 LacZ mouse 2 input ratio: 0.5 | B113: number of white CFU (BL049) (Xgal plates) | D113: mean in 10 µL | E113: Dilution factor | F113: feces weights (mg) | G113: Log10 CFU/g of feces | H113: number of blue CFU (BL048) (Xgal or gent10 plates) | J113: dilution factor | K113: number of blue CFU (BL048) in 100µL | L113: Estimate in 10µL | M113: Output LacZ/WT | N113: Compet index | P113: =((D113*E113)/(L113))/dose!$P$35 -> #VALUE!
A114: day 3 | B114: 34 | C114: 39 | D114: =AVERAGE(B114:C114) -> 36.5 | E114: 1000 | F114: =1653.4-1621.2 -> 32.2 | G114: =LOG10(D114*100*E114/F114*1000) -> 8.054437 | H114: 21 | J114: 10 | L114: =(AVERAGE(H114:I114)*J114) -> 210 | M114: =L114/(D114*E114) -> 0.0057534247 | N114: =M114/dose!$K$55 -> 0.011506849 | P114: =((D114*E114)/(L114))/dose!$P$35 -> 84.271284
A115: day 5 | B115: 11 | D115: =AVERAGE(B115:C115) -> 11 | E115: 10000 | F115: =1688-1650.4 -> 37.6 | G115: =LOG10(D115*100*E115/F115*1000) -> 8.4662048 | H115: 18 | J115: 1 | L115: =(AVERAGE(H115:I115)*J115) -> 18 | M115: =L115/(D115*E115) -> 0.00016363636 | N115: =M115/dose!$K$55 -> 0.00032727273 | P115: =((D115*E115)/(L115))/dose!$P$35 -> 2962.963
...
