Workbook

Sheet dose
J1: Colony Count | K1: Dilution Factor | L1: CFUs/50uL | M1: Average CFUs | N1: Log CFUs | O1: Ratio input (LacZ/WT) | P1: Ratio WT/LacZ | Q1: OD reached
H2: BL048 vs BL012 LacZ | I2: BL048 - VBMXgal80 plates (white) | J2: 25 | K2: 1000 | L2: =J2*5*K2 -> 125000 | M2: =AVERAGE(L2:L4) -> 133333.33 | N2: =LOG10(M2) -> 5.1249387 | Q2: 0.344
J3: 25 | K3: 1000 | L3: =J3*5*K3 -> 125000
J4: 30 | K4: 1000 | L4: =J4*5*K4 -> 150000
I5: BL012LacZ - VBMXgal80 plates (blue) | J5: 45 | K5: 1000 | L5: =J5*5*K5 -> 225000 | M5: =AVERAGE(L5:L7) -> 233333.33 | N5: =LOG10(M5) -> 5.3679768 | Q5: 0.303
J6: 52 | K6: 1000 | L6: =J6*5*K6 -> 260000
J7: 43 | K7: 1000 | L7: =J7*5*K7 -> 215000
I8: TOTAL | J8: =J2+J5 -> 70 | K8: 1000 | L8: =J8*5*K8 -> 350000 | M8: =AVERAGE(L8:L10) -> 366666.67 | N8: =LOG10(M8) -> 5.5642714 | O8: =M5/M2 -> 1.75 | P8: =M2/M5 -> 0.57142857
J9: =J3+J6 -> 77 | K9: 1000 | L9: =J9*5*K9 -> 385000
J10: =J4+J7 -> 73 | K10: 1000 | L10: =J10*5*K10 -> 365000
H11: BL048 Lac Z vs BL012 | I11: BL012 - VBMXgal80 plates (white) | J11: 13 | K11: 10000 | L11: =J11*5*K11 -> 650000 | M11: =AVERAGE(L11:L13) -> 550000 | N11: =LOG10(M11) -> 5.7403627 | Q11: 0.318
J12: 10 | K12: 10000 | L12: =J12*5*K12 -> 500000
J13: 10 | K13: 10000 | L13: =J13*5*K13 -> 500000
I14: BL048LacZ - VBMXgal80 plates (blue) | J14: 6 | K14: 10000 | L14: =J14*5*K14 -> 300000 | M14: =AVERAGE(L14:L16) -> 266666.67 | N14: =LOG10(M14) -> 5.4259687 | Q14: 0.347
J15: 4 | K15: 10000 | L15: =J15*5*K15 -> 200000
J16: 6 | K16: 10000 | L16: =J16*5*K16 -> 300000
I17: TOTAL | J17: =J11+J14 -> 19 | K17: 10000 | L17: =J17*5*K17 -> 950000 | M17: =AVERAGE(L17:L19) -> 816666.67 | N17: =LOG10(M17) -> 5.9120448 | O17: =M14/M11 -> 0.48484848 | P17: =M11/M14 -> 2.0625
J18: =J12+J15 -> 14 | K18: 10000 | L18: =J18*5*K18 -> 700000
J19: =J13+J16 -> 16 | K19: 10000 | L19: =J19*5*K19 -> 800000
H20: BL048 vs BL048 LacZ | I20: BL048 - VBMXgal80 plates (white) | J20: 7 | K20: 10000 | L20: =J20*5*K20 -> 350000 | M20: =AVERAGE(L20:L22) -> 383333.33 | N20: =LOG10(M20) -> 5.5835766 | Q20: 0.344
J21: 6 | K21: 10000 | L21: =J21*5*K21 -> 300000
J22: 10 | K22: 10000 | L22: =J22*5*K22 -> 500000
I23: BL048LacZ - VBMXgal80 plates (blue) | J23: 6 | K23: 10000 | L23: =J23*5*K23 -> 300000 | M23: =AVERAGE(L23:L25) -> 383333.33 | N23: =LOG10(M23) -> 5.5835766 | Q23: 0.347
J24: 10 | K24: 10000 | L24: =J24*5*K24 -> 500000
J25: 7 | K25: 10000 | L25: =J25*5*K25 -> 350000
I26: TOTAL | J26: =J20+J23 -> 13 | K26: 10000 | L26: =J26*5*K26 -> 650000 | M26: =AVERAGE(L26:L28) -> 766666.67 | N26: =LOG10(M26) -> 5.8846066 | O26: =M23/M20 -> 1
J27: =J21+J24 -> 16 | K27: 10000 | L27: =J27*5*K27 -> 800000
J28: =J22+J25 -> 17 | K28: 10000 | L28: =J28*5*K28 -> 850000
H29: BL048 Lac Z vs BL049 | I29: BL049 - VBMXgal80 plates (white) | J29: 13 | K29: 10000 | L29: =J29*5*K29 -> 650000 | M29: =AVERAGE(L29:L31) -> 550000 | N29: =LOG10(M29) -> 5.7403627 | Q29: 0.345
J30: 10 | K30: 10000 | L30: =J30*5*K30 -> 500000
J31: 10 | K31: 10000 | L31: =J31*5*K31 -> 500000
I32: BL048LacZ - VBMXgal80 plates (blue) | J32: 6 | K32: 10000 | L32: =J32*5*K32 -> 300000 | M32: =AVERAGE(L32:L34) -> 266666.67 | N32: =LOG10(M32) -> 5.4259687 | Q32: 0.347
J33: 4 | K33: 10000 | L33: =J33*5*K33 -> 200000
J34: 6 | K34: 10000 | L34: =J34*5*K34 -> 300000
I35: TOTAL | J35: =J29+J32 -> 19 | K35: 10000 | L35: =J35*5*K35 -> 950000 | M35: =AVERAGE(L35:L37) -> 816666.67 | N35: =LOG10(M35) -> 5.9120448 | O35: =M32/M29 -> 0.48484848 | P35: =M29/M32 -> 2.0625
J36: =J30+J33 -> 14 | K36: 10000 | L36: =J36*5*K36 -> 700000
J37: =J31+J34 -> 16 | K37: 10000 | L37: =J37*5*K37 -> 800000
J43: Log CFUs | K43: Ratio input (LacZ/WT)
H44: BL048 vs BL012 LacZ | I44: BL048 - VBMXgal80 plates (white) | J44: 5.1
I45: BL012LacZ - VBMXgal80 plates (blue) | J45: 5.4
...

Sheet feces pos ttmnt - PA
A1: BL048:BL012 LacZ mouse 1 input ratio: 1.75 | B1: number of blue CFU (BL012 LacZ) | D1: mean in 10 µL | E1: Dilution factor | F1: feces weights (mg) | G1: Log10 CFU/g of feces | H1: number of white CFU (BL048) (Xgal or gent10 plates) | J1: dilution factor | K1: number of white CFU (BL048) in 100µL | L1: Estimate in 10µL | M1: Output LacZ/WT | N1: Compet index | P1: Output WT/lacZ | Q1: Compet index WT/LacZ
A2: day 3 | B2: 58 | C2: 48 | D2: =AVERAGE(B2:C2) -> 53 | E2: 100 | F2: =1700-1684.8 -> 15.2 | G2: =LOG10(D2*100*E2/F2*1000) -> 7.5424323 | H2: 28 | J2: 1 | L2: =(AVERAGE(H2:I2)*J2) -> 28 | M2: =(D2*E2)/L2 -> 189.28571 | N2: =M2/dose!$K$46 -> 108.16327 | P2: =L2/(D2*E2) -> 0.0052830189 | Q2: =P2/dose!$P$8 -> 0.009245283
A3: day 5 | B3: 6 | D3: =AVERAGE(B3:C3) -> 6 | E3: 10000 | F3: =1656.5-1630.4 -> 26.1 | G3: =LOG10(D3*100*E3/F3*1000) -> 8.3615107 | H3: 21 | J3: 10 | L3: =(AVERAGE(H3:I3)*J3) -> 210 | M3: =(D3*E3)/L3 -> 285.71429 | N3: =M3/dose!$K$46 -> 163.26531 | P3: =L3/(D3*E3) -> 0.0035 | Q3: =P3/dose!$P$8 -> 0.006125
A4: day 7 | B4: 22 | D4: =AVERAGE(B4:C4) -> 22 | E4: 10000 | F4: =1876.3-1852.7 -> 23.6 | G4: =LOG10(D4*100*E4/F4*1000) -> 8.9695107 | H4: 21 | J4: 1 | L4: =(AVERAGE(H4:I4)*J4) -> 21 | M4: =(D4*E4)/L4 -> 10476.19 | N4: =M4/dose!$K$46 -> 5986.3946 | P4: =L4/(D4*E4) -> 9.5454545e-05 | Q4: =P4/dose!$P$8 -> 0.00016704545
A5: day 10 | B5: 28 | D5: =AVERAGE(B5:C5) -> 28 | E5: 100 | F5: =1973.4-1934.2 -> 39.2 | G5: =LOG10(D5*100*E5/F5*1000) -> 6.853872 | K5: 13 | L5: =K5/10 -> 1.3 | M5: =(D5*E5)/L5 -> 2153.8462 | N5: =M5/dose!$K$46 -> 1230.7692 | P5: =L5/(D5*E5) -> 0.00046428571 | Q5: =P5/dose!$P$8 -> 0.0008125
A6: day 14 | B6: 3 | D6: =AVERAGE(B6:C6) -> 3 | E6: 1 | F6: =1784.3-1727.6 -> 56.7 | G6: =LOG10(D6*100*E6/F6*1000) -> 3.7235382 | K6: 0 | L6: =K6/10 -> 0 | M6: =(D6*E6)/L6 -> #DIV/0! | N6: =M6/dose!$K$46 -> #DIV/0! | P6: =L6/(D6*E6) -> 0 | Q6: =P6/dose!$P$8 -> 0
A8: BL048:BL012 LacZ mouse 2 input ratio: 1.75 | B8: number of blue CFU (BL012 LacZ) | D8: mean in 10 µL | E8: Dilution factor | F8: feces weights (mg) | G8: Log10 CFU/g of feces | H8: number of white CFU (BL048) (Xgal or gent10 plates) | J8: dilution factor | K8: number of white CFU (BL048) in 100µL | L8: Estimate in 10µL | M8: Output LacZ/WT | N8: Compet index | P8: Output WT/lacZ | Q8: Compet index WT/LacZ
A9: day 3 | B9: 46 | C9: 38 | D9: =AVERAGE(B9:C9) -> 42 | E9: 100 | F9: =1701.7-1670.6 -> 31.1 | G9: =LOG10(D9*100*E9/F9*1000) -> 7.1304889 | H9: 52 | I9: 63 | J9: 100 | L9: =(AVERAGE(H9:I9)*J9) -> 5750 | M9: =(D9*E9)/L9 -> 0.73043478 | N9: =M9/dose!$K$46 -> 0.4173913 | P9: =L9/(D9*E9) -> 1.3690476 | Q9: =P9/dose!$P$8 -> 2.3958333
A10: day 5 | B10: 8 | D10: =AVERAGE(B10:C10) -> 8 | E10: 10000 | F10: =1797.1-1758.3 -> 38.8 | G10: =LOG10(D10*100*E10/F10*1000) -> 8.3142583 | H10: 3 | J10: 10000 | L10: =(AVERAGE(H10:I10)*J10) -> 30000 | M10: =(D10*E10)/L10 -> 2.6666667 | N10: =M10/dose!$K$46 -> 1.5238095 | P10: =L10/(D10*E10) -> 0.375 | Q10: =P10/dose!$P$8 -> 0.65625
A11: day 7 | B11: 14 | D11: =AVERAGE(B11:C11) -> 14 | E11: 10000 | F11: =1819-1793.8 -> 25.2 | G11: =LOG10(D11*100*E11/F11*1000) -> 8.7447275 | H11: 14 | J11: 1000 | L11: =(AVERAGE(H11:I11)*J11) -> 14000 | M11: =(D11*E11)/L11 -> 10 | N11: =M11/dose!$K$46 -> 5.7142857 | P11: =L11/(D11*E11) -> 0.1 | Q11: =P11/dose!$P$8 -> 0.175
A12: day 10 | B12: 40 | D12: =AVERAGE(B12:C12) -> 40 | E12: 1000 | F12: =1761.5-1741.6 -> 19.9 | G12: =LOG10(D12*100*E12/F12*1000) -> 8.3032069 | H12: 17 | J12: 100 | L12: =(AVERAGE(H12:I12)*J12) -> 1700 | M12: =(D12*E12)/L12 -> 23.529412 | N12: =M12/dose!$K$46 -> 13.445378 | P12: =L12/(D12*E12) -> 0.0425 | Q12: =P12/dose!$P$8 -> 0.074375
A13: day 14 | B13: 6 | D13: =AVERAGE(B13:C13) -> 6 | E13: 1 | F13: =1868.1-1803.1 -> 65 | G13: =LOG10(D13*100*E13/F13*1000) -> 3.9652379 | H13: 3 | J13: 1 | L13: =(AVERAGE(H13:I13)*J13) -> 3 | M13: =(D13*E13)/L13 -> 2 | N13: =M13/dose!$K$46 -> 1.1428571 | P13: =L13/(D13*E13) -> 0.5 | Q13: =P13/dose!$P$8 -> 0.875
A15: BL048:BL012 LacZ mouse 3 input ratio: 1.75 | B15: number of blue CFU (BL012 LacZ) | D15: mean in 10 µL | E15: Dilution factor | F15: feces weights (mg) | G15: Log10 CFU/g of feces | H15: number of white CFU (BL048) (Xgal or gent10 plates) | J15: dilution factor | K15: number of white CFU (BL048) in 100µL | L15: Estimate in 10µL | M15: Output LacZ/WT | N15: Compet index | P15: Output WT/lacZ | Q15: Compet index WT/LacZ
A16: day 3 | B16: 22 | C16: 25 | D16: =AVERAGE(B16:C16) -> 23.5 | E16: 1000 | F16: =1652.2-1632.8 -> 19.4 | G16: =LOG10(D16*100*E16/F16*1000) -> 8.0832661 | H16: 10 | J16: 10 | L16: =(AVERAGE(H16:I16)*J16) -> 100 | M16: =(D16*E16)/L16 -> 235 | N16: =M16/dose!$K$46 -> 134.28571 | P16: =L16/(D16*E16) -> 0.0042553191 | Q16: =P16/dose!$P$8 -> 0.0074468085
A17: day 5 | B17: 30 | D17: =AVERAGE(B17:C17) -> 30 | E17: 10000 | F17: =1672.2-1635.9 -> 36.3 | G17: =LOG10(D17*100*E17/F17*1000) -> 8.9172146 | H17: 17 | J17: 1 | L17: =(AVERAGE(H17:I17)*J17) -> 17 | M17: =(D17*E17)/L17 -> 17647.059 | N17: =M17/dose!$K$46 -> 10084.034 | P17: =L17/(D17*E17) -> 5.6666667e-05 | Q17: =P17/dose!$P$8 -> 9.9166667e-05
A18: day 7 | B18: 22 | D18: =AVERAGE(B18:C18) -> 22 | E18: 10000 | F18: =1832.2-1801.6 -> 30.6 | G18: =LOG10(D18*100*E18/F18*1000) -> 8.8567013 | H18: 6 | J18: 1 | L18: =(AVERAGE(H18:I18)*J18) -> 6 | M18: =(D18*E18)/L18 -> 36666.667 | N18: =M18/dose!$K$46 -> 20952.381 | P18: =L18/(D18*E18) -> 2.7272727e-05 | Q18: =P18/dose!$P$8 -> 4.7727273e-05
A19: day 10 | B19: 10 | D19: =AVERAGE(B19:C19) -> 10 | E19: 10000 | F19: =1856.8-1733.6 -> 123.2 | G19: =LOG10(D19*100*E19/F19*1000) -> 7.9093893 | K19: =211*4 -> 844 | L19: =K19/10 -> 84.4 | M19: =(D19*E19)/L19 -> 1184.8341 | N19: =M19/dose!$K$46 -> 677.04807 | P19: =L19/(D19*E19) -> 0.000844 | Q19: =P19/dose!$P$8 -> 0.001477
A20: day 14 | B20: 2 | D20: =AVERAGE(B20:C20) -> 2 | E20: 1 | F20: =1801-1729 -> 72 | G20: =LOG10(D20*100*E20/F20*1000) -> 3.4436975 | H20: 0 | L20: =K20/10 -> 0 | M20: =(D20*E20)/L20 -> #DIV/0! | N20: =M20/dose!$K$46 -> #DIV/0! | P20: =L20/(D20*E20) -> 0 | Q20: =P20/dose!$P$8 -> 0
A22: BL048:BL012 LacZ mouse 4 input ratio: 1.75 | B22: number of blue CFU (BL012 LacZ) | D22: mean in 10 µL | E22: Dilution factor | F22: feces weights (mg) | G22: Log10 CFU/g of feces | H22: number of white CFU (BL048) (Xgal or gent10 plates) | J22: dilution factor | K22: number of white CFU (BL048) in 100µL | L22: Estimate in 10µL | M22: Output LacZ/WT | N22: Compet index | P22: Output WT/lacZ | Q22: Compet index WT/LacZ
A23: day 3 | B23: 7 | C23: 11 | D23: =AVERAGE(B23:C23) -> 9 | E23: 1000 | F23: =1665.5-1632.5 -> 33 | G23: =LOG10(D23*100*E23/F23*1000) -> 7.4357286 | H23: 15 | J23: 10 | L23: =(AVERAGE(H23:I23)*J23) -> 150 | M23: =(D23*E23)/L23 -> 60 | N23: =M23/dose!$K$46 -> 34.285714 | P23: =L23/(D23*E23) -> 0.016666667 | Q23: =P23/dose!$P$8 -> 0.029166667
A24: day 5 | B24: 21 | D24: =AVERAGE(B24:C24) -> 21 | E24: 10000 | F24: =1733.5-1701.8 -> 31.7 | G24: =LOG10(D24*100*E24/F24*1000) -> 8.82116 | H24: 23 | J24: 10 | L24: =(AVERAGE(H24:I24)*J24) -> 230 | M24: =(D24*E24)/L24 -> 913.04348 | N24: =M24/dose!$K$46 -> 521.73913 | P24: =L24/(D24*E24) -> 0.0010952381 | Q24: =P24/dose!$P$8 -> 0.0019166667
A25: day 7 | B25: 19 | D25: =AVERAGE(B25:C25) -> 19 | E25: 10000 | F25: =1790.3-1735.5 -> 54.8 | G25: =LOG10(D25*100*E25/F25*1000) -> 8.539973 | H25: 48 | J25: 1 | L25: =(AVERAGE(H25:I25)*J25) -> 48 | M25: =(D25*E25)/L25 -> 3958.3333 | N25: =M25/dose!$K$46 -> 2261.9048 | P25: =L25/(D25*E25) -> 0.00025263158 | Q25: =P25/dose!$P$8 -> 0.00044210526
A26: day 10 | B26: 22 | D26: =AVERAGE(B26:C26) -> 22 | E26: 100 | F26: =1763.5-1728.5 -> 35 | G26: =LOG10(D26*100*E26/F26*1000) -> 6.7983546 | K26: 8 | L26: =K26/10 -> 0.8 | M26: =(D26*E26)/L26 -> 2750 | N26: =M26/dose!$K$46 -> 1571.4286 | P26: =L26/(D26*E26) -> 0.00036363636 | Q26: =P26/dose!$P$8 -> 0.00063636364
A27: day 14 | B27: 0 | D27: =AVERAGE(B27:C27) -> 0 | E27: 1 | F27: =1800.4-1729.8 -> 70.6 | G27: =LOG10(D27*100*E27/F27*1000) -> #NUM! | K27: 0 | L27: =K27/10 -> 0 | M27: =(D27*E27)/L27 -> #DIV/0! | N27: =M27/dose!$K$46 -> #DIV/0! | P27: =L27/(D27*E27) -> #DIV/0! | Q27: =P27/dose!$P$8 -> #DIV/0!
A29: BL048:BL012 LacZ mouse 5 input ratio: 1.75 | B29: number of blue CFU (BL012 LacZ) | D29: mean in 10 µL | E29: Dilution factor | F29: feces weights (mg) | G29: Log10 CFU/g of feces | H29: number of white CFU (BL048) (Xgal or gent10 plates) | J29: dilution factor | K29: number of white CFU (BL048) in 100µL | L29: Estimate in 10µL | M29: Output LacZ/WT | N29: Compet index | P29: Output WT/lacZ | Q29: Compet index WT/LacZ
A30: day 3 | B30: 36 | C30: 42 | D30: =AVERAGE(B30:C30) -> 39 | E30: 1000 | F30: =1768.7-1721.4 -> 47.3 | G30: =LOG10(D30*100*E30/F30*1000) -> 7.9162035 | H30: 0 | J30: 1 | L30: =(AVERAGE(H30:I30)*J30) -> 0 | M30: =(D30*E30)/L30 -> #DIV/0! | N30: =M30/dose!$K$46 -> #DIV/0! | P30: =L30/(D30*E30) -> 0 | Q30: =P30/dose!$P$8 -> 0
A31: day 5 | B31: 10 | D31: =AVERAGE(B31:C31) -> 10 | E31: 10000 | F31: =1825.6-1734.9 -> 90.7 | G31: =LOG10(D31*100*E31/F31*1000) -> 8.0423927 | H31: 1 | J31: 1 | L31: =(AVERAGE(H31:I31)*J31) -> 1 | M31: =(D31*E31)/L31 -> 100000 | N31: =M31/dose!$K$46 -> 57142.857 | P31: =L31/(D31*E31) -> 1e-05 | Q31: =P31/dose!$P$8 -> 1.75e-05
A32: day 7 | B32: 10 | D32: =AVERAGE(B32:C32) -> 10 | E32: 1000 | F32: =1909.4-1820.1 -> 89.3 | G32: =LOG10(D32*100*E32/F32*1000) -> 7.0491485 | H32: 0 | J32: 1 | L32: =(AVERAGE(H32:I32)*J32) -> 0 | M32: =(D32*E32)/L32 -> #DIV/0! | N32: =M32/dose!$K$46 -> #DIV/0! | P32: =L32/(D32*E32) -> 0 | Q32: =P32/dose!$P$8 -> 0
A33: day 10 | B33: 28 | D33: =AVERAGE(B33:C33) -> 28 | E33: 10 | F33: =1894-1865.1 -> 28.9 | G33: =LOG10(D33*100*E33/F33*1000) -> 5.9862602 | H33: 0 | J33: 1 | L33: =K33/10 -> 0 | M33: =(D33*E33)/L33 -> #DIV/0! | N33: =M33/dose!$K$46 -> #DIV/0! | P33: =L33/(D33*E33) -> 0 | Q33: =P33/dose!$P$8 -> 0
A34: day 14 | B34: 2 | D34: =AVERAGE(B34:C34) -> 2 | E34: 1 | F34: =1850.1-1735.1 -> 115 | G34: =LOG10(D34*100*E34/F34*1000) -> 3.2403322 | K34: 1 | L34: =K34/10 -> 0.1 | M34: =(D34*E34)/L34 -> 20 | N34: =M34/dose!$K$46 -> 11.428571 | P34: =L34/(D34*E34) -> 0.05 | Q34: =P34/dose!$P$8 -> 0.0875
A36: BL012:BL048 LacZ mouse 1 input ratio: 0.5 | B36: number of white CFU (BL012) (Xgal plates) | D36: mean in 10 µL | E36: Dilution factor | F36: feces weights (mg) | G36: Log10 CFU/g of feces | H36: number of blue CFU (BL048) (Xgal or gent10 plates) | J36: dilution factor | K36: number of blue CFU (BL048) in 100µL | L36: Estimate in 10µL | M36: Output LacZ/WT | N36: Compet index | P36: Output BL012:BL048 LacZ | Q36: Compet Index BL012:BL48LacZ
A37: day 3 | B37: 21 | C37: 20 | D37: =AVERAGE(B37:C37) -> 20.5 | E37: 1000 | F37: =1663.5-1642.7 -> 20.8 | G37: =LOG10(D37*100*E37/F37*1000) -> 7.9936905 | H37: 24 | J37: 1 | L37: =(AVERAGE(H37:I37)*J37) -> 24 | M37: =L37/(D37*E37) -> 0.0011707317 | N37: =M37/dose!$K$49 -> 0.0023414634 | P37: =(D37*E37)/L37 -> 854.16667 | Q37: =P37/dose!$P$17 -> 414.14141
A38: day 5 | B38: 13 | D38: =AVERAGE(B38:C38) -> 13 | E38: 10000 | F38: =1710.9-1686.9 -> 24 | G38: =LOG10(D38*100*E38/F38*1000) -> 8.7337321 | H38: 52 | J38: 1 | L38: =(AVERAGE(H38:I38)*J38) -> 52 | M38: =L38/(D38*E38) -> 0.0004 | N38: =M38/dose!$K$49 -> 0.0008 | P38: =(D38*E38)/L38 -> 2500 | Q38: =P38/dose!$P$17 -> 1212.1212
A39: day 7 | B39: 51 | D39: =AVERAGE(B39:C39) -> 51 | E39: 1000 | F39: =1857.4-1796.5 -> 60.9 | G39: =LOG10(D39*100*E39/F39*1000) -> 7.9229529 | H39: 20 | J39: 1 | L39: =(AVERAGE(H39:I39)*J39) -> 20 | M39: =L39/(D39*E39) -> 0.00039215686 | N39: =M39/dose!$K$49 -> 0.00078431373 | P39: =(D39*E39)/L39 -> 2550 | Q39: =P39/dose!$P$17 -> 1236.3636
A40: day 10 | B40: 16 | D40: =AVERAGE(B40:C40) -> 16 | E40: 100 | F40: =1859-1800.6 -> 58.4 | G40: =LOG10(D40*100*E40/F40*1000) -> 6.4377071 | K40: 2 | L40: =K40/10 -> 0.2 | M40: =L40/(D40*E40) -> 0.000125 | N40: =M40/dose!$K$49 -> 0.00025 | P40: =(D40*E40)/L40 -> 8000 | Q40: =P40/dose!$P$17 -> 3878.7879
A41: day 14 | B41: 32 | D41: =AVERAGE(B41:C41) -> 32 | E41: 1 | F41: =1763.9-1658.3 -> 105.6 | G41: =LOG10(D41*100*E41/F41*1000) -> 4.4814861 | K41: 1 | L41: =K41/10 -> 0.1 | M41: =L41/(D41*E41) -> 0.003125 | N41: =M41/dose!$K$49 -> 0.00625 | P41: =(D41*E41)/L41 -> 320 | Q41: =P41/dose!$P$17 -> 155.15152
A43: BL012:BL048 LacZ mouse 2 input ratio: 0.5 | B43: number of white CFU (BL012) (Xgal plates) | D43: mean in 10 µL | E43: Dilution factor | F43: feces weights (mg) | G43: Log10 CFU/g of feces | H43: number of blue CFU (BL048) (Xgal or gent10 plates) | J43: dilution factor | K43: number of blue CFU (BL048) in 100µL | L43: Estimate in 10µL | M43: Output LacZ/WT | N43: Compet index | P43: Output BL012:BL048 LacZ | Q43: Compet Index BL012:BL48LacZ
A44: day 3 | B44: 29 | C44: 32 | D44: =AVERAGE(B44:C44) -> 30.5 | E44: 1000 | F44: =1712-1692.3 -> 19.7 | G44: =LOG10(D44*100*E44/F44*1000) -> 8.1898336 | H44: 45 | I44: 61 | J44: 1000 | L44: =(AVERAGE(H44:I44)*J44) -> 53000 | M44: =L44/(D44*E44) -> 1.7377049 | N44: =M44/dose!$K$49 -> 3.4754098 | P44: =(D44*E44)/L44 -> 0.5754717 | Q44: =P44/dose!$P$17 -> 0.27901658
A45: day 5 | B45: 25 | D45: =AVERAGE(B45:C45) -> 25 | E45: 10000 | F45: =1734.2-1692.5 -> 41.7 | G45: =LOG10(D45*100*E45/F45*1000) -> 8.777804 | H45: 31 | J45: 10000 | L45: =(AVERAGE(H45:I45)*J45) -> 310000 | M45: =L45/(D45*E45) -> 1.24 | N45: =M45/dose!$K$49 -> 2.48 | P45: =(D45*E45)/L45 -> 0.80645161 | Q45: =P45/dose!$P$17 -> 0.39100684
A46: day 7 | B46: 41 | D46: =AVERAGE(B46:C46) -> 41 | E46: 10000 | F46: =1782.5-1742.3 -> 40.2 | G46: =LOG10(D46*100*E46/F46*1000) -> 9.0085578 | H46: 26 | J46: 1000 | L46: =(AVERAGE(H46:I46)*J46) -> 26000 | M46: =L46/(D46*E46) -> 0.063414634 | N46: =M46/dose!$K$49 -> 0.12682927 | P46: =(D46*E46)/L46 -> 15.769231 | Q46: =P46/dose!$P$17 -> 7.6456876
...
