Workbook

Sheet dose
J1: Colony Count | K1: Dilution Factor | L1: CFUs/50uL | M1: Average CFUs | N1: Log CFUs | O1: Ratio input (WT/lacZ) | Q1: OD reached
H2: BL048delant2 vs BL054 LacZ | I2: BL048delant2 - VBMXgal80 plates (white) | J2: 4 | K2: 10000 | L2: =J2*5*K2 -> 200000 | M2: =AVERAGE(L2:L5) -> 175000 | N2: =LOG10(M2) -> 5.243038 | Q2: 0.403
J3: 3 | K3: 10000 | L3: =J3*5*K3 -> 150000
J4: 3 | K4: 10000 | L4: =J4*5*K4 -> 150000
J5: 4 | K5: 10000 | L5: =J5*5*K5 -> 200000
I6: BL054LacZ - VBMXgal80 plates (blue) | J6: 13 | K6: 10000 | L6: =J6*5*K6 -> 650000 | M6: =AVERAGE(L6:L9) -> 650000 | N6: =LOG10(M6) -> 5.8129134 | Q6: 0.351
J7: 16 | K7: 10000 | L7: =J7*5*K7 -> 800000
J8: 11 | K8: 10000 | L8: =J8*5*K8 -> 550000
J9: 12 | K9: 10000 | L9: =J9*5*K9 -> 600000
I10: TOTAL | J10: =J2+J6 -> 17 | K10: 10000 | L10: =J10*5*K10 -> 850000 | M10: =AVERAGE(L10:L13) -> 837500 | N10: =LOG10(M10) -> 5.9229848 | O10: =M2/M6 -> 0.26923077
J11: =J4+J7 -> 19 | K11: 10000 | L11: =J11*5*K11 -> 950000
J12: =J5+J8 -> 15 | K12: 10000 | L12: =J12*5*K12 -> 750000
J13: =J5+J9 -> 16 | K13: 10000 | L13: =J13*5*K13 -> 800000
H14: BL049 vs BL048LacZ | I14: BL049 - VBMXgal80 plates (white) | J14: 10 | K14: 10000 | L14: =J14*5*K14 -> 500000 | M14: =AVERAGE(L14:L16) -> 566666.67 | N14: =LOG10(M14) -> 5.7533277 | Q14: 0.337
J15: 9 | K15: 10000 | L15: =J15*5*K15 -> 450000
J16: 15 | K16: 10000 | L16: =J16*5*K16 -> 750000
I17: BL048LacZ - VBMXgal80 plates (blue) | J17: 11 | K17: 10000 | L17: =J17*5*K17 -> 550000 | M17: =AVERAGE(L17:L19) -> 366666.67 | N17: =LOG10(M17) -> 5.5642714 | Q17: 0.397
J18: 5 | K18: 10000 | L18: =J18*5*K18 -> 250000
J19: 6 | K19: 10000 | L19: =J19*5*K19 -> 300000
I20: TOTAL | J20: =J14+J17 -> 21 | K20: 10000 | L20: =J20*5*K20 -> 1050000 | M20: =AVERAGE(L20:L22) -> 933333.33 | N20: =LOG10(M20) -> 5.9700368 | O20: =M14/M17 -> 1.5454545
J21: =J15+J18 -> 14 | K21: 10000 | L21: =J21*5*K21 -> 700000
J22: =J16+J19 -> 21 | K22: 10000 | L22: =J22*5*K22 -> 1050000
H23: BL049 vs BL054LacZ | I23: BL049 - VBMXgal80 plates (white) | J23: 5 | K23: 10000 | L23: =J23*5*K23 -> 250000 | M23: =AVERAGE(L23:L26) -> 487500 | N23: =LOG10(M23) -> 5.6879746 | Q23: 0.337
J24: 11 | K24: 10000 | L24: =J24*5*K24 -> 550000
J25: 6 | K25: 10000 | L25: =J25*5*K25 -> 300000
J26: 17 | K26: 10000 | L26: =J26*5*K26 -> 850000
I27: BL054LacZ - VBMXgal80 plates (blue) | J27: 10 | K27: 10000 | L27: =J27*5*K27 -> 500000 | M27: =AVERAGE(L27:L30) -> 825000 | N27: =LOG10(M27) -> 5.9164539 | Q27: 0.351
J28: 14 | K28: 10000 | L28: =J28*5*K28 -> 700000
J29: 19 | K29: 10000 | L29: =J29*5*K29 -> 950000
J30: 23 | K30: 10000 | L30: =J30*5*K30 -> 1150000
I31: TOTAL | J31: =J23+J27 -> 15 | K31: 10000 | L31: =J31*5*K31 -> 750000 | M31: =AVERAGE(L31:L34) -> 1312500 | N31: =LOG10(M31) -> 6.1180993 | O31: =M23/M27 -> 0.59090909
J32: =J24+J28 -> 25 | K32: 10000 | L32: =J32*5*K32 -> 1250000
J33: =J25+J29 -> 25 | K33: 10000 | L33: =J33*5*K33 -> 1250000
J34: =J26+J30 -> 40 | K34: 10000 | L34: =J34*5*K34 -> 2000000
H35: BL054 | J35: 28 | K35: 10000 | L35: =J35*5*K35 -> 1400000 | M35: =AVERAGE(L35:L35) -> 1400000 | N35: =LOG10(M35) -> 6.146128
J41: Log CFUs | K41: Ratio input (LacZ/WT)
H42: =H2 -> BL048delant2 vs BL054 LacZ | I42: =I2 -> BL048delant2 - VBMXgal80 plates (white) | J42: =N2 -> 5.243038
I43: =I6 -> BL054LacZ - VBMXgal80 plates (blue) | J43: =N6 -> 5.8129134
I44: TOTAL | J44: =N10 -> 5.9229848 | K44: =O10 -> 0.26923077
H45: =H14 -> BL049 vs BL048LacZ | I45: =I14 -> BL049 - VBMXgal80 plates (white) | J45: =N14 -> 5.7533277
...

Sheet feces pos ttmnt - PA
A1: BL048Δant2'':BL054 LacZ mouse 1 input ratio: 0.27 | B1: number of blue CFU (BL054 LacZ) (Xgal100 or gent10 plates) | D1: mean in 10 µL | E1: Dilution factor | F1: feces weights (mg) | G1: Log10 CFU/g of feces | H1: number of white CFU (BL048Δant2'') (Xgal plates) | J1: dilution factor | K1: Mean in 10µL | L1: Output WT/LacZ | M1: Compet index
A2: day 3 | B2: 17 | C2: 18 | D2: =AVERAGE(B2:C2) -> 17.5 | E2: 100 | F2: =1869-1859.7 -> 9.3 | G2: =LOG10(D2*100*E2/F2*1000) -> 7.2745551 | H2: 24 | I2: 28 | J2: 1000 | K2: =AVERAGE(H2:I2) -> 26 | L2: =(J2*K2)/(D2*E2) -> 14.857143 | M2: =L2/dose!$O$10 -> 55.183673
A3: day 5 | B3: 36 | C3: 22 | D3: =AVERAGE(B3:C3) -> 29 | E3: 1000 | F3: =1750.7-1726.5 -> 24.2 | G3: =LOG10(D3*100*E3/F3*1000) -> 8.0785826 | H3: 62 | I3: 66 | J3: 1000 | K3: =AVERAGE(H3:I3) -> 64 | L3: =(J3*K3)/(D3*E3) -> 2.2068966 | M3: =L3/dose!$O$10 -> 8.1970443
A4: day 7 | B4: 53 | C4: 54 | D4: =AVERAGE(B4:C4) -> 53.5 | E4: 1000 | F4: =1745.8-1718.5 -> 27.3 | G4: =LOG10(D4*100*E4/F4*1000) -> 8.2921911 | H4: 30 | I4: 27 | J4: 1000 | K4: =AVERAGE(H4:I4) -> 28.5 | L4: =(J4*K4)/(D4*E4) -> 0.53271028 | M4: =L4/dose!$O$10 -> 1.9786382
A5: day 10 | B5: 29 | C5: 40 | D5: =AVERAGE(B5:C5) -> 34.5 | E5: 10000 | F5: =1835-1735.5 -> 99.5 | G5: =LOG10(D5*100*E5/F5*1000) -> 8.539996 | H5: 14 | I5: 12 | J5: 1000 | K5: =AVERAGE(H5:I5) -> 13 | L5: =(J5*K5)/(D5*E5) -> 0.037681159 | M5: =L5/dose!$O$10 -> 0.13995859
A6: day 14 | B6: 16 | C6: 15 | D6: =AVERAGE(B6:C6) -> 15.5 | E6: 10000 | F6: =1888.7-1797 -> 91.7 | G6: =LOG10(D6*100*E6/F6*1000) -> 8.2279624 | H6: 1 | I6: 3 | J6: 10000 | K6: =AVERAGE(H6:I6) -> 2 | L6: =(J6*K6)/(D6*E6) -> 0.12903226 | M6: =L6/dose!$O$10 -> 0.47926267
A8: BL048Δant2'':BL054 LacZ mouse 2 input ratio: 0.27 | B8: number of blue CFU (BL054 LacZ) (Xgal100 or gent10 plates) | D8: mean in 10 µL | E8: Dilution factor | F8: feces weights (mg) | G8: Log10 CFU/g of feces | H8: number of white CFU (BL048Δant2'') (Xgal plates) | J8: dilution factor | K8: Mean in 10µL | L8: Output WT/LacZ | M8: Compet index
A9: day 3 | B9: 24 | C9: 27 | D9: =AVERAGE(B9:C9) -> 25.5 | E9: 1 | F9: =1807.5-1786.5 -> 21 | G9: =LOG10(D9*100*E9/F9*1000) -> 5.0843209 | H9: 40 | I9: 40 | J9: 1000 | K9: =AVERAGE(H9:I9) -> 40 | L9: =(J9*K9)/(D9*E9) -> 1568.6275 | M9: =L9/dose!$O$10 -> 5826.3305
A10: day 5 | B10: 16 | C10: 13 | D10: =AVERAGE(B10:C10) -> 14.5 | E10: 1 | F10: =1737.9-1717.6 -> 20.3 | G10: =LOG10(D10*100*E10/F10*1000) -> 4.853872 | H10: 41 | I10: 34 | J10: 10000 | K10: =AVERAGE(H10:I10) -> 37.5 | L10: =(J10*K10)/(D10*E10) -> 25862.069 | M10: =L10/dose!$O$10 -> 96059.113
A11: day 7 | B11: 13 | C11: 16 | D11: =AVERAGE(B11:C11) -> 14.5 | E11: 1 | F11: =1749.2-1721.7 -> 27.5 | G11: =LOG10(D11*100*E11/F11*1000) -> 4.7220353 | H11: 57 | I11: 51 | J11: 1000 | K11: =AVERAGE(H11:I11) -> 54 | L11: =(J11*K11)/(D11*E11) -> 3724.1379 | M11: =L11/dose!$O$10 -> 13832.512
A12: day 10 | B12: 6 | C12: 15 | D12: =AVERAGE(B12:C12) -> 10.5 | E12: 100 | F12: =1825-1724.8 -> 100.2 | G12: =LOG10(D12*100*E12/F12*1000) -> 6.0203216 | H12: 32 | I12: 32 | J12: 100 | K12: =AVERAGE(H12:I12) -> 32 | L12: =(J12*K12)/(D12*E12) -> 3.047619 | M12: =L12/dose!$O$10 -> 11.319728
A13: day 14 | B13: 6 | C13: 10 | D13: =AVERAGE(B13:C13) -> 8 | E13: 100 | F13: =1882.3-1726.6 -> 155.7 | G13: =LOG10(D13*100*E13/F13*1000) -> 5.7108014 | H13: 50 | I13: 40 | J13: 100 | K13: =AVERAGE(H13:I13) -> 45 | L13: =(J13*K13)/(D13*E13) -> 5.625 | M13: =L13/dose!$O$10 -> 20.892857
A15: BL048Δant2'':BL054 LacZ mouse 3 input ratio: 0.27 | B15: number of blue CFU (BL054 LacZ) (Xgal100 or gent10 plates) | D15: mean in 10 µL | E15: Dilution factor | F15: feces weights (mg) | G15: Log10 CFU/g of feces | H15: number of white CFU (BL048Δant2'') (Xgal plates) | J15: dilution factor | K15: Mean in 10µL | L15: Output WT/LacZ | M15: Compet index
A16: day 3 | B16: 0 | C16: 0 | D16: =AVERAGE(B16:C16) -> 0 | E16: 1 | F16: =1747.3-1714.8 -> 32.5 | G16: =LOG10(D16*100*E16/F16*1000) -> #NUM! | H16: 51 | I16: 58 | J16: 1000 | K16: =AVERAGE(H16:I16) -> 54.5 | L16: =(J16*K16)/(D16*E16) -> #DIV/0! | M16: =L16/dose!$O$10 -> #DIV/0!
A17: day 5 | B17: 1 | C17: 1 | D17: =AVERAGE(B17:C17) -> 1 | E17: 1 | F17: =1837.4-1785.4 -> 52 | G17: =LOG10(D17*100*E17/F17*1000) -> 3.2839967 | H17: 35 | I17: 32 | J17: 10000 | K17: =AVERAGE(H17:I17) -> 33.5 | L17: =(J17*K17)/(D17*E17) -> 335000 | M17: =L17/dose!$O$10 -> 1244285.7
A18: day 7 | B18: 0 | C18: 0 | D18: =AVERAGE(B18:C18) -> 0 | E18: 1 | F18: =1734.2-1708.2 -> 26 | G18: =LOG10(D18*100*E18/F18*1000) -> #NUM! | H18: 56 | I18: 66 | J18: 1000 | K18: =AVERAGE(H18:I18) -> 61 | L18: =(J18*K18)/(D18*E18) -> #DIV/0! | M18: =L18/dose!$O$10 -> #DIV/0!
A19: day 10 | B19: 9 | C19: 5 | D19: =AVERAGE(B19:C19) -> 7 | E19: 1000 | F19: =1775.9-1672.1 -> 103.8 | G19: =LOG10(D19*100*E19/F19*1000) -> 6.8289007 | H19: 47 | I19: 46 | J19: 1000 | K19: =AVERAGE(H19:I19) -> 46.5 | L19: =(J19*K19)/(D19*E19) -> 6.6428571 | M19: =L19/dose!$O$10 -> 24.673469
A20: day 14 | B20: 8 | C20: 4 | D20: =AVERAGE(B20:C20) -> 6 | E20: 100 | F20: =1911.1-1814.4 -> 96.7 | G20: =LOG10(D20*100*E20/F20*1000) -> 5.7927248 | H20: 3 | I20: 5 | J20: 100 | K20: =AVERAGE(H20:I20) -> 4 | L20: =(J20*K20)/(D20*E20) -> 0.66666667 | M20: =L20/dose!$O$10 -> 2.4761905
A22: BL048Δant2'':BL054 LacZ mouse 4 input ratio: 0.27 | B22: number of blue CFU (BL054 LacZ) (Xgal100 or gent10 plates) | D22: mean in 10 µL | E22: Dilution factor | F22: feces weights (mg) | G22: Log10 CFU/g of feces | H22: number of white CFU (BL048Δant2'') (Xgal plates) | J22: dilution factor | K22: Mean in 10µL | L22: Output WT/LacZ | M22: Compet index
A23: day 3 | B23: 77 | C23: 83 | D23: =AVERAGE(B23:C23) -> 80 | E23: 1000 | F23: =1726.9-1705.5 -> 21.4 | G23: =LOG10(D23*100*E23/F23*1000) -> 8.5726762 | H23: 29 | I23: 21 | J23: 1000 | K23: =AVERAGE(H23:I23) -> 25 | L23: =(J23*K23)/(D23*E23) -> 0.3125 | M23: =L23/dose!$O$10 -> 1.1607143
A24: day 5 | B24: 22 | C24: 11 | D24: =AVERAGE(B24:C24) -> 16.5 | E24: 10000 | F24: =1748.9-1729.7 -> 19.2 | G24: =LOG10(D24*100*E24/F24*1000) -> 8.9341827 | H24: 15 | I24: 19 | J24: 1000 | K24: =AVERAGE(H24:I24) -> 17 | L24: =(J24*K24)/(D24*E24) -> 0.1030303 | M24: =L24/dose!$O$10 -> 0.38268398
A25: day 7 | B25: 25 | C25: 21 | D25: =AVERAGE(B25:C25) -> 23 | E25: 10000 | F25: =1826.6-1792 -> 34.6 | G25: =LOG10(D25*100*E25/F25*1000) -> 8.8226517 | H25: 0 | I25: 3 | J25: 1000 | K25: =AVERAGE(H25:I25) -> 1.5 | L25: =(J25*K25)/(D25*E25) -> 0.0065217391 | M25: =L25/dose!$O$10 -> 0.024223602
A26: day 10 | B26: 18 | C26: 18 | D26: =AVERAGE(B26:C26) -> 18 | E26: 10000 | F26: =1808.1-1724.6 -> 83.5 | G26: =LOG10(D26*100*E26/F26*1000) -> 8.333586 | H26: 1 | I26: 1 | J26: 1000 | K26: =AVERAGE(H26:I26) -> 1 | L26: =(J26*K26)/(D26*E26) -> 0.0055555556 | M26: =L26/dose!$O$10 -> 0.020634921
A27: day 14 | B27: 16 | C27: 4 | D27: =AVERAGE(B27:C27) -> 10 | E27: 100 | F27: =1877.2-1729.5 -> 147.7 | G27: =LOG10(D27*100*E27/F27*1000) -> 5.8306195 | H27: 17 | I27: 17 | J27: 100 | K27: =AVERAGE(H27:I27) -> 17 | L27: =(J27*K27)/(D27*E27) -> 1.7 | M27: =L27/dose!$O$10 -> 6.3142857
A29: BL048Δant2'':BL054 LacZ mouse 5 input ratio: 0.27 | B29: number of blue CFU (BL054 LacZ) (Xgal100 or gent10 plates) | D29: mean in 10 µL | E29: Dilution factor | F29: feces weights (mg) | G29: Log10 CFU/g of feces | H29: number of white CFU (BL048Δant2'') (Xgal plates) | J29: dilution factor | K29: Mean in 10µL | L29: Output WT/LacZ | M29: Compet index
A30: day 3 | B30: 23 | C30: 25 | D30: =AVERAGE(B30:C30) -> 24 | E30: 1 | F30: =1813.7-1794.8 -> 18.9 | G30: =LOG10(D30*100*E30/F30*1000) -> 5.1037494 | H30: 11 | I30: 16 | J30: 10000 | K30: =AVERAGE(H30:I30) -> 13.5 | L30: =(J30*K30)/(D30*E30) -> 5625 | M30: =L30/dose!$O$10 -> 20892.857
A31: day 5 | B31: 45 | C31: 43 | D31: =AVERAGE(B31:C31) -> 44 | E31: 1 | F31: =1717.8-1706.3 -> 11.5 | G31: =LOG10(D31*100*E31/F31*1000) -> 5.5827548 | H31: 12 | I31: 20 | J31: 10000 | K31: =AVERAGE(H31:I31) -> 16 | L31: =(J31*K31)/(D31*E31) -> 3636.3636 | M31: =L31/dose!$O$10 -> 13506.494
A32: day 7 | B32: 1 | C32: 1 | D32: =AVERAGE(B32:C32) -> 1 | E32: 10 | F32: =1950.9-1922.4 -> 28.5 | G32: =LOG10(D32*100*E32/F32*1000) -> 4.5451551 | H32: 44 | I32: 63 | J32: 1000 | K32: =AVERAGE(H32:I32) -> 53.5 | L32: =(J32*K32)/(D32*E32) -> 5350 | M32: =L32/dose!$O$10 -> 19871.429
A33: day 10 | B33: 9 | C33: 9 | D33: =AVERAGE(B33:C33) -> 9 | E33: 1000 | F33: =1977-1881.1 -> 95.9 | G33: =LOG10(D33*100*E33/F33*1000) -> 6.9724239 | H33: 16 | I33: 9 | J33: 1000 | K33: =AVERAGE(H33:I33) -> 12.5 | L33: =(J33*K33)/(D33*E33) -> 1.3888889 | M33: =L33/dose!$O$10 -> 5.1587302
A34: day 14 | B34: 3 | C34: 5 | D34: =AVERAGE(B34:C34) -> 4 | E34: 100 | F34: =1832.2-1728 -> 104.2 | G34: =LOG10(D34*100*E34/F34*1000) -> 5.5841923 | H34: 12 | I34: 19 | J34: 100 | K34: =AVERAGE(H34:I34) -> 15.5 | L34: =(J34*K34)/(D34*E34) -> 3.875 | M34: =L34/dose!$O$10 -> 14.392857
A36: BL049:BL048 LacZ mouse 1 input ratio: 1.5 | B36: number of blue CFU (BL048 LacZ) (Xgal100 plates) | D36: mean in 10 µL | E36: Dilution factor | F36: feces weights (mg) | G36: Log10 CFU/g of feces | H36: number of white CFU (BL049) (Xgal plates) | J36: dilution factor | K36: Mean in 10µL | L36: Output WT/LacZ | M36: Compet index
A37: day 3 | B37: 14 | C37: 16 | D37: =AVERAGE(B37:C37) -> 15 | E37: 100 | F37: =1882.7-1870.2 -> 12.5 | G37: =LOG10(D37*100*E37/F37*1000) -> 7.0791812 | H37: 9 | I37: 9 | J37: 10000 | K37: =AVERAGE(H37:I37) -> 9 | L37: =(J37*K37)/(D37*E37) -> 60 | M37: =L37/dose!$O$20 -> 38.823529
A38: day 5 | B38: 11 | C38: 11 | D38: =AVERAGE(B38:C38) -> 11 | E38: 100 | F38: =1747.7-1729.1 -> 18.6 | G38: =LOG10(D38*100*E38/F38*1000) -> 6.7718797 | H38: 38 | I38: 30 | J38: 10000 | K38: =AVERAGE(H38:I38) -> 34 | L38: =(J38*K38)/(D38*E38) -> 309.09091 | M38: =L38/dose!$O$20 -> 200
A39: day 7 | B39: 61 | D39: =AVERAGE(B39:C39) -> 61 | E39: 1 | F39: =1747.5-1721.5 -> 26 | G39: =LOG10(D39*100*E39/F39*1000) -> 5.3703565 | H39: 11 | J39: 10000 | K39: =AVERAGE(H39:I39) -> 11 | L39: =(J39*K39)/(D39*E39) -> 1803.2787 | M39: =L39/dose!$O$20 -> 1166.8274
A40: day 10 | B40: 21 | D40: =AVERAGE(B40:C40) -> 21 | E40: 10 | F40: =1765.1-1730.9 -> 34.2 | G40: =LOG10(D40*100*E40/F40*1000) -> 5.7881932 | H40: 22 | J40: 100000 | K40: =AVERAGE(H40:I40) -> 22 | L40: =(J40*K40)/(D40*E40) -> 10476.19 | M40: =L40/dose!$O$20 -> 6778.7115
A41: day 14 - dead | D41: =AVERAGE(B41:C41) -> #DIV/0! | G41: =LOG10(D41*100*E41/F41*1000) -> #DIV/0! | K41: =AVERAGE(H41:I41) -> #DIV/0! | L41: =(J41*K41)/(D41*E41) -> #DIV/0! | M41: =L41/dose!$O$20 -> #DIV/0!
A43: BL049:BL048 LacZ mouse 2 input ratio: 1.5 | B43: number of blue CFU (BL048 LacZ) (Xgal100 plates) | D43: mean in 10 µL | E43: Dilution factor | F43: feces weights (mg) | G43: Log10 CFU/g of feces | H43: number of white CFU (BL049) (Xgal plates) | J43: dilution factor | K43: Mean in 10µL | L43: Output WT/LacZ | M43: Compet index
A44: day 3 | B44: 47 | C44: 38 | D44: =AVERAGE(B44:C44) -> 42.5 | E44: 1 | F44: =1748.2-1727 -> 21.2 | G44: =LOG10(D44*100*E44/F44*1000) -> 5.3020531 | H44: 25 | I44: 20 | J44: 1000 | K44: =AVERAGE(H44:I44) -> 22.5 | L44: =(J44*K44)/(D44*E44) -> 529.41176 | M44: =L44/dose!$O$20 -> 342.56055
A45: day 5 | B45: 55 | C45: 31 | D45: =AVERAGE(B45:C45) -> 43 | E45: 1 | F45: =1763.2-1726.1 -> 37.1 | G45: =LOG10(D45*100*E45/F45*1000) -> 5.0640945 | H45: 9 | I45: 9 | J45: 10000 | K45: =AVERAGE(H45:I45) -> 9 | L45: =(J45*K45)/(D45*E45) -> 2093.0233 | M45: =L45/dose!$O$20 -> 1354.3092
A46: day 7 | B46: 11 | D46: =AVERAGE(B46:C46) -> 11 | E46: 1 | F46: =1875-1807.9 -> 67.1 | G46: =LOG10(D46*100*E46/F46*1000) -> 4.2146702 | H46: 14 | J46: 10000 | K46: =AVERAGE(H46:I46) -> 14 | L46: =(J46*K46)/(D46*E46) -> 12727.273 | M46: =L46/dose!$O$20 -> 8235.2941
...
